Felt | Verdi |
AlreadyApplied | True |
Aperture | 5.6 |
ApertureValue | 5.6 |
ApproximateFocusDistance | 8.91 |
AutoLateralCA | 1 |
AutoWhiteVersion | 134348800 |
BitsPerSample | 8 |
Blacks2012 | +19 |
BlueHue | -5 |
BlueSaturation | +25 |
CameraProfile | Adobe Standard |
CFAPattern | [Red,Green][Green,Blue] |
CircleOfConfusion | 0.020 mm |
Clarity2012 | +52 |
ColorComponents | 3 |
ColorNoiseReduction | 10 |
ColorNoiseReductionDetail | 50 |
ColorNoiseReductionSmoothness | 50 |
ColorTemperature | 5250 |
ColorTransform | YCbCr |
Contrast | Normal |
Contrast2012 | +60 |
ConvertToGrayscale | False |
CreateDate (1) | 2015:01:09 12:59:21.70 |
CreateDate | 2015:01:09 12:59:21 |
CreatorTool | Adobe Photoshop Lightroom 5.7.1 (Windows) |
CropAngle | -0.319759 |
CropBottom | 0.768039 |
CropConstrainToWarp | 0 |
CropLeft | 0.002369 |
CropRight | 1 |
CropTop | 0.030226 |
CustomRendered | Normal |
DateCreated (1) | 2015:01:09 |
DateCreated | 2015:01:09 12:59:21.70 |
DateTimeOriginal | 2015:01:09 12:59:21 |
DefringeGreenAmount | 0 |
DefringeGreenHueHi | 60 |
DefringeGreenHueLo | 40 |
DefringePurpleAmount | 0 |
DefringePurpleHueHi | 70 |
DefringePurpleHueLo | 30 |
DigitalZoomRatio | 1 |
DOF | 2.21 m (7.94 - 10.15 m) |
Exposure2012 | +0.50 |
ExposureCompensation | 0 |
ExposureMode | Auto |
ExposureProgram | Aperture-priority AE |
ExposureTime | 1/1250 |
Flash | No Flash |
FNumber | 5.6 |
FocalLength | 90.0 mm |
FocalLength35efl | 90.0 mm (35 mm equivalent: 135.0 mm) |
FocalLengthIn35mmFormat | 135 mm |
Format | image/jpeg |
FOV | 15.2 deg |
GainControl | None |
GradientBasedCorrActive | true |
GradientBasedCorrAmount | 1.000000 |
GradientBasedCorrBrightness | 0.000000 |
GradientBasedCorrClarity2012 (1) | -0.190480 |
GradientBasedCorrClarity2012 | 0.333330 |
GradientBasedCorrContrast2012 (1) | -0.047620 |
GradientBasedCorrContrast2012 | 0.020000 |
GradientBasedCorrDefringe | 0.000000 |
GradientBasedCorrExposure2012 | 0.000000 |
GradientBasedCorrHighlights2012 (1) | -0.071430 |
GradientBasedCorrHighlights2012 | 0.000000 |
GradientBasedCorrHue | 0.000000 |
GradientBasedCorrLuminanceNoise | 0.000000 |
GradientBasedCorrMaskFullX (1) | 0.504509 |
GradientBasedCorrMaskFullX | 0.511378 |
GradientBasedCorrMaskFullY (1) | 0.069416 |
GradientBasedCorrMaskFullY | 0.907255 |
GradientBasedCorrMaskValue | 1.000000 |
GradientBasedCorrMaskWhat | Mask/Gradient |
GradientBasedCorrMaskZeroX (1) | 0.507318 |
GradientBasedCorrMaskZeroX | 0.508643 |
GradientBasedCorrMaskZeroY (1) | 0.622742 |
GradientBasedCorrMaskZeroY | 0.575493 |
GradientBasedCorrMoire | 0.000000 |
GradientBasedCorrSaturation (1) | -0.261900 |
GradientBasedCorrSaturation | 0.000000 |
GradientBasedCorrShadows2012 (1) | 0.523810 |
GradientBasedCorrShadows2012 | 0.666670 |
GradientBasedCorrSharpness | 0.000000 |
GradientBasedCorrTemperature | 0.000000 |
GradientBasedCorrTint | 0.000000 |
GradientBasedCorrWhat | Correction |
GrainAmount | 0 |
GreenHue | +10 |
GreenSaturation | -10 |
HasCrop | True |
HasExtendedXMP | B37054F5C70B53DBB4F9BA0B4A915A21 |
HasSettings | True |
Highlights2012 | -50 |
HueAdjustmentAqua | +20 |
HueAdjustmentBlue | 0 |
HueAdjustmentGreen | +10 |
HueAdjustmentMagenta | -100 |
HueAdjustmentOrange | -5 |
HueAdjustmentPurple | -100 |
HueAdjustmentRed | +12 |
HueAdjustmentYellow | +5 |
HyperfocalDistance | 72.21 m |
ImageHeight | 2985 |
ImageNumber | 8785 |
ImageSize | 5969x2985 |
ImageWidth | 5969 |
ISO | 100 |
Keywords | Blue, Clouds, Colour, Country, Event, FB, FBLandscape, FlickrHerindur, Fujiyama, Geographic location, Japan, Japan 2014-15, Landscape, Mountain, Mt. Fuji, Sky, Snow, Winter |
Lens | 90.0 mm f/2.8 |
LensID (1) | 254 |
LensID | Tamron SP 90mm f/2.8 Di VC USD Macro 1:1 (F004) |
LensInfo | 90mm f/2.8 |
LensManualDistortionAmount | 0 |
LensModel | 90.0 mm f/2.8 |
LensProfileEnable | 0 |
LensProfileSetup | LensDefaults |
LightSource | Unknown |
LightValue | 15.3 |
LuminanceAdjustmentAqua | -15 |
LuminanceAdjustmentBlue | -30 |
LuminanceAdjustmentGreen | -15 |
LuminanceAdjustmentMagenta | -24 |
LuminanceAdjustmentOrange | -84 |
LuminanceAdjustmentPurple | -10 |
LuminanceAdjustmentRed | -20 |
LuminanceAdjustmentYellow | -38 |
LuminanceNoiseReductionContrast | 67 |
LuminanceNoiseReductionDetail | 12 |
LuminanceSmoothing | 10 |
Make | NIKON CORPORATION |
MaxApertureValue | 2.9 |
Megapixels | 17.8 |
MeteringMode | Multi-segment |
Model | NIKON D5300 |
ModifyDate (1) | 2015:01:20 23:31:48+01:00 |
ModifyDate | 2015:01:20 23:31:48 |
ObjectName | Fujiyama, pastel blue farewell. |
PaintCorrectionActive | true |
PaintCorrectionAmount | 1.000000 |
PaintCorrectionBrightness | 0.000000 |
PaintCorrectionClarity2012 (1) | 0.476190 |
PaintCorrectionClarity2012 | 0.047620 |
PaintCorrectionContrast2012 (1) | 0.261900 |
PaintCorrectionContrast2012 | 0.071430 |
PaintCorrectionDefringe | 0.000000 |
PaintCorrectionExposure2012 | 0.000000 |
PaintCorrectionHighlights2012 | 0.000000 |
PaintCorrectionHue | 0.000000 |
PaintCorrectionLuminanceNoise | 0.000000 |
PaintCorrectionMaskCenterWeight (1) | 0.133270 |
PaintCorrectionMaskCenterWeight (2) | 0.234304 |
PaintCorrectionMaskCenterWeight (3) | 0.015815 |
PaintCorrectionMaskCenterWeight | 0.000000 |
PaintCorrectionMaskFlow | 1.000000 |
PaintCorrectionMaskRadius (1) | 0.092072 |
PaintCorrectionMaskRadius (2) | 0.017012 |
PaintCorrectionMaskRadius (4) | 0.029092 |
PaintCorrectionMaskRadius | 0.035693 |
PaintCorrectionMaskValue (6) | 1.000000 |
PaintCorrectionMaskValue | 0.000000 |
PaintCorrectionMaskWhat | Mask/Paint |
PaintCorrectionMoire | 0.000000 |
PaintCorrectionSaturation | 0.000000 |
PaintCorrectionShadows2012 (1) | 0.000000 |
PaintCorrectionShadows2012 | 0.214290 |
PaintCorrectionSharpness | 0.000000 |
PaintCorrectionTemperature | 0.000000 |
PaintCorrectionTint | 0.000000 |
PaintCorrectionWhat | Correction |
ParametricDarks | 0 |
ParametricHighlights | 0 |
ParametricHighlightSplit | 75 |
ParametricLights | 0 |
ParametricMidtoneSplit | 60 |
ParametricShadows | 0 |
ParametricShadowSplit | 14 |
PerspectiveAspect | 0 |
PerspectiveHorizontal | 0 |
PerspectiveRotate | 0.0 |
PerspectiveScale | 100 |
PerspectiveUpright | 0 |
PerspectiveVertical | 0 |
PostCropVignetteAmount | 0 |
ProcessVersion | 6.7 |
ProfileDescription | sRGB IEC61966-2.1 |
RedHue | +10 |
RedSaturation | +10 |
Saturation (1) | -22 |
Saturation | Normal |
SaturationAdjustmentAqua | 0 |
SaturationAdjustmentBlue | 0 |
SaturationAdjustmentGreen | -10 |
SaturationAdjustmentMagenta | -100 |
SaturationAdjustmentOrange | -5 |
SaturationAdjustmentPurple | -100 |
SaturationAdjustmentRed | -100 |
SaturationAdjustmentYellow | 0 |
ScaleFactor35efl | 1.5 |
SceneCaptureType | Standard |
SceneType | Directly photographed |
SensingMethod | One-chip color area |
SensitivityType | Recommended Exposure Index |
SerialNumber | 2047213 |
Shadows2012 | +43 |
ShadowTint | 0 |
SharpenDetail | 0 |
SharpenEdgeMasking | 20 |
SharpenRadius | +2.0 |
Sharpness (1) | 25 |
Sharpness | Normal |
ShutterSpeed | 1/1250 |
ShutterSpeedValue | 1/1250 |
Software | Adobe Photoshop Lightroom 5.7.1 (Windows) |
SplitToningBalance | 0 |
SplitToningHighlightHue | 275 |
SplitToningHighlightSaturation | 0 |
SplitToningShadowHue | 0 |
SplitToningShadowSaturation | 0 |
Subject | Blue, Clouds, Colour, Country, Event, FB, FBLandscape, FlickrHerindur, Fujiyama, Geographic location, Japan, Japan 2014-15, Landscape, Mountain, Mt. Fuji, Sky, Snow, Winter |
SubjectDistanceRange | Unknown |
Tint | +2 |
Title | Fujiyama, pastel blue farewell. |
ToneCurve | 0, 0, 255, 255 |
ToneCurveBlue | 0, 0, 255, 255 |
ToneCurveGreen | 0, 0, 255, 255 |
ToneCurveName | Linear |
ToneCurveName2012 | Custom |
ToneCurvePV2012 | 0, 15, 255, 232 |
ToneCurvePV2012Blue | 0, 0, 48, 23, 111, 123, 172, 207, 255, 255 |
ToneCurvePV2012Green | 0, 0, 49, 22, 113, 122, 174, 200, 255, 255 |
ToneCurvePV2012Red | 0, 0, 47, 21, 114, 122, 178, 203, 255, 255 |
ToneCurveRed | 0, 0, 255, 255 |
UserComment | (c)Fredrik R. Hansen |
Version | 8.7.1 |
Vibrance | -19 |
VignetteAmount | 0 |
WhiteBalance (1) | Custom |
WhiteBalance | Auto |
Whites2012 | -50 |