Felt | Verdi |
AlreadyApplied | True |
Aperture | 9.0 |
ApertureValue | 9.0 |
ApproximateFocusDistance | 2 |
AutoLateralCA | 1 |
AutoWhiteVersion | 134348800 |
BitsPerSample | 8 |
Blacks2012 | -77 |
BlueHue | 0 |
BlueSaturation | 0 |
CameraProfile | Adobe Standard |
CFAPattern | [Red,Green][Green,Blue] |
CircleOfConfusion | 0.030 mm |
Clarity2012 | +43 |
ColorComponents | 3 |
ColorNoiseReduction | 25 |
ColorNoiseReductionDetail | 50 |
ColorNoiseReductionSmoothness | 50 |
ColorTemperature | 5750 |
ColorTransform | YCbCr |
Contrast | Normal |
Contrast2012 | 0 |
ConvertToGrayscale | True |
CreateDate (1) | 2014:09:26 13:37:41.90 |
CreateDate | 2014:09:26 13:37:41 |
CreatorTool | Adobe Photoshop Lightroom 6.0 (Macintosh) |
CropAngle | 2.62244 |
CropBottom | 1 |
CropConstrainToWarp | 0 |
CropLeft | 0.028172 |
CropRight | 0.953591 |
CropTop | 0.013173 |
CustomRendered | Custom |
DateCreated (1) | 2014:09:26 13:37:41.90 |
DateCreated | 2014:09:26 |
DateTimeOriginal | 2014:09:26 13:37:41 |
DigitalZoomRatio | 1 |
DOF | 26.62 m (1.04 - 27.65 m) |
Exposure2012 | 0.00 |
ExposureCompensation | 0 |
ExposureMode | Manual |
ExposureProgram | Manual |
ExposureTime | 6 |
Flash | Off, Did not fire |
FNumber | 9.0 |
FocalLength | 24.0 mm |
FocalLength35efl | 24.0 mm (35 mm equivalent: 24.0 mm) |
FocalLengthIn35mmFormat | 24 mm |
Format | image/jpeg |
FOV | 73.7 deg |
GainControl | None |
GradientBasedCorrActive | true |
GradientBasedCorrAmount | 1.000000 |
GradientBasedCorrBrightness | 0.000000 |
GradientBasedCorrClarity2012 (1) | 0.131526 |
GradientBasedCorrClarity2012 | 0.515993 |
GradientBasedCorrContrast2012 (1) | 0.000000 |
GradientBasedCorrContrast2012 | 0.250000 |
GradientBasedCorrDefringe | 0.000000 |
GradientBasedCorrExposure2012 | 0.000000 |
GradientBasedCorrHighlights2012 (1) | 1.000000 |
GradientBasedCorrHighlights2012 | 0.217096 |
GradientBasedCorrHue | 240.000000 |
GradientBasedCorrLuminanceNoise | 0.000000 |
GradientBasedCorrMaskFullX (1) | 0.103973 |
GradientBasedCorrMaskFullX | 0.965330 |
GradientBasedCorrMaskFullY (1) | 0.442861 |
GradientBasedCorrMaskFullY | 0.470261 |
GradientBasedCorrMaskValue | 1.000000 |
GradientBasedCorrMaskWhat | Mask/Gradient |
GradientBasedCorrMaskZeroX (1) | 0.846824 |
GradientBasedCorrMaskZeroX | 0.005000 |
GradientBasedCorrMaskZeroY (1) | 0.502874 |
GradientBasedCorrMaskZeroY | 0.383979 |
GradientBasedCorrMoire | 0.000000 |
GradientBasedCorrSaturation (1) | 0.246691 |
GradientBasedCorrSaturation (3) | 0.202022 |
GradientBasedCorrSaturation | 0.000000 |
GradientBasedCorrShadows2012 (1) | 0.769669 |
GradientBasedCorrShadows2012 | 0.632904 |
GradientBasedCorrSharpness | 0.000000 |
GradientBasedCorrTemperature | 0.000000 |
GradientBasedCorrTint | 0.000000 |
GradientBasedCorrWhat | Correction |
GrainAmount | 0 |
GrayMixerAqua | -19 |
GrayMixerBlue | +8 |
GrayMixerGreen | -25 |
GrayMixerMagenta | +4 |
GrayMixerOrange | -17 |
GrayMixerPurple | +14 |
GrayMixerRed | -7 |
GrayMixerYellow | -22 |
GreenHue | 0 |
GreenSaturation | 0 |
HasCrop | True |
HasExtendedXMP | 9C3FEB98E350AA97D2C0B23216547F8C |
HasSettings | True |
Highlights2012 | -100 |
HyperfocalDistance | 2.13 m |
ImageHeight | 5742 |
ImageNumber | 14164 |
ImageSize | 3704x5742 |
ImageWidth | 3704 |
ISO | 100 |
Lens | 14.0-24.0 mm f/2.8 |
LensID (1) | 146 |
LensID | AF-S Zoom-Nikkor 14-24mm f/2.8G ED |
LensInfo | 14-24mm f/2.8 |
LensManualDistortionAmount | 0 |
LensModel | 14.0-24.0 mm f/2.8 |
LensProfileChromaticAberrationScale | 100 |
LensProfileDistortionScale | 100 |
LensProfileEnable | 1 |
LensProfileFilename | NIKON D3X (Nikon FX 14-24mm f2.8 G ED) - RAW.lcp |
LensProfileName | Adobe (Nikon AF-S NIKKOR 14-24mm f/2.8G ED) |
LensProfileSetup | LensDefaults |
LensProfileVignettingScale | 100 |
LightSource | Cloudy |
LightValue | 3.8 |
LuminanceSmoothing | 0 |
Make | NIKON CORPORATION |
MaxApertureValue | 2.8 |
Megapixels | 21.3 |
MeteringMode | Center-weighted average |
Model | NIKON D600 |
ModifyDate (1) | 2015:05:21 09:48:26+02:00 |
ModifyDate | 2015:05:21 09:48:26 |
Orientation | Horizontal (normal) |
PaintCorrectionActive | true |
PaintCorrectionAmount | 1.000000 |
PaintCorrectionBrightness | 0.000000 |
PaintCorrectionClarity2012 (2) | 0.174352 |
PaintCorrectionClarity2012 (3) | 0.334508 |
PaintCorrectionClarity2012 | 0.000000 |
PaintCorrectionContrast2012 (3) | 0.158346 |
PaintCorrectionContrast2012 | 0.000000 |
PaintCorrectionDefringe | 0.000000 |
PaintCorrectionExposure2012 (3) | -0.075000 |
PaintCorrectionExposure2012 | 0.062500 |
PaintCorrectionHighlights2012 (2) | 0.205412 |
PaintCorrectionHighlights2012 (3) | 0.448457 |
PaintCorrectionHighlights2012 (4) | 0.078887 |
PaintCorrectionHighlights2012 | 0.000000 |
PaintCorrectionHue | 240.000000 |
PaintCorrectionLuminanceNoise | 0.000000 |
PaintCorrectionMaskCenterWeight | 0.000000 |
PaintCorrectionMaskFlow | 1.000000 |
PaintCorrectionMaskRadius (1) | 0.124005 |
PaintCorrectionMaskRadius (10) | 0.100750 |
PaintCorrectionMaskRadius (11) | 0.039991 |
PaintCorrectionMaskRadius (12) | 0.049573 |
PaintCorrectionMaskRadius (13) | 0.049471 |
PaintCorrectionMaskRadius (14) | 0.090545 |
PaintCorrectionMaskRadius (15) | 0.030420 |
PaintCorrectionMaskRadius (16) | 0.059743 |
PaintCorrectionMaskRadius (17) | 0.069654 |
PaintCorrectionMaskRadius (18) | 0.069432 |
PaintCorrectionMaskRadius (19) | 0.030332 |
PaintCorrectionMaskRadius (2) | 0.070189 |
PaintCorrectionMaskRadius (20) | 0.030339 |
PaintCorrectionMaskRadius (21) | 0.039954 |
PaintCorrectionMaskRadius (22) | 0.039962 |
PaintCorrectionMaskRadius (23) | 0.039947 |
PaintCorrectionMaskRadius (24) | 0.068963 |
PaintCorrectionMaskRadius (25) | 0.069474 |
PaintCorrectionMaskRadius (26) | 0.039965 |
PaintCorrectionMaskRadius (27) | 0.039838 |
PaintCorrectionMaskRadius (28) | 0.039673 |
PaintCorrectionMaskRadius (29) | 0.039826 |
PaintCorrectionMaskRadius (3) | 0.030230 |
PaintCorrectionMaskRadius (30) | 0.039922 |
PaintCorrectionMaskRadius (31) | 0.039865 |
PaintCorrectionMaskRadius (32) | 0.039718 |
PaintCorrectionMaskRadius (4) | 0.030426 |
PaintCorrectionMaskRadius (5) | 0.049949 |
PaintCorrectionMaskRadius (6) | 0.049951 |
PaintCorrectionMaskRadius (7) | 0.049861 |
PaintCorrectionMaskRadius (8) | 0.049953 |
PaintCorrectionMaskRadius (9) | 0.049907 |
PaintCorrectionMaskRadius | 0.039639 |
PaintCorrectionMaskValue | 1.000000 |
PaintCorrectionMaskWhat | Mask/Paint |
PaintCorrectionMoire | 0.000000 |
PaintCorrectionSaturation | 0.000000 |
PaintCorrectionShadows2012 (2) | 0.222656 |
PaintCorrectionShadows2012 (3) | -0.428639 |
PaintCorrectionShadows2012 | 0.000000 |
PaintCorrectionSharpness | 0.000000 |
PaintCorrectionTemperature | 0.000000 |
PaintCorrectionTint | 0.000000 |
PaintCorrectionWhat | Correction |
ParametricDarks | -17 |
ParametricHighlights | +76 |
ParametricHighlightSplit | 75 |
ParametricLights | +37 |
ParametricMidtoneSplit | 50 |
ParametricShadows | 0 |
ParametricShadowSplit | 25 |
PerspectiveAspect | 0 |
PerspectiveHorizontal | 0 |
PerspectiveRotate | 0.0 |
PerspectiveScale | 100 |
PerspectiveUpright | 0 |
PerspectiveVertical | 0 |
PostCropVignetteAmount | -12 |
PostCropVignetteFeather | 50 |
PostCropVignetteHighlightContrast | 0 |
PostCropVignetteMidpoint | 5 |
PostCropVignetteRoundness | 0 |
PostCropVignetteStyle | 1 |
ProcessVersion | 6.7 |
ProfileDescription | sRGB IEC61966-2.1 |
RawFileName | Skogafoss (1 of 1).jpg |
RedHue | 0 |
RedSaturation | 0 |
Saturation | Normal |
ScaleFactor35efl | 1.0 |
SceneCaptureType | Landscape |
SceneType | Directly photographed |
SensingMethod | One-chip color area |
SensitivityType | Recommended Exposure Index |
SerialNumber | 6060343 |
Shadows2012 | +100 |
ShadowTint | 0 |
SharpenDetail | 100 |
SharpenEdgeMasking | 52 |
SharpenRadius | +3.0 |
Sharpness (1) | 69 |
Sharpness | Normal |
ShutterSpeed | 6 |
ShutterSpeedValue | 6 |
Software | Adobe Photoshop Lightroom 6.0 (Macintosh) |
SplitToningBalance | 0 |
SplitToningHighlightHue | 159 |
SplitToningHighlightSaturation | 7 |
SplitToningShadowHue | 0 |
SplitToningShadowSaturation | 0 |
SubjectDistanceRange | Unknown |
Tint | 0 |
ToneCurve | 0, 0, 255, 255 |
ToneCurveBlue | 0, 0, 255, 255 |
ToneCurveGreen | 0, 0, 255, 255 |
ToneCurveName | Linear |
ToneCurveName2012 | Linear |
ToneCurvePV2012 | 0, 0, 255, 255 |
ToneCurvePV2012Blue | 0, 0, 255, 255 |
ToneCurvePV2012Green | 0, 0, 255, 255 |
ToneCurvePV2012Red | 0, 0, 255, 255 |
ToneCurveRed | 0, 0, 255, 255 |
Version | 9.0 |
VignetteAmount | 0 |
WhiteBalance (1) | As Shot |
WhiteBalance | Manual |
Whites2012 | -100 |