Felt | Verdi |
AlreadyApplied | True |
Aperture | 4.8 |
ApertureValue | 4.8 |
Artist | Nanco Hoogstad |
AutoLateralCA | 0 |
AutoWhiteVersion | 134348800 |
BitsPerSample | 8 |
Blacks2012 | -60 |
BlueHue | 0 |
BlueSaturation | 0 |
By-line | Nanco Hoogstad |
CameraProfile | Adobe Standard |
CircGradBasedCorrActive | true |
CircGradBasedCorrAmount | 1.000000 |
CircGradBasedCorrBrightness | 0.000000 |
CircGradBasedCorrClarity2012 | 0.070870 |
CircGradBasedCorrContrast2012 | 0.228350 |
CircGradBasedCorrDefringe | 0.000000 |
CircGradBasedCorrExposure2012 | 0.165250 |
CircGradBasedCorrHighlights2012 | 0.118110 |
CircGradBasedCorrHue | 0.000000 |
CircGradBasedCorrLuminanceNoise | 0.291340 |
CircGradBasedCorrMaskAngle | -22.433600 |
CircGradBasedCorrMaskBottom | 0.499480 |
CircGradBasedCorrMaskFeather | +64 |
CircGradBasedCorrMaskFlipped | true |
CircGradBasedCorrMaskLeft | 0.098794 |
CircGradBasedCorrMaskMidpoint | +50 |
CircGradBasedCorrMaskRight | 0.271949 |
CircGradBasedCorrMaskRoundness | 0 |
CircGradBasedCorrMaskTop | 0.422754 |
CircGradBasedCorrMaskValue | 1.000000 |
CircGradBasedCorrMaskVersion | +2 |
CircGradBasedCorrMaskWhat | Mask/CircularGradient |
CircGradBasedCorrMoire | 0.000000 |
CircGradBasedCorrSaturation (1) | -0.118110 |
CircGradBasedCorrSaturation | 0.000000 |
CircGradBasedCorrShadows2012 | 0.448820 |
CircGradBasedCorrSharpness | 0.000000 |
CircGradBasedCorrTemperature | 0.000000 |
CircGradBasedCorrTint | 0.000000 |
CircGradBasedCorrWhat | Correction |
CircleOfConfusion | 0.015 mm |
Clarity2012 | +65 |
ColorComponents | 3 |
ColorNoiseReduction | 25 |
ColorNoiseReductionDetail | 50 |
ColorNoiseReductionSmoothness | 50 |
ColorTemperature | 5050 |
ColorTransform | YCbCr |
Contrast | Normal |
Contrast2012 | +31 |
ConvertToGrayscale | True |
Copyright | Nanco Hoogstad |
CopyrightFlag | True |
CopyrightNotice | Nanco Hoogstad |
CreateDate | 2015:05:14 15:57:05 |
Creator | Nanco Hoogstad |
CreatorCity | Sandnes |
CreatorCountry | Norway |
CreatorPostalCode | 4324 |
CreatorTool | Adobe Photoshop Lightroom 5.0 (Windows) |
CropAngle | -0.530501 |
CropBottom | 0.911476 |
CropConstrainToWarp | 0 |
CropLeft | 0 |
CropRight | 0.936516 |
CropTop | 0.096562 |
CustomRendered | Normal |
DateCreated (1) | 2014:02:27 |
DateCreated | 2014:02:27 18:16:51 |
DateTimeOriginal | 2015:05:14 15:57:05 |
DigitalZoomRatio | 0 |
Exposure2012 | -0.24 |
ExposureCompensation | 0 |
ExposureMode | Auto |
ExposureProgram | Aperture-priority AE |
ExposureTime | 1/200 |
Flash | Off, Did not fire |
FNumber | 4.8 |
FocalLength | 183.0 mm |
FocalLength35efl | 183.0 mm (35 mm equivalent: 366.0 mm) |
FocalLengthIn35mmFormat | 366 mm |
Format | image/jpeg |
FOV | 5.6 deg |
GainControl | High gain up |
GradientBasedCorrActive | true |
GradientBasedCorrAmount | 1.000000 |
GradientBasedCorrBrightness | 0.000000 |
GradientBasedCorrClarity2012 | 0.133860 |
GradientBasedCorrContrast2012 | 0.275590 |
GradientBasedCorrDefringe | 0.000000 |
GradientBasedCorrExposure2012 | -0.196750 |
GradientBasedCorrHighlights2012 | -0.322830 |
GradientBasedCorrHue | 0.000000 |
GradientBasedCorrLuminanceNoise | 0.400000 |
GradientBasedCorrMaskFullX | 0.471219 |
GradientBasedCorrMaskFullY | 0.117373 |
GradientBasedCorrMaskValue | 1.000000 |
GradientBasedCorrMaskWhat | Mask/Gradient |
GradientBasedCorrMaskZeroX | 0.471095 |
GradientBasedCorrMaskZeroY | 0.290779 |
GradientBasedCorrMoire | 0.000000 |
GradientBasedCorrSaturation (1) | -0.118110 |
GradientBasedCorrSaturation | 0.000000 |
GradientBasedCorrShadows2012 | 0.149610 |
GradientBasedCorrSharpness | 0.000000 |
GradientBasedCorrTemperature | 0.000000 |
GradientBasedCorrTint | 0.000000 |
GradientBasedCorrWhat | Correction |
GrainAmount | 0 |
GrayMixerAqua | -6 |
GrayMixerBlue | -46 |
GrayMixerGreen | -48 |
GrayMixerMagenta | -45 |
GrayMixerOrange | -32 |
GrayMixerPurple | -32 |
GrayMixerRed | -71 |
GrayMixerYellow | -21 |
GreenHue | 0 |
GreenSaturation | 0 |
HasCrop | True |
HasSettings | True |
Highlights2012 | -44 |
HyperfocalDistance | 464.41 m |
ImageHeight | 2849 |
ImageSize | 4274x2849 |
ImageWidth | 4274 |
ISO | 800 |
Lens | LUMIX G VARIO 100-300/F4.0-5.6 |
LensManualDistortionAmount | 0 |
LensModel | LUMIX G VARIO 100-300/F4.0-5.6 |
LensProfileEnable | 0 |
LensProfileSetup | LensDefaults |
LensSerialNumber | 10111003974 |
LightSource | Fine Weather |
LightValue | 9.2 |
LuminanceNoiseReductionContrast | 0 |
LuminanceNoiseReductionDetail | 50 |
LuminanceSmoothing | 44 |
Make | Panasonic |
Marked | True |
MaxApertureValue | 4.8 |
Megapixels | 12.2 |
MeteringMode | Spot |
Model | DMC-G3 |
ModifyDate (1) | 2015:05:25 00:50:17+02:00 |
ModifyDate | 2015:05:25 00:50:17 |
ParametricDarks | 0 |
ParametricHighlights | 0 |
ParametricHighlightSplit | 75 |
ParametricLights | 0 |
ParametricMidtoneSplit | 50 |
ParametricShadows | 0 |
ParametricShadowSplit | 25 |
PerspectiveAspect | 0 |
PerspectiveHorizontal | 0 |
PerspectiveRotate | 0.0 |
PerspectiveScale | 100 |
PerspectiveUpright | 0 |
PerspectiveVertical | 0 |
PostCropVignetteAmount | -10 |
PostCropVignetteFeather | 50 |
PostCropVignetteHighlightContrast | 0 |
PostCropVignetteMidpoint | 50 |
PostCropVignetteRoundness | 0 |
PostCropVignetteStyle | 1 |
ProcessVersion | 6.7 |
ProfileDescription | sRGB IEC61966-2.1 |
RedHue | 0 |
RedSaturation | 0 |
Rights | Nanco Hoogstad |
Saturation | Normal |
ScaleFactor35efl | 2.0 |
SceneCaptureType | Standard |
SceneType | Directly photographed |
SensingMethod | One-chip color area |
Shadows2012 | +21 |
ShadowTint | 0 |
SharpenDetail | 25 |
SharpenEdgeMasking | 0 |
SharpenRadius | +1.0 |
Sharpness (1) | 25 |
Sharpness | Normal |
ShutterSpeed | 1/200 |
ShutterSpeedValue | 1/200 |
Software | Adobe Photoshop Lightroom 5.0 (Windows) |
SplitToningBalance | 0 |
SplitToningHighlightHue | 0 |
SplitToningHighlightSaturation | 0 |
SplitToningShadowHue | 0 |
SplitToningShadowSaturation | 0 |
Tint | +8 |
ToneCurveName2012 | Linear |
ToneCurvePV2012 | 0, 0, 255, 255 |
ToneCurvePV2012Blue | 0, 0, 255, 255 |
ToneCurvePV2012Green | 0, 0, 255, 255 |
ToneCurvePV2012Red | 0, 0, 255, 255 |
UserComment | Panasonic Lumix |
Version | 8.2 |
VignetteAmount | 0 |
WhiteBalance (1) | As Shot |
WhiteBalance | Manual |
Whites2012 | +31 |