Felt | Verdi |
AlreadyApplied | True |
Aperture | 8.0 |
ApertureValue | 8.0 |
ApproximateFocusDistance | 3.74 |
Artist | Geir Stian Altmann Larsen |
AutoLateralCA | 0 |
AutoWhiteVersion | 134348800 |
BitsPerSample | 8 |
Blacks2012 | -84 |
BlueHue | 0 |
BlueSaturation | 0 |
By-line | Geir Stian Altmann Larsen |
CameraProfile | Adobe Standard |
Clarity2012 | +74 |
ColorComponents | 3 |
ColorNoiseReduction | 25 |
ColorNoiseReductionDetail | 50 |
ColorNoiseReductionSmoothness | 50 |
ColorTemperature | 7151 |
ColorTransform | YCbCr |
Contrast2012 | +29 |
ConvertToGrayscale | False |
Copyright | Geir Stian Altmann Larsen |
CopyrightFlag | True |
CopyrightNotice | Geir Stian Altmann Larsen |
CreateDate (1) | 2015:02:23 14:45:13.53 |
CreateDate | 2015:02:23 14:45:13 |
Creator | Geir Stian Altmann Larsen |
CreatorTool | Adobe Photoshop Lightroom 5.7.1 (Macintosh) |
CropAngle | 0 |
CropBottom | 1 |
CropConstrainToWarp | 0 |
CropLeft | 0.133689 |
CropRight | 0.691321 |
CropTop | 0.615433 |
CustomRendered | Normal |
DateCreated (1) | 2015:02:23 |
DateCreated | 2015:02:23 14:45:13.53 |
DateTimeOriginal | 2015:02:23 14:45:13 |
DefringeGreenAmount | 0 |
DefringeGreenHueHi | 60 |
DefringeGreenHueLo | 40 |
DefringePurpleAmount | 0 |
DefringePurpleHueHi | 70 |
DefringePurpleHueLo | 30 |
Exposure2012 | +0.65 |
ExposureCompensation | 0 |
ExposureMode | Auto |
ExposureProgram | Program AE |
ExposureTime | 1/250 |
Firmware | 1.1.1 |
Flash | Off, Did not fire |
FlashCompensation | 0 |
FNumber | 8.0 |
FocalLength | 23.0 mm |
FocalLength35efl | 23.0 mm |
Format | image/jpeg |
GradientBasedCorrActive | true |
GradientBasedCorrAmount | 1.000000 |
GradientBasedCorrBrightness | 0.000000 |
GradientBasedCorrClarity2012 (1) | 0.500919 |
GradientBasedCorrClarity2012 (2) | -0.333567 |
GradientBasedCorrClarity2012 | -0.876095 |
GradientBasedCorrContrast2012 (1) | 0.417739 |
GradientBasedCorrContrast2012 (2) | -0.248859 |
GradientBasedCorrContrast2012 | 0.027307 |
GradientBasedCorrDefringe | 0.000000 |
GradientBasedCorrExposure2012 (1) | 0.000000 |
GradientBasedCorrExposure2012 (2) | -0.260973 |
GradientBasedCorrExposure2012 | -0.149533 |
GradientBasedCorrHighlights2012 (1) | 0.000000 |
GradientBasedCorrHighlights2012 (2) | 0.795207 |
GradientBasedCorrHighlights2012 | 0.360397 |
GradientBasedCorrHue | 240.000000 |
GradientBasedCorrLuminanceNoise | 0.000000 |
GradientBasedCorrMaskFullX (1) | 0.449572 |
GradientBasedCorrMaskFullX (2) | 0.424881 |
GradientBasedCorrMaskFullX | 0.478897 |
GradientBasedCorrMaskFullY (1) | 0.667934 |
GradientBasedCorrMaskFullY (2) | 0.671562 |
GradientBasedCorrMaskFullY | 0.733858 |
GradientBasedCorrMaskValue | 1.000000 |
GradientBasedCorrMaskWhat | Mask/Gradient |
GradientBasedCorrMaskZeroX (1) | 0.454858 |
GradientBasedCorrMaskZeroX (2) | 0.437701 |
GradientBasedCorrMaskZeroX | 0.456117 |
GradientBasedCorrMaskZeroY (1) | 0.841728 |
GradientBasedCorrMaskZeroY (2) | 0.887491 |
GradientBasedCorrMaskZeroY | 0.937058 |
GradientBasedCorrMoire | 0.000000 |
GradientBasedCorrSaturation (3) | -1.000000 |
GradientBasedCorrSaturation | 0.000000 |
GradientBasedCorrShadows2012 (1) | 0.000000 |
GradientBasedCorrShadows2012 | 0.001387 |
GradientBasedCorrSharpness (1) | 0.411857 |
GradientBasedCorrSharpness (2) | 0.092609 |
GradientBasedCorrSharpness | 0.097173 |
GradientBasedCorrTemperature (1) | 0.000000 |
GradientBasedCorrTemperature | 0.300818 |
GradientBasedCorrTint (1) | 0.000000 |
GradientBasedCorrTint | -0.133032 |
GradientBasedCorrWhat | Correction |
GrainAmount | 0 |
GreenHue | 0 |
GreenSaturation | 0 |
HasCrop | True |
HasSettings | True |
Highlights2012 | +42 |
HueAdjustmentAqua | 0 |
HueAdjustmentBlue | 0 |
HueAdjustmentGreen | 0 |
HueAdjustmentMagenta | 0 |
HueAdjustmentOrange | 0 |
HueAdjustmentPurple | 0 |
HueAdjustmentRed | 0 |
HueAdjustmentYellow | 0 |
ImageHeight | 1839 |
ImageNumber | 0 |
ImageSize | 4000x1839 |
ImageWidth | 4000 |
ISO | 200 |
Lens | EF-S17-55mm f/2.8 IS USM |
LensID (1) | 240 |
LensID | Canon EF-S 17-55mm f/2.8 IS USM |
LensInfo | 17-55mm f/? |
LensManualDistortionAmount | 0 |
LensModel | EF-S17-55mm f/2.8 IS USM |
LensProfileEnable | 0 |
LensProfileSetup | LensDefaults |
LensSerialNumber | 000003fe18 |
LightValue | 13.0 |
LuminanceAdjustmentAqua | 0 |
LuminanceAdjustmentBlue | 0 |
LuminanceAdjustmentGreen | 0 |
LuminanceAdjustmentMagenta | 0 |
LuminanceAdjustmentOrange | -42 |
LuminanceAdjustmentPurple | 0 |
LuminanceAdjustmentRed | 0 |
LuminanceAdjustmentYellow | -13 |
LuminanceNoiseReductionContrast | 0 |
LuminanceNoiseReductionDetail | 50 |
LuminanceSmoothing | 18 |
Make | Canon |
Marked | True |
MaxApertureValue | 2.8 |
Megapixels | 7.4 |
MeteringMode | Multi-segment |
Model | Canon EOS 70D |
ModifyDate (1) | 2016:11:25 09:28:00+01:00 |
ModifyDate | 2016:11:25 09:28:00 |
PaintCorrectionActive | true |
PaintCorrectionAmount | 1.000000 |
PaintCorrectionBrightness | 0.000000 |
PaintCorrectionClarity2012 | 0.210411 |
PaintCorrectionContrast2012 | 0.277827 |
PaintCorrectionDefringe | 0.000000 |
PaintCorrectionExposure2012 | 0.000000 |
PaintCorrectionHighlights2012 | 0.000000 |
PaintCorrectionHue | 240.000000 |
PaintCorrectionLuminanceNoise | 0.000000 |
PaintCorrectionMaskCenterWeight | 0.165093 |
PaintCorrectionMaskFlow | 0.998768 |
PaintCorrectionMaskRadius | 0.060069 |
PaintCorrectionMaskValue | 0.899210 |
PaintCorrectionMaskWhat | Mask/Paint |
PaintCorrectionMoire | 0.000000 |
PaintCorrectionSaturation (1) | -0.168188 |
PaintCorrectionSaturation | 0.000000 |
PaintCorrectionShadows2012 | 0.314431 |
PaintCorrectionSharpness | 0.200843 |
PaintCorrectionTemperature | 0.000000 |
PaintCorrectionTint | 0.000000 |
PaintCorrectionWhat | Correction |
ParametricDarks | 0 |
ParametricHighlights | 0 |
ParametricHighlightSplit | 75 |
ParametricLights | 0 |
ParametricMidtoneSplit | 50 |
ParametricShadows | 0 |
ParametricShadowSplit | 25 |
PerspectiveAspect | 0 |
PerspectiveHorizontal | 0 |
PerspectiveRotate | 0.0 |
PerspectiveScale | 100 |
PerspectiveUpright | 0 |
PerspectiveVertical | 0 |
PostCropVignetteAmount | 0 |
ProcessVersion | 6.7 |
ProfileDescription | Adobe RGB (1998) |
Rating | 5 |
RecommendedExposureIndex | 200 |
RedHue | 0 |
RedSaturation | 0 |
Rights | Geir Stian Altmann Larsen |
Saturation | -100 |
SaturationAdjustmentAqua | -43 |
SaturationAdjustmentBlue | -39 |
SaturationAdjustmentGreen | 0 |
SaturationAdjustmentMagenta | 0 |
SaturationAdjustmentOrange | 0 |
SaturationAdjustmentPurple | 0 |
SaturationAdjustmentRed | 0 |
SaturationAdjustmentYellow | +46 |
SceneCaptureType | Standard |
SensitivityType | Recommended Exposure Index |
SerialNumber | 043021003672 |
Shadows2012 | +90 |
ShadowTint | 0 |
SharpenDetail | 49 |
SharpenEdgeMasking | 20 |
SharpenRadius | +1.0 |
Sharpness | 60 |
ShutterSpeed | 1/250 |
ShutterSpeedValue | 1/250 |
Software | Adobe Photoshop Lightroom 5.7.1 (Macintosh) |
SplitToningBalance | 0 |
SplitToningHighlightHue | 0 |
SplitToningHighlightSaturation | 0 |
SplitToningShadowHue | 0 |
SplitToningShadowSaturation | 0 |
Tint | +27 |
ToneCurve | 0, 0, 255, 255 |
ToneCurveBlue | 0, 0, 255, 255 |
ToneCurveGreen | 0, 0, 255, 255 |
ToneCurveName | Linear |
ToneCurveName2012 | Linear |
ToneCurvePV2012 | 0, 0, 255, 255 |
ToneCurvePV2012Blue | 0, 0, 255, 255 |
ToneCurvePV2012Green | 0, 0, 255, 255 |
ToneCurvePV2012Red | 0, 0, 255, 255 |
ToneCurveRed | 0, 0, 255, 255 |
Version | 8.7.1 |
Vibrance | +26 |
VignetteAmount | 0 |
WhiteBalance (1) | Custom |
WhiteBalance | Auto |
Whites2012 | +90 |