Felt | Verdi |
AlreadyApplied | True |
Aperture | 9.0 |
ApertureValue | 9.0 |
Artist | 373051003880 |
AutoLateralCA | 1 |
AutoWhiteVersion | 134348800 |
BitsPerSample | 8 |
Blacks2012 | -13 |
BlueHue | 0 |
BlueSaturation | 0 |
By-line | 373051003880 |
CameraProfile | Embedded |
CircGradBasedCorrActive | true |
CircGradBasedCorrAmount | 1.000000 |
CircGradBasedCorrBrightness | 0.000000 |
CircGradBasedCorrClarity2012 (1) | 0.163360 |
CircGradBasedCorrClarity2012 (2) | 0.199965 |
CircGradBasedCorrClarity2012 (3) | 0.112623 |
CircGradBasedCorrClarity2012 (4) | 0.012904 |
CircGradBasedCorrClarity2012 (5) | 0.327598 |
CircGradBasedCorrClarity2012 (6) | 0.178020 |
CircGradBasedCorrClarity2012 (7) | 0.191362 |
CircGradBasedCorrClarity2012 (8) | 0.108058 |
CircGradBasedCorrClarity2012 (9) | 0.144048 |
CircGradBasedCorrClarity2012 | 0.239027 |
CircGradBasedCorrContrast2012 (1) | 0.327598 |
CircGradBasedCorrContrast2012 (2) | 0.166169 |
CircGradBasedCorrContrast2012 (3) | 0.338220 |
CircGradBasedCorrContrast2012 (4) | 0.000000 |
CircGradBasedCorrContrast2012 (5) | 0.150281 |
CircGradBasedCorrContrast2012 (6) | 0.098402 |
CircGradBasedCorrContrast2012 (7) | 0.129126 |
CircGradBasedCorrContrast2012 (8) | 0.232532 |
CircGradBasedCorrContrast2012 (9) | 0.148350 |
CircGradBasedCorrContrast2012 | 0.137026 |
CircGradBasedCorrDefringe | -0.000878 |
CircGradBasedCorrExposure2012 (1) | -0.017995 |
CircGradBasedCorrExposure2012 (2) | 0.161078 |
CircGradBasedCorrExposure2012 (3) | -0.134919 |
CircGradBasedCorrExposure2012 (5) | 0.093223 |
CircGradBasedCorrExposure2012 (6) | 0.145102 |
CircGradBasedCorrExposure2012 (7) | 0.186271 |
CircGradBasedCorrExposure2012 (8) | 0.154758 |
CircGradBasedCorrExposure2012 (9) | 0.041433 |
CircGradBasedCorrExposure2012 | 0.090327 |
CircGradBasedCorrHighlights2012 (1) | 0.259305 |
CircGradBasedCorrHighlights2012 (3) | -0.157216 |
CircGradBasedCorrHighlights2012 (5) | 0.062939 |
CircGradBasedCorrHighlights2012 (6) | 0.177142 |
CircGradBasedCorrHighlights2012 (7) | 0.222525 |
CircGradBasedCorrHighlights2012 | 0.000000 |
CircGradBasedCorrHue | 43.523399 |
CircGradBasedCorrLuminanceNoise | 0.000000 |
CircGradBasedCorrMaskAngle (1) | -34.821000 |
CircGradBasedCorrMaskAngle (3) | -28.652500 |
CircGradBasedCorrMaskAngle (5) | -35.329800 |
CircGradBasedCorrMaskAngle (6) | -29.934900 |
CircGradBasedCorrMaskAngle (7) | -19.612400 |
CircGradBasedCorrMaskAngle (8) | -19.769400 |
CircGradBasedCorrMaskAngle | 0.000000 |
CircGradBasedCorrMaskBottom (1) | 0.545251 |
CircGradBasedCorrMaskBottom (2) | 0.741406 |
CircGradBasedCorrMaskBottom (3) | 0.694694 |
CircGradBasedCorrMaskBottom (4) | 0.654429 |
CircGradBasedCorrMaskBottom (5) | 0.667950 |
CircGradBasedCorrMaskBottom (6) | 0.865991 |
CircGradBasedCorrMaskBottom (7) | 0.650331 |
CircGradBasedCorrMaskBottom (8) | 0.688917 |
CircGradBasedCorrMaskBottom (9) | 0.915949 |
CircGradBasedCorrMaskBottom | 0.508373 |
CircGradBasedCorrMaskFeather | +50 |
CircGradBasedCorrMaskFlipped | true |
CircGradBasedCorrMaskLeft (1) | 0.433776 |
CircGradBasedCorrMaskLeft (2) | 0.216177 |
CircGradBasedCorrMaskLeft (3) | 0.259395 |
CircGradBasedCorrMaskLeft (4) | 0.277683 |
CircGradBasedCorrMaskLeft (5) | 0.262947 |
CircGradBasedCorrMaskLeft (6) | -0.059887 |
CircGradBasedCorrMaskLeft (7) | 0.549999 |
CircGradBasedCorrMaskLeft (8) | 0.508417 |
CircGradBasedCorrMaskLeft (9) | 0.285503 |
CircGradBasedCorrMaskLeft | 0.586930 |
CircGradBasedCorrMaskMidpoint | +50 |
CircGradBasedCorrMaskRight (1) | 0.532070 |
CircGradBasedCorrMaskRight (2) | 0.271688 |
CircGradBasedCorrMaskRight (3) | 0.294004 |
CircGradBasedCorrMaskRight (4) | 0.322943 |
CircGradBasedCorrMaskRight (5) | 0.376717 |
CircGradBasedCorrMaskRight (6) | 0.254218 |
CircGradBasedCorrMaskRight (7) | 0.672007 |
CircGradBasedCorrMaskRight (8) | 0.550127 |
CircGradBasedCorrMaskRight (9) | 0.420713 |
CircGradBasedCorrMaskRight | 0.622252 |
CircGradBasedCorrMaskRoundness | 0 |
CircGradBasedCorrMaskTop (1) | 0.523468 |
CircGradBasedCorrMaskTop (2) | 0.668499 |
CircGradBasedCorrMaskTop (3) | 0.654950 |
CircGradBasedCorrMaskTop (4) | 0.613412 |
CircGradBasedCorrMaskTop (5) | 0.629777 |
CircGradBasedCorrMaskTop (6) | 0.683136 |
CircGradBasedCorrMaskTop (7) | 0.553372 |
CircGradBasedCorrMaskTop (8) | 0.611963 |
CircGradBasedCorrMaskTop (9) | 0.762373 |
CircGradBasedCorrMaskTop | 0.446666 |
CircGradBasedCorrMaskValue | 1.000000 |
CircGradBasedCorrMaskVersion | +2 |
CircGradBasedCorrMaskWhat | Mask/CircularGradient |
CircGradBasedCorrMoire | 0.000000 |
CircGradBasedCorrSaturation (5) | 0.001756 |
CircGradBasedCorrSaturation | 0.000000 |
CircGradBasedCorrShadows2012 (1) | 0.180653 |
CircGradBasedCorrShadows2012 (3) | 0.052054 |
CircGradBasedCorrShadows2012 (5) | 0.106127 |
CircGradBasedCorrShadows2012 (6) | 0.083743 |
CircGradBasedCorrShadows2012 (7) | 0.128248 |
CircGradBasedCorrShadows2012 | 0.002633 |
CircGradBasedCorrSharpness (1) | 0.100246 |
CircGradBasedCorrSharpness (2) | 0.067591 |
CircGradBasedCorrSharpness (3) | 0.195576 |
CircGradBasedCorrSharpness (4) | -0.012992 |
CircGradBasedCorrSharpness (5) | 0.325843 |
CircGradBasedCorrSharpness (6) | 0.145980 |
CircGradBasedCorrSharpness (7) | 0.037482 |
CircGradBasedCorrSharpness (8) | 0.115783 |
CircGradBasedCorrSharpness (9) | 0.093838 |
CircGradBasedCorrSharpness | 0.000000 |
CircGradBasedCorrTemperature | 0.001931 |
CircGradBasedCorrTint | 0.000000 |
CircGradBasedCorrWhat | Correction |
CircleOfConfusion | 0.027 mm |
Clarity2012 | 0 |
ColorComponents | 3 |
ColorNoiseReduction | 15 |
ColorNoiseReductionDetail | 50 |
ColorNoiseReductionSmoothness | 50 |
ColorSpace | sRGB |
ColorTransform | YCbCr |
Contrast2012 | +10 |
ConvertToGrayscale | False |
CreateDate | 2017:06:02 10:57:52 |
Creator | 373051003880 |
CreatorTool | Adobe Photoshop Lightroom 5.7.1 (Macintosh) |
CropAngle | 0 |
CropBottom | 1 |
CropConstrainToWarp | 0 |
CropLeft | 0.007734 |
CropRight | 1 |
CropTop | 0.027996 |
CustomRendered | Normal |
DateCreated (1) | 2017:06:02 |
DateCreated | 2017:06:02 10:57:52 |
DateTimeOriginal | 2017:06:02 10:57:52 |
DefringeGreenAmount | 0 |
DefringeGreenHueHi | 60 |
DefringeGreenHueLo | 40 |
DefringePurpleAmount | 0 |
DefringePurpleHueHi | 70 |
DefringePurpleHueLo | 30 |
Exposure2012 | -0.05 |
ExposureCompensation | 0 |
ExposureMode | Manual |
ExposureProgram | Manual |
ExposureTime | 1/125 |
Firmware | Firmware Version 1.1.6 |
Flash | Off, Did not fire |
FlashCompensation | 0 |
FNumber | 9.0 |
FocalLength | 24.0 mm |
FocalLength35efl | 24.0 mm (35 mm equivalent: 26.5 mm) |
Format | image/jpeg |
FOV | 68.3 deg |
GrainAmount | 0 |
GreenHue | 0 |
GreenSaturation | 0 |
HasCrop | True |
HasExtendedXMP | 2A73D67D5F2C11157C17AB8A4982A10D |
HasSettings | True |
Highlights2012 | -15 |
HueAdjustmentAqua | 0 |
HueAdjustmentBlue | 0 |
HueAdjustmentGreen | 0 |
HueAdjustmentMagenta | 0 |
HueAdjustmentOrange | 0 |
HueAdjustmentPurple | 0 |
HueAdjustmentRed | 0 |
HueAdjustmentYellow | 0 |
HyperfocalDistance | 2.36 m |
ImageHeight | 3217 |
ImageSize | 4911x3217 |
ImageWidth | 4911 |
IncrementalTemperature | 0 |
IncrementalTint | 0 |
ISO | 200 |
Lens | Canon EF 24-70mm f/2.8L II USM |
LensID (1) | 495 |
LensID | Canon EF 24-70mm f/2.8L II USM |
LensInfo | 24-70mm f/? |
LensManualDistortionAmount | 0 |
LensModel | Canon EF 24-70mm f/2.8L II USM |
LensProfileChromaticAberrationScale | 100 |
LensProfileDistortionScale | 100 |
LensProfileEnable | 1 |
LensProfileFilename | Canon EOS-1Ds Mark III (Canon EF 24-70mm f2.8 L USM).lcp |
LensProfileName | Adobe (Canon EF 24-70mm f/2.8 L USM) |
LensProfileSetup | Custom |
LensProfileVignettingScale | 100 |
LensSerialNumber | 3630000901 |
LightValue | 12.3 |
LuminanceAdjustmentAqua | 0 |
LuminanceAdjustmentBlue | 0 |
LuminanceAdjustmentGreen | 0 |
LuminanceAdjustmentMagenta | 0 |
LuminanceAdjustmentOrange | 0 |
LuminanceAdjustmentPurple | 0 |
LuminanceAdjustmentRed | 0 |
LuminanceAdjustmentYellow | 0 |
LuminanceNoiseReductionContrast | 18 |
LuminanceNoiseReductionDetail | 50 |
LuminanceSmoothing | 15 |
Make | Canon |
MaxApertureValue | 2.7 |
Megapixels | 15.8 |
MeteringMode | Multi-segment |
Model | Canon EOS 6D |
ModifyDate (1) | 2017:06:19 20:49:57+02:00 |
ModifyDate | 2017:06:19 20:49:57 |
OwnerName | 373051003880 |
PaintCorrectionActive | true |
PaintCorrectionAmount | 1.000000 |
PaintCorrectionBrightness | 0.000000 |
PaintCorrectionClarity2012 | 0.392907 |
PaintCorrectionContrast2012 | 0.422314 |
PaintCorrectionDefringe | -0.000878 |
PaintCorrectionExposure2012 | -0.500439 |
PaintCorrectionHighlights2012 | -0.577423 |
PaintCorrectionHue | 43.523399 |
PaintCorrectionLuminanceNoise | 0.000000 |
PaintCorrectionMaskCenterWeight | 0.822811 |
PaintCorrectionMaskFlow | 0.026829 |
PaintCorrectionMaskRadius (1) | 0.006000 |
PaintCorrectionMaskRadius | 0.005968 |
PaintCorrectionMaskValue | 0.517084 |
PaintCorrectionMaskWhat | Mask/Paint |
PaintCorrectionMoire | 0.000000 |
PaintCorrectionSaturation (1) | 0.001756 |
PaintCorrectionSaturation | 0.000000 |
PaintCorrectionShadows2012 | -0.532479 |
PaintCorrectionSharpness | -0.173543 |
PaintCorrectionTemperature | 0.001931 |
PaintCorrectionTint | 0.000000 |
PaintCorrectionWhat | Correction |
ParametricDarks | +7 |
ParametricHighlights | -9 |
ParametricHighlightSplit | 75 |
ParametricLights | +7 |
ParametricMidtoneSplit | 50 |
ParametricShadows | +3 |
ParametricShadowSplit | 25 |
PerspectiveAspect | 0 |
PerspectiveHorizontal | 0 |
PerspectiveRotate | 0.0 |
PerspectiveScale | 100 |
PerspectiveUpright | 1 |
PerspectiveVertical | 0 |
PostCropVignetteAmount | 0 |
ProcessVersion | 6.7 |
ProfileDescription | sRGB IEC61966-2.1 |
RedHue | 0 |
RedSaturation | 0 |
Saturation | 0 |
SaturationAdjustmentAqua | 0 |
SaturationAdjustmentBlue | 0 |
SaturationAdjustmentGreen | 0 |
SaturationAdjustmentMagenta | 0 |
SaturationAdjustmentOrange | 0 |
SaturationAdjustmentPurple | 0 |
SaturationAdjustmentRed | 0 |
SaturationAdjustmentYellow | 0 |
ScaleFactor35efl | 1.1 |
SceneCaptureType | Standard |
SerialNumber | 373051003880 |
Shadows2012 | +8 |
ShadowTint | 0 |
SharpenDetail | 25 |
SharpenEdgeMasking | 0 |
SharpenRadius | +1.0 |
Sharpness | 23 |
ShutterSpeed | 1/125 |
ShutterSpeedValue | 1/125 |
Software | Adobe Photoshop Lightroom 5.7.1 (Macintosh) |
SplitToningBalance | 0 |
SplitToningHighlightHue | 0 |
SplitToningHighlightSaturation | 0 |
SplitToningShadowHue | 0 |
SplitToningShadowSaturation | 0 |
ToneCurve | 0, 0, 255, 255 |
ToneCurveBlue | 0, 0, 255, 255 |
ToneCurveGreen | 0, 0, 255, 255 |
ToneCurveName | Linear |
ToneCurveName2012 | Custom |
ToneCurvePV2012 | 0, 0, 83, 84, 132, 139, 183, 198, 255, 255 |
ToneCurvePV2012Blue | 0, 0, 255, 255 |
ToneCurvePV2012Green | 0, 0, 255, 255 |
ToneCurvePV2012Red | 0, 0, 255, 255 |
ToneCurveRed | 0, 0, 255, 255 |
Version | 8.7.1 |
Vibrance | 0 |
VignetteAmount | 0 |
WhiteBalance (1) | As Shot |
WhiteBalance | Auto |
Whites2012 | +13 |