Felt | Verdi |
AlreadyApplied | True |
Aperture | 8.0 |
ApertureValue | 8.0 |
ApproximateFocusDistance | 4294967295 |
Artist | Stein Watten |
AutoLateralCA | 0 |
AutoWhiteVersion | 134348800 |
BitsPerSample | 8 |
Blacks2012 | -1 |
BlueHue | 0 |
BlueSaturation | 0 |
By-line | Stein Watten |
CameraProfile | Adobe Standard |
CFAPattern | [Red,Green][Green,Blue] |
CircleOfConfusion | 0.030 mm |
Clarity2012 | +10 |
ColorComponents | 3 |
ColorNoiseReduction | 25 |
ColorNoiseReductionDetail | 50 |
ColorNoiseReductionSmoothness | 50 |
ColorSpace | sRGB |
ColorTemperature | 5450 |
ColorTransform | YCbCr |
Contrast | Normal |
Contrast2012 | +18 |
ConvertToGrayscale | False |
Copyright | |
CopyrightNotice | |
CreateDate (1) | 2017:08:09 20:32:03.10 |
CreateDate | 2017:08:09 20:32:03 |
Creator | Stein Watten |
CreatorTool | Adobe Photoshop Lightroom 6.10.1 (Windows) |
CropAngle | 1.407 |
CropBottom | 0.841414 |
CropConstrainToWarp | 0 |
CropLeft | 0.13198 |
CropRight | 0.988785 |
CropTop | 0.125288 |
CustomRendered | Normal |
DateCreated (1) | 2017:08:09 |
DateCreated | 2017:08:09 20:32:03.10 |
DateTimeOriginal | 2017:08:09 20:32:03 |
DefringeGreenAmount | 0 |
DefringeGreenHueHi | 60 |
DefringeGreenHueLo | 40 |
DefringePurpleAmount | 0 |
DefringePurpleHueHi | 70 |
DefringePurpleHueLo | 30 |
Dehaze | 0 |
DigitalZoomRatio | 1 |
DistortionCorrectionAlreadyApplied | True |
DOF | inf (665.64 m - inf) |
Exposure2012 | -1.25 |
ExposureCompensation | +2/3 |
ExposureMode | Auto |
ExposureProgram | Shutter speed priority AE |
ExposureTime | 1/2000 |
Flash | Off, Did not fire |
FNumber | 8.0 |
FocalLength | 400.0 mm |
FocalLength35efl | 400.0 mm (35 mm equivalent: 400.0 mm) |
FocalLengthIn35mmFormat | 400 mm |
Format | image/jpeg |
FOV | 5.2 deg |
GainControl | Low gain up |
GradientBasedCorrActive | true |
GradientBasedCorrAmount | 1.000000 |
GradientBasedCorrBrightness | 0.000000 |
GradientBasedCorrClarity2012 | 0.000000 |
GradientBasedCorrContrast2012 | -0.025640 |
GradientBasedCorrDefringe | 0.000000 |
GradientBasedCorrExposure2012 | -0.296000 |
GradientBasedCorrHighlights2012 | 0.470090 |
GradientBasedCorrHue | 0.000000 |
GradientBasedCorrLocalBlacks2012 | 0.000000 |
GradientBasedCorrLocalDehaze | 0.000000 |
GradientBasedCorrLocalWhites2012 | 0.000000 |
GradientBasedCorrLuminanceNoise | 0.000000 |
GradientBasedCorrMaskFullX | 0.147380 |
GradientBasedCorrMaskFullY | 0.110633 |
GradientBasedCorrMaskValue | 1.000000 |
GradientBasedCorrMaskWhat | Mask/Gradient |
GradientBasedCorrMaskZeroX | 0.195485 |
GradientBasedCorrMaskZeroY | 0.696653 |
GradientBasedCorrMoire | 0.000000 |
GradientBasedCorrSaturation (1) | 0.028380 |
GradientBasedCorrSaturation | 0.000000 |
GradientBasedCorrShadows2012 | 0.658120 |
GradientBasedCorrSharpness | 0.000000 |
GradientBasedCorrTemperature | 0.042740 |
GradientBasedCorrTint | 0.000000 |
GradientBasedCorrWhat | Correction |
GrainAmount | 0 |
GreenHue | 0 |
GreenSaturation | 0 |
HasCrop | True |
HasSettings | True |
Highlights2012 | -3 |
HueAdjustmentAqua | 0 |
HueAdjustmentBlue | -10 |
HueAdjustmentGreen | 0 |
HueAdjustmentMagenta | 0 |
HueAdjustmentOrange | 0 |
HueAdjustmentPurple | 0 |
HueAdjustmentRed | 0 |
HueAdjustmentYellow | 0 |
HyperfocalDistance | 665.64 m |
ImageHeight | 1042 |
ImageNumber | 56803 |
ImageSize | 1980x1042 |
ImageWidth | 1980 |
ISO | 800 |
Lens | 80.0-400.0 mm f/4.5-5.6 |
LensID (1) | 183 |
LensID | AF-S Nikkor 80-400mm f/4.5-5.6G ED VR |
LensInfo | 80-400mm f/4.5-5.6 |
LensManualDistortionAmount | 0 |
LensModel | 80.0-400.0 mm f/4.5-5.6 |
LensProfileChromaticAberrationScale | 100 |
LensProfileDistortionScale | 100 |
LensProfileEnable | 1 |
LensProfileFilename | NIKON D700 (Nikon AF-S NIKKOR 80-400mm f4.5-5.6G ED VR) - RAW.lcp |
LensProfileName | Adobe (Nikon AF-S NIKKOR 80-400mm f/4.5-5.6G ED VR) |
LensProfileSetup | LensDefaults |
LensProfileVignettingScale | 100 |
LightSource | Unknown |
LightValue | 14.0 |
LuminanceAdjustmentAqua | 0 |
LuminanceAdjustmentBlue | 0 |
LuminanceAdjustmentGreen | 0 |
LuminanceAdjustmentMagenta | 0 |
LuminanceAdjustmentOrange | 0 |
LuminanceAdjustmentPurple | 0 |
LuminanceAdjustmentRed | 0 |
LuminanceAdjustmentYellow | 0 |
LuminanceNoiseReductionContrast | 0 |
LuminanceNoiseReductionDetail | 86 |
LuminanceSmoothing | 17 |
Make | NIKON CORPORATION |
MaxApertureValue | 5.7 |
Megapixels | 2.1 |
MeteringMode | Multi-segment |
Model | NIKON D800 |
ModifyDate (1) | 2017:08:10 18:31:04+02:00 |
ModifyDate | 2017:08:10 18:31:04 |
ParametricDarks | 0 |
ParametricHighlights | 0 |
ParametricHighlightSplit | 75 |
ParametricLights | +28 |
ParametricMidtoneSplit | 50 |
ParametricShadows | -40 |
ParametricShadowSplit | 25 |
PerspectiveAspect | 0 |
PerspectiveHorizontal | 0 |
PerspectiveRotate | 0.0 |
PerspectiveScale | 100 |
PerspectiveUpright | 0 |
PerspectiveVertical | 0 |
PerspectiveX | 0.00 |
PerspectiveY | 0.00 |
PostCropVignetteAmount | 0 |
ProcessVersion | 6.7 |
ProfileDescription | sRGB IEC61966-2.1 |
RedHue | 0 |
RedSaturation | 0 |
Rights | |
Saturation (1) | +9 |
Saturation | Normal |
SaturationAdjustmentAqua | 0 |
SaturationAdjustmentBlue | 0 |
SaturationAdjustmentGreen | 0 |
SaturationAdjustmentMagenta | 0 |
SaturationAdjustmentOrange | 0 |
SaturationAdjustmentPurple | 0 |
SaturationAdjustmentRed | 0 |
SaturationAdjustmentYellow | 0 |
ScaleFactor35efl | 1.0 |
SceneCaptureType | Standard |
SceneType | Directly photographed |
SensingMethod | One-chip color area |
SensitivityType | Recommended Exposure Index |
SerialNumber | 2064113 |
Shadows2012 | +56 |
ShadowTint | 0 |
SharpenDetail | 43 |
SharpenEdgeMasking | 86 |
SharpenRadius | +2.9 |
Sharpness (1) | 25 |
Sharpness | Normal |
ShutterSpeed | 1/2000 |
ShutterSpeedValue | 1/2000 |
Software | Adobe Photoshop Lightroom 6.10.1 (Windows) |
SplitToningBalance | 0 |
SplitToningHighlightHue | 0 |
SplitToningHighlightSaturation | 0 |
SplitToningShadowHue | 0 |
SplitToningShadowSaturation | 0 |
SubjectDistanceRange | Unknown |
Tint | +6 |
ToneCurve | 0, 0, 255, 255 |
ToneCurveBlue | 0, 0, 255, 255 |
ToneCurveGreen | 0, 0, 255, 255 |
ToneCurveName | Linear |
ToneCurveName2012 | Linear |
ToneCurvePV2012 | 0, 0, 255, 255 |
ToneCurvePV2012Blue | 0, 0, 255, 255 |
ToneCurvePV2012Green | 0, 0, 255, 255 |
ToneCurvePV2012Red | 0, 0, 255, 255 |
ToneCurveRed | 0, 0, 255, 255 |
ToneMapStrength | 0 |
Version | 9.10.1 |
Vibrance | 0 |
VignetteAmount | 0 |
VignetteCorrectionAlreadyApplied | True |
WhiteBalance (1) | Custom |
WhiteBalance | Auto |
Whites2012 | +42 |