Felt | Verdi |
AlreadyApplied | True |
Aperture | 5.6 |
ApertureValue | 5.6 |
ApproximateFocusDistance | 3.68 |
AutoLateralCA | 1 |
AutoWhiteVersion | 134348800 |
BitsPerSample | 8 |
Blacks2012 | +6 |
BlueHue | 0 |
BlueSaturation | 0 |
CameraProfile | Embedded |
CircGradBasedCorrActive | true |
CircGradBasedCorrAmount | 1.000000 |
CircGradBasedCorrBrightness | 0.000000 |
CircGradBasedCorrClarity2012 (1) | 0.056004 |
CircGradBasedCorrClarity2012 (13) | 0.069961 |
CircGradBasedCorrClarity2012 (14) | 0.027124 |
CircGradBasedCorrClarity2012 (2) | 0.076984 |
CircGradBasedCorrClarity2012 (4) | 0.155548 |
CircGradBasedCorrClarity2012 | 0.010797 |
CircGradBasedCorrContrast2012 (12) | -0.137377 |
CircGradBasedCorrContrast2012 (13) | -0.115959 |
CircGradBasedCorrContrast2012 (14) | -0.107005 |
CircGradBasedCorrContrast2012 | 0.000000 |
CircGradBasedCorrDefringe | -0.000878 |
CircGradBasedCorrExposure2012 (12) | 0.268258 |
CircGradBasedCorrExposure2012 (13) | 0.152212 |
CircGradBasedCorrExposure2012 (14) | 0.085938 |
CircGradBasedCorrExposure2012 (7) | 0.010797 |
CircGradBasedCorrExposure2012 | -0.069698 |
CircGradBasedCorrHighlights2012 (1) | -0.183550 |
CircGradBasedCorrHighlights2012 (10) | -0.982356 |
CircGradBasedCorrHighlights2012 (11) | -0.705320 |
CircGradBasedCorrHighlights2012 (14) | 0.083304 |
CircGradBasedCorrHighlights2012 (2) | -1.000000 |
CircGradBasedCorrHighlights2012 (3) | -0.333129 |
CircGradBasedCorrHighlights2012 (4) | -0.327949 |
CircGradBasedCorrHighlights2012 (5) | -0.318645 |
CircGradBasedCorrHighlights2012 (6) | -0.553195 |
CircGradBasedCorrHighlights2012 (7) | -0.461289 |
CircGradBasedCorrHighlights2012 (8) | -0.766766 |
CircGradBasedCorrHighlights2012 (9) | -0.377282 |
CircGradBasedCorrHighlights2012 | 0.000000 |
CircGradBasedCorrHue | 43.523399 |
CircGradBasedCorrLuminanceNoise | 0.000000 |
CircGradBasedCorrMaskAngle (1) | -38.510500 |
CircGradBasedCorrMaskAngle (11) | -9.032270 |
CircGradBasedCorrMaskAngle (12) | -24.005100 |
CircGradBasedCorrMaskAngle (13) | 22.712700 |
CircGradBasedCorrMaskAngle (2) | 20.307100 |
CircGradBasedCorrMaskAngle (4) | 7.102770 |
CircGradBasedCorrMaskAngle (5) | -16.817800 |
CircGradBasedCorrMaskAngle (7) | -23.098500 |
CircGradBasedCorrMaskAngle (9) | -14.655500 |
CircGradBasedCorrMaskAngle | 0.000000 |
CircGradBasedCorrMaskBottom (1) | 0.325428 |
CircGradBasedCorrMaskBottom (10) | 0.236101 |
CircGradBasedCorrMaskBottom (11) | 0.824777 |
CircGradBasedCorrMaskBottom (12) | 0.394633 |
CircGradBasedCorrMaskBottom (13) | 0.427151 |
CircGradBasedCorrMaskBottom (14) | 0.692496 |
CircGradBasedCorrMaskBottom (2) | 0.258346 |
CircGradBasedCorrMaskBottom (3) | 0.274351 |
CircGradBasedCorrMaskBottom (4) | 0.630332 |
CircGradBasedCorrMaskBottom (5) | 0.729586 |
CircGradBasedCorrMaskBottom (6) | 0.237884 |
CircGradBasedCorrMaskBottom (7) | 0.224983 |
CircGradBasedCorrMaskBottom (8) | 0.217331 |
CircGradBasedCorrMaskBottom (9) | 0.202087 |
CircGradBasedCorrMaskBottom | 0.927174 |
CircGradBasedCorrMaskFeather | +56 |
CircGradBasedCorrMaskFlipped | true |
CircGradBasedCorrMaskLeft (1) | 0.529682 |
CircGradBasedCorrMaskLeft (10) | 0.418265 |
CircGradBasedCorrMaskLeft (11) | 0.557734 |
CircGradBasedCorrMaskLeft (12) | 0.656287 |
CircGradBasedCorrMaskLeft (13) | 0.495695 |
CircGradBasedCorrMaskLeft (14) | 0.590994 |
CircGradBasedCorrMaskLeft (2) | 0.445097 |
CircGradBasedCorrMaskLeft (3) | 0.403020 |
CircGradBasedCorrMaskLeft (4) | 0.645338 |
CircGradBasedCorrMaskLeft (5) | 0.509196 |
CircGradBasedCorrMaskLeft (6) | 0.149531 |
CircGradBasedCorrMaskLeft (7) | 0.133115 |
CircGradBasedCorrMaskLeft (8) | 0.264952 |
CircGradBasedCorrMaskLeft (9) | 0.271213 |
CircGradBasedCorrMaskLeft | 0.546495 |
CircGradBasedCorrMaskMidpoint | +50 |
CircGradBasedCorrMaskRight (1) | 0.600018 |
CircGradBasedCorrMaskRight (10) | 0.453412 |
CircGradBasedCorrMaskRight (11) | 0.570763 |
CircGradBasedCorrMaskRight (12) | 0.749579 |
CircGradBasedCorrMaskRight (13) | 0.538877 |
CircGradBasedCorrMaskRight (14) | 0.663414 |
CircGradBasedCorrMaskRight (2) | 0.528359 |
CircGradBasedCorrMaskRight (3) | 0.451173 |
CircGradBasedCorrMaskRight (4) | 0.658281 |
CircGradBasedCorrMaskRight (5) | 0.571672 |
CircGradBasedCorrMaskRight (6) | 0.163285 |
CircGradBasedCorrMaskRight (7) | 0.156762 |
CircGradBasedCorrMaskRight (8) | 0.277405 |
CircGradBasedCorrMaskRight (9) | 0.304345 |
CircGradBasedCorrMaskRight | 0.593093 |
CircGradBasedCorrMaskRoundness | 0 |
CircGradBasedCorrMaskTop (1) | 0.255272 |
CircGradBasedCorrMaskTop (10) | 0.204362 |
CircGradBasedCorrMaskTop (11) | 0.743358 |
CircGradBasedCorrMaskTop (12) | 0.392500 |
CircGradBasedCorrMaskTop (13) | 0.348403 |
CircGradBasedCorrMaskTop (14) | 0.629576 |
CircGradBasedCorrMaskTop (2) | 0.177281 |
CircGradBasedCorrMaskTop (3) | 0.203857 |
CircGradBasedCorrMaskTop (4) | 0.398009 |
CircGradBasedCorrMaskTop (5) | 0.577370 |
CircGradBasedCorrMaskTop (6) | 0.221653 |
CircGradBasedCorrMaskTop (7) | 0.226123 |
CircGradBasedCorrMaskTop (8) | 0.197303 |
CircGradBasedCorrMaskTop (9) | 0.202675 |
CircGradBasedCorrMaskTop | 0.859342 |
CircGradBasedCorrMaskValue | 1.000000 |
CircGradBasedCorrMaskVersion | +2 |
CircGradBasedCorrMaskWhat | Mask/CircularGradient |
CircGradBasedCorrMoire | 0.000000 |
CircGradBasedCorrSaturation | 0.000000 |
CircGradBasedCorrShadows2012 (12) | 0.249122 |
CircGradBasedCorrShadows2012 (13) | 0.134919 |
CircGradBasedCorrShadows2012 (4) | -0.168715 |
CircGradBasedCorrShadows2012 (6) | 0.005530 |
CircGradBasedCorrShadows2012 | 0.052230 |
CircGradBasedCorrSharpness (1) | 0.071629 |
CircGradBasedCorrSharpness (2) | 0.092609 |
CircGradBasedCorrSharpness (4) | 0.076018 |
CircGradBasedCorrSharpness | 0.010797 |
CircGradBasedCorrTemperature | 0.001931 |
CircGradBasedCorrTint | 0.000000 |
CircGradBasedCorrWhat | Correction |
CircleOfConfusion | 0.030 mm |
Clarity2012 | +9 |
ColorComponents | 3 |
ColorNoiseReduction | 15 |
ColorNoiseReductionDetail | 50 |
ColorNoiseReductionSmoothness | 50 |
ColorSpace | sRGB |
ColorTransform | YCbCr |
Contrast2012 | +4 |
ConvertToGrayscale | False |
CreateDate (1) | 2017:08:08 16:01:33.00 |
CreateDate | 2017:08:08 16:01:33 |
CreatorTool | Adobe Photoshop Lightroom 5.7.1 (Macintosh) |
CropAngle | 0 |
CropBottom | 1 |
CropConstrainToWarp | 0 |
CropLeft | 0 |
CropRight | 1 |
CropTop | 0.003752 |
CustomRendered | Normal |
DateCreated (1) | 2017:08:08 |
DateCreated | 2017:08:08 16:01:33.00 |
DateTimeOriginal | 2017:08:08 16:01:33 |
DefringeGreenAmount | 0 |
DefringeGreenHueHi | 60 |
DefringeGreenHueLo | 40 |
DefringePurpleAmount | 0 |
DefringePurpleHueHi | 70 |
DefringePurpleHueLo | 30 |
DOF | 5.02 m (2.44 - 7.47 m) |
Exposure2012 | -0.60 |
ExposureCompensation | 0 |
ExposureMode | Manual |
ExposureProgram | Manual |
ExposureTime | 1/100 |
Firmware | 1.1.6 |
Flash | Off, Did not fire |
FlashCompensation | 0 |
FNumber | 5.6 |
FocalLength | 35.0 mm |
FocalLength35efl | 35.0 mm (35 mm equivalent: 34.6 mm) |
Format | image/jpeg |
FOV | 55.0 deg |
GrainAmount | 0 |
GreenHue | 0 |
GreenSaturation | 0 |
HasCrop | True |
HasSettings | True |
Highlights2012 | -18 |
HueAdjustmentAqua | 0 |
HueAdjustmentBlue | 0 |
HueAdjustmentGreen | 0 |
HueAdjustmentMagenta | 0 |
HueAdjustmentOrange | 0 |
HueAdjustmentPurple | 0 |
HueAdjustmentRed | 0 |
HueAdjustmentYellow | 0 |
HyperfocalDistance | 7.19 m |
ImageHeight | 3634 |
ImageNumber | 0 |
ImageSize | 5472x3634 |
ImageWidth | 5472 |
IncrementalTemperature | 0 |
IncrementalTint | 0 |
ISO | 100 |
Lens | EF24-70mm f/2.8L II USM |
LensID (1) | 495 |
LensID | Canon EF 24-70mm f/2.8L II USM |
LensInfo | 24-70mm f/? |
LensManualDistortionAmount | 0 |
LensModel | EF24-70mm f/2.8L II USM |
LensProfileChromaticAberrationScale | 100 |
LensProfileDistortionScale | 100 |
LensProfileEnable | 1 |
LensProfileFilename | Canon EOS-1Ds Mark III (Canon EF 24-70mm f2.8 L USM).lcp |
LensProfileName | Adobe (Canon EF 24-70mm f/2.8 L USM) |
LensProfileSetup | Custom |
LensProfileVignettingScale | 100 |
LensSerialNumber | 3630000901 |
LightValue | 11.6 |
LuminanceAdjustmentAqua | 0 |
LuminanceAdjustmentBlue | +15 |
LuminanceAdjustmentGreen | +10 |
LuminanceAdjustmentMagenta | 0 |
LuminanceAdjustmentOrange | 0 |
LuminanceAdjustmentPurple | 0 |
LuminanceAdjustmentRed | 0 |
LuminanceAdjustmentYellow | +5 |
LuminanceNoiseReductionContrast | 18 |
LuminanceNoiseReductionDetail | 50 |
LuminanceSmoothing | 16 |
Make | Canon |
MaxApertureValue | 2.8 |
Megapixels | 19.9 |
MeteringMode | Multi-segment |
Model | Canon EOS 6D |
ModifyDate (1) | 2017:08:10 22:01:05+02:00 |
ModifyDate | 2017:08:10 22:01:05 |
ParametricDarks | +1 |
ParametricHighlights | +3 |
ParametricHighlightSplit | 75 |
ParametricLights | +3 |
ParametricMidtoneSplit | 50 |
ParametricShadows | 0 |
ParametricShadowSplit | 25 |
PerspectiveAspect | 0 |
PerspectiveHorizontal | 0 |
PerspectiveRotate | 0.0 |
PerspectiveScale | 100 |
PerspectiveUpright | 1 |
PerspectiveVertical | 0 |
PostCropVignetteAmount | 0 |
ProcessVersion | 6.7 |
ProfileDescription | sRGB IEC61966-2.1 |
RecommendedExposureIndex | 100 |
RedHue | 0 |
RedSaturation | 0 |
Saturation | 0 |
SaturationAdjustmentAqua | 0 |
SaturationAdjustmentBlue | +3 |
SaturationAdjustmentGreen | +17 |
SaturationAdjustmentMagenta | 0 |
SaturationAdjustmentOrange | 0 |
SaturationAdjustmentPurple | 0 |
SaturationAdjustmentRed | 0 |
SaturationAdjustmentYellow | +13 |
ScaleFactor35efl | 1.0 |
SceneCaptureType | Standard |
SensitivityType | Recommended Exposure Index |
SerialNumber | 373051003880 |
Shadows2012 | +13 |
ShadowTint | 0 |
SharpenDetail | 70 |
SharpenEdgeMasking | 0 |
SharpenRadius | +1.0 |
Sharpness | 97 |
ShutterSpeed | 1/100 |
ShutterSpeedValue | 1/100 |
Software | Adobe Photoshop Lightroom 5.7.1 (Macintosh) |
SplitToningBalance | 0 |
SplitToningHighlightHue | 0 |
SplitToningHighlightSaturation | 0 |
SplitToningShadowHue | 0 |
SplitToningShadowSaturation | 0 |
ToneCurve | 0, 0, 255, 255 |
ToneCurveBlue | 0, 0, 255, 255 |
ToneCurveGreen | 0, 0, 255, 255 |
ToneCurveName | Linear |
ToneCurveName2012 | Custom |
ToneCurvePV2012 | 0, 0, 80, 71, 144, 128, 188, 177, 255, 255 |
ToneCurvePV2012Blue | 0, 0, 255, 255 |
ToneCurvePV2012Green | 0, 0, 255, 255 |
ToneCurvePV2012Red | 0, 0, 255, 255 |
ToneCurveRed | 0, 0, 255, 255 |
Version | 8.7.1 |
Vibrance | 0 |
VignetteAmount | 0 |
WhiteBalance (1) | As Shot |
WhiteBalance | Auto |
Whites2012 | +9 |