Felt | Verdi |
AlreadyApplied | True |
AutoLateralCA | 0 |
AutoWhiteVersion | 134348800 |
BitsPerSample (1) | 8 8 8 |
BitsPerSample | 8 |
Blacks2012 | 0 |
BlueHue | 0 |
BlueSaturation | 0 |
CameraProfile | Embedded |
Clarity2012 | +14 |
ColorComponents | 3 |
ColorMode | RGB |
ColorNoiseReduction | 0 |
ColorSpace | sRGB |
ColorTransform | YCbCr |
Contrast2012 | +6 |
ConvertToGrayscale | True |
CreateDate | 2017:04:23 15:06:26+02:00 |
CreatorTool | Adobe Photoshop CC 2017 (Macintosh) |
CropAngle | 0 |
CropBottom | 0.867428 |
CropConstrainToWarp | 0 |
CropLeft | 0.113792 |
CropRight | 0.955184 |
CropTop | 0.016094 |
Dehaze | 0 |
ExifImageHeight | 1037 |
ExifImageWidth | 700 |
Exposure2012 | +0.10 |
Format | image/jpeg |
GrainAmount | 0 |
GrayMixerAqua | -17 |
GrayMixerBlue | +12 |
GrayMixerGreen | -27 |
GrayMixerMagenta | +4 |
GrayMixerOrange | -19 |
GrayMixerPurple | +17 |
GrayMixerRed | -10 |
GrayMixerYellow | -23 |
GreenHue | 0 |
GreenSaturation | 0 |
HasCrop | True |
HasExtendedXMP | 2C859CE7A14F22C099DF257AF10EBA0C |
HasSettings | True |
Highlights2012 | +47 |
ICCProfileName | sRGB IEC61966-2.1 |
ImageHeight (1) | 2189 |
ImageHeight | 1037 |
ImageSize | 700x1037 |
ImageWidth (1) | 1478 |
ImageWidth | 700 |
IncrementalTemperature | +2 |
IncrementalTint | +5 |
LensManualDistortionAmount | 0 |
LensProfileEnable | 0 |
LensProfileSetup | LensDefaults |
LuminanceSmoothing | 0 |
Make | EPSON |
Megapixels | 0.726 |
Model | Perfection V800/V850 |
ModifyDate (1) | 2017:11:03 21:52:25+01:00 |
ModifyDate | 2017:11:03 21:52:25 |
Orientation | Horizontal (normal) |
PaintCorrectionActive | true |
PaintCorrectionAmount | 1.000000 |
PaintCorrectionBrightness | 0.000000 |
PaintCorrectionClarity2012 (3) | 0.107286 |
PaintCorrectionClarity2012 | 0.000000 |
PaintCorrectionContrast2012 (3) | 0.188499 |
PaintCorrectionContrast2012 | 0.000000 |
PaintCorrectionDefringe | 0.000000 |
PaintCorrectionExposure2012 (1) | -1.000000 |
PaintCorrectionExposure2012 (2) | -0.549782 |
PaintCorrectionExposure2012 (3) | -0.030069 |
PaintCorrectionExposure2012 (4) | 0.052500 |
PaintCorrectionExposure2012 | -0.075000 |
PaintCorrectionHighlights2012 | 0.000000 |
PaintCorrectionHue | 240.000000 |
PaintCorrectionLocalBlacks2012 (4) | 0.000000 |
PaintCorrectionLocalBlacks2012 | -0.747184 |
PaintCorrectionLocalDehaze | 0.000000 |
PaintCorrectionLocalWhites2012 | 0.000000 |
PaintCorrectionLuminanceNoise | 0.000000 |
PaintCorrectionMaskCenterWeight (2) | 0.292131 |
PaintCorrectionMaskCenterWeight (20) | 0.189148 |
PaintCorrectionMaskCenterWeight (21) | 0.526829 |
PaintCorrectionMaskCenterWeight (22) | 0.014983 |
PaintCorrectionMaskCenterWeight (5) | 0.000000 |
PaintCorrectionMaskCenterWeight | 0.155739 |
PaintCorrectionMaskFlow | 1.000000 |
PaintCorrectionMaskRadius (1) | 0.038806 |
PaintCorrectionMaskRadius (10) | 0.005206 |
PaintCorrectionMaskRadius (12) | 0.004998 |
PaintCorrectionMaskRadius (13) | 0.038240 |
PaintCorrectionMaskRadius (14) | 0.009677 |
PaintCorrectionMaskRadius (15) | 0.006316 |
PaintCorrectionMaskRadius (19) | 0.073484 |
PaintCorrectionMaskRadius (20) | 0.072423 |
PaintCorrectionMaskRadius (21) | 0.050098 |
PaintCorrectionMaskRadius (24) | 0.113098 |
PaintCorrectionMaskRadius (27) | 0.019148 |
PaintCorrectionMaskRadius (3) | 0.042022 |
PaintCorrectionMaskRadius (33) | 0.032656 |
PaintCorrectionMaskRadius (5) | 0.015271 |
PaintCorrectionMaskRadius (53) | 0.019037 |
PaintCorrectionMaskRadius (59) | 0.019482 |
PaintCorrectionMaskRadius (7) | 0.005290 |
PaintCorrectionMaskRadius | 0.082492 |
PaintCorrectionMaskValue (8) | 0.000000 |
PaintCorrectionMaskValue | 1.000000 |
PaintCorrectionMaskWhat | Mask/Paint |
PaintCorrectionMoire | 0.000000 |
PaintCorrectionSaturation (5) | 0.319495 |
PaintCorrectionSaturation | 0.000000 |
PaintCorrectionShadows2012 | 0.000000 |
PaintCorrectionSharpness (3) | 0.243253 |
PaintCorrectionSharpness (4) | 0.303800 |
PaintCorrectionSharpness | 0.000000 |
PaintCorrectionTemperature | 0.000000 |
PaintCorrectionTint | 0.000000 |
PaintCorrectionWhat | Correction |
ParametricDarks | 0 |
ParametricHighlights | 0 |
ParametricHighlightSplit | 75 |
ParametricLights | 0 |
ParametricMidtoneSplit | 50 |
ParametricShadows | 0 |
ParametricShadowSplit | 25 |
PerspectiveAspect | 0 |
PerspectiveHorizontal | 0 |
PerspectiveRotate | 0.0 |
PerspectiveScale | 100 |
PerspectiveUpright | 0 |
PerspectiveVertical | 0 |
PerspectiveX | 0.00 |
PerspectiveY | 0.00 |
PhotometricInterpretation | RGB |
PostCropVignetteAmount | -48 |
PostCropVignetteFeather | 81 |
PostCropVignetteHighlightContrast | 0 |
PostCropVignetteMidpoint | 21 |
PostCropVignetteRoundness | -75 |
PostCropVignetteStyle | 1 |
ProcessVersion | 6.7 |
ProfileDescription | sRGB IEC61966-2.1 |
RedHue | 0 |
RedSaturation | 0 |
SamplesPerPixel | 3 |
Shadows2012 | +17 |
ShadowTint | 0 |
SharpenDetail | 25 |
SharpenEdgeMasking | 0 |
SharpenRadius | +1.0 |
Sharpness | 38 |
Software | Adobe Photoshop CS5 Macintosh |
SplitToningBalance | 0 |
SplitToningHighlightHue | 0 |
SplitToningHighlightSaturation | 0 |
SplitToningShadowHue | 0 |
SplitToningShadowSaturation | 0 |
ToneCurve | 0, 0, 255, 255 |
ToneCurveBlue | 0, 0, 255, 255 |
ToneCurveGreen | 0, 0, 255, 255 |
ToneCurveName | Linear |
ToneCurveName2012 | Linear |
ToneCurvePV2012 | 0, 0, 255, 255 |
ToneCurvePV2012Blue | 0, 0, 255, 255 |
ToneCurvePV2012Green | 0, 0, 255, 255 |
ToneCurvePV2012Red | 0, 0, 255, 255 |
ToneCurveRed | 0, 0, 255, 255 |
ToneMapStrength | 0 |
URL_List | |
Version | 9.8 |
VignetteAmount | 0 |
WhiteBalance | Custom |
Whites2012 | +26 |