Felt | Verdi |
AlreadyApplied | True |
ApertureValue | 14.0 |
ApproximateFocusDistance | 3.72 |
Artist | Dmitry Kechasov |
AutoLateralCA | 0 |
BitsPerSample (1) | 8 8 8 |
BitsPerSample | 8 |
Blacks2012 | -30 |
BlueHue | 0 |
By-line | Dmitry Kechasov |
CircleOfConfusion | 0.019 mm |
Clarity2012 | +8 |
ColorComponents | 3 |
ColorMode | RGB |
ColorNoiseReductionDetail | 50 |
ColorTemperature | 6400 |
CreateDate (1) | 2018:10:28 08:52:35+01:00 |
Creator | Dmitry Kechasov |
CreatorTool | Windows Photo Editor 10.0.10011.16384 |
CustomRendered | Normal |
DateTimeOriginal | 2018:10:28 08:52:35 |
DefringeGreenAmount | 0 |
DefringeGreenHueHi | 60 |
DefringeGreenHueLo | 40 |
DefringePurpleHueHi | 70 |
DefringePurpleHueLo | 30 |
Dehaze | 0 |
ExifImageHeight | 949 |
ExifImageWidth | 1388 |
Exposure2012 | +1.55 |
ExposureCompensation | -1 |
ExposureProgram | Aperture-priority AE |
Firmware | 1.1.1 |
Flash | Off, Did not fire |
FlashCompensation | 0 |
FocalLength | 19.0 mm |
Format | image/jpeg |
FOV | 60.7 deg |
GrainAmount | 0 |
GreenHue | 0 |
GreenSaturation | 0 |
HasCrop | False |
HasSettings | True |
Highlights2012 | -23 |
HueAdjustmentAqua | 0 |
HueAdjustmentGreen | 0 |
HueAdjustmentMagenta | 0 |
HueAdjustmentOrange | 0 |
HueAdjustmentPurple | 0 |
HueAdjustmentRed | 0 |
HueAdjustmentYellow | 0 |
HyperfocalDistance | 1.39 m |
ICCProfileName | sRGB IEC61966-2.1 |
ImageWidth | 1388 |
LensID (1) | 231 |
LensID | Canon EF 17-40mm f/4L USM |
LensInfo | 17-40mm f/? |
LensModel | EF17-40mm f/4L USM |
LensProfileSetup | LensDefaults |
LightValue | 11.9 |
LuminanceAdjustmentBlue | 0 |
LuminanceAdjustmentGreen | 0 |
LuminanceAdjustmentOrange | 0 |
LuminanceAdjustmentRed | 0 |
LuminanceAdjustmentYellow | 0 |
Make | Canon |
Megapixels | 1.3 |
MeteringMode | Multi-segment |
ModifyDate | 2018:10:31 18:50:17 |
Orientation | Horizontal (normal) |
OwnerName (1) | Dmitry Kechasov |
ParametricHighlights | 0 |
ParametricMidtoneSplit | 50 |
ParametricShadowSplit | 25 |
PerspectiveAspect | 0 |
PerspectiveHorizontal | 0 |
PerspectiveVertical | 0 |
PerspectiveY | 0.00 |
PostCropVignetteAmount | 0 |
ProcessingSoftware | Windows Photo Editor 10.0.10011.16384 |
ProcessVersion | 6.7 |
Rating | 0 |
RawFileName | IMG_4199.CR2 |
RedSaturation | 0 |
Saturation | +33 |
SaturationAdjustmentBlue | 0 |
SaturationAdjustmentYellow | 0 |
ScaleFactor35efl | 1.6 |
SceneCaptureType | Standard |
Shadows2012 | 0 |
ShadowTint | 0 |
SharpenEdgeMasking | 0 |
Sharpness | 108 |
ShutterSpeedValue | 1/25 |
SplitToningHighlightHue | 0 |
SplitToningShadowSaturation | 0 |
Tint | +6 |
ToneCurveBlue | 0, 0, 255, 255 |
ToneCurveName | Medium Contrast |
ToneCurvePV2012 | 0, 0, 255, 255 |
ToneCurvePV2012Green | 0, 0, 255, 255 |
ToneCurvePV2012Red | 0, 0, 255, 255 |
ToneMapStrength | 0 |
WhiteBalance (1) | As Shot |
WhiteBalance | Auto |