Felt | Verdi |
AlreadyApplied | True |
Aperture | 5.6 |
ApertureValue | 5.6 |
AutoLateralCA | 0 |
AutoWhiteVersion | 134348800 |
BitsPerSample | 8 |
Blacks2012 | 0 |
BlueHue | 0 |
BlueSaturation | 0 |
CameraProfile | Embedded |
Caption-Abstract | OLYMPUS DIGITAL CAMERA |
CircleOfConfusion | 0.015 mm |
Clarity2012 | +68 |
ColorComponents | 3 |
ColorNoiseReduction | 0 |
ColorSpace | sRGB |
ColorTransform | YCbCr |
Contrast | Normal |
Contrast2012 | +49 |
ConvertToGrayscale | True |
CreateDate | 2018:12:02 13:01:31 |
CreatorTool | Adobe Photoshop Lightroom 5.7.1 (Macintosh) |
CropAngle | 0 |
CropBottom | 0.916871 |
CropConstrainToWarp | 0 |
CropLeft | 0.142578 |
CropRight | 0.91725 |
CropTop | 0.142199 |
CustomRendered | Normal |
DateCreated (1) | 2018:12:02 |
DateCreated | 2018:12:02 13:01:31 |
DateTimeOriginal | 2018:12:02 13:01:31 |
Description | OLYMPUS DIGITAL CAMERA |
DigitalZoomRatio | 1 |
Exposure2012 | +0.75 |
ExposureCompensation | 0 |
ExposureMode | Manual |
ExposureProgram | Manual |
ExposureTime | 1/40 |
Flash | Auto, Did not fire |
FlashCompensation | 0 |
FNumber | 5.6 |
FocalLength | 17.0 mm |
FocalLength35efl | 17.0 mm (35 mm equivalent: 34.0 mm) |
FocalLengthIn35mmFormat | 34 mm |
Format | image/jpeg |
FOV | 55.8 deg |
GainControl | High gain up |
GrainAmount | 0 |
GrayMixerAqua | -17 |
GrayMixerBlue | +10 |
GrayMixerGreen | -27 |
GrayMixerMagenta | +3 |
GrayMixerOrange | -19 |
GrayMixerPurple | +15 |
GrayMixerRed | -10 |
GrayMixerYellow | -23 |
GreenHue | 0 |
GreenSaturation | 0 |
HasCrop | True |
HasExtendedXMP | C50216213BC4C4F676CC7946512DBE18 |
HasSettings | True |
Highlights2012 | -35 |
HyperfocalDistance | 3.44 m |
ImageDescription | OLYMPUS DIGITAL CAMERA |
ImageHeight | 2678 |
ImageSize | 3570x2678 |
ImageWidth | 3570 |
IncrementalTemperature | +6 |
IncrementalTint | 0 |
ISO | 640 |
Lens | OLYMPUS M.17mm F1.8 |
LensInfo | 17mm f/1.8 |
LensManualDistortionAmount | 0 |
LensModel | OLYMPUS M.17mm F1.8 |
LensProfileEnable | 0 |
LensProfileSetup | LensDefaults |
LensSerialNumber | ABT212929 |
LightSource | Unknown |
LightValue | 7.6 |
LuminanceSmoothing | 0 |
Make | OLYMPUS CORPORATION |
MaxApertureValue | 1.8 |
Megapixels | 9.6 |
MeteringMode | Multi-segment |
Model | E-PL8 |
ModifyDate (1) | 2018:12:03 22:18:30+01:00 |
ModifyDate | 2018:12:03 22:18:30 |
PaintCorrectionActive | true |
PaintCorrectionAmount | 1.000000 |
PaintCorrectionBrightness | 0.000000 |
PaintCorrectionClarity2012 | 0.385237 |
PaintCorrectionContrast2012 | 0.000000 |
PaintCorrectionDefringe | 0.000000 |
PaintCorrectionExposure2012 (1) | -0.404319 |
PaintCorrectionExposure2012 (2) | 0.421703 |
PaintCorrectionExposure2012 (3) | -0.327009 |
PaintCorrectionExposure2012 | -0.327782 |
PaintCorrectionHighlights2012 | 0.000000 |
PaintCorrectionHue | 0.000000 |
PaintCorrectionLuminanceNoise | 0.000000 |
PaintCorrectionMaskCenterWeight (14) | 0.169737 |
PaintCorrectionMaskCenterWeight | 0.660131 |
PaintCorrectionMaskFlow | 1.000000 |
PaintCorrectionMaskRadius (1) | 0.022100 |
PaintCorrectionMaskRadius (10) | 0.009379 |
PaintCorrectionMaskRadius (11) | 0.009362 |
PaintCorrectionMaskRadius (12) | 0.009800 |
PaintCorrectionMaskRadius (13) | 0.009833 |
PaintCorrectionMaskRadius (14) | 0.009781 |
PaintCorrectionMaskRadius (15) | 0.005406 |
PaintCorrectionMaskRadius (16) | 0.005392 |
PaintCorrectionMaskRadius (17) | 0.005386 |
PaintCorrectionMaskRadius (18) | 0.000899 |
PaintCorrectionMaskRadius (19) | 0.000898 |
PaintCorrectionMaskRadius (2) | 0.022173 |
PaintCorrectionMaskRadius (20) | 0.002683 |
PaintCorrectionMaskRadius (21) | 0.002450 |
PaintCorrectionMaskRadius (22) | 0.002452 |
PaintCorrectionMaskRadius (23) | 0.023077 |
PaintCorrectionMaskRadius (24) | 0.037908 |
PaintCorrectionMaskRadius (25) | 0.037954 |
PaintCorrectionMaskRadius (26) | 0.023128 |
PaintCorrectionMaskRadius (27) | 0.038206 |
PaintCorrectionMaskRadius (28) | 0.023182 |
PaintCorrectionMaskRadius (29) | 0.015980 |
PaintCorrectionMaskRadius (3) | 0.022252 |
PaintCorrectionMaskRadius (30) | 0.015990 |
PaintCorrectionMaskRadius (31) | 0.015977 |
PaintCorrectionMaskRadius (32) | 0.015982 |
PaintCorrectionMaskRadius (33) | 0.018208 |
PaintCorrectionMaskRadius (34) | 0.016178 |
PaintCorrectionMaskRadius (35) | 0.016167 |
PaintCorrectionMaskRadius (36) | 0.016149 |
PaintCorrectionMaskRadius (37) | 0.005412 |
PaintCorrectionMaskRadius (4) | 0.022258 |
PaintCorrectionMaskRadius (5) | 0.012822 |
PaintCorrectionMaskRadius (6) | 0.012824 |
PaintCorrectionMaskRadius (7) | 0.012799 |
PaintCorrectionMaskRadius (8) | 0.012779 |
PaintCorrectionMaskRadius (9) | 0.009357 |
PaintCorrectionMaskRadius | 0.005413 |
PaintCorrectionMaskValue (12) | 0.303973 |
PaintCorrectionMaskValue (28) | 0.119334 |
PaintCorrectionMaskValue (5) | 0.000000 |
PaintCorrectionMaskValue | 0.317120 |
PaintCorrectionMaskWhat | Mask/Paint |
PaintCorrectionMoire | 0.000000 |
PaintCorrectionSaturation (1) | -0.000614 |
PaintCorrectionSaturation | 0.000000 |
PaintCorrectionShadows2012 (1) | 0.000000 |
PaintCorrectionShadows2012 (2) | 0.351648 |
PaintCorrectionShadows2012 | 0.549365 |
PaintCorrectionSharpness | 0.000000 |
PaintCorrectionTemperature | 0.001756 |
PaintCorrectionTint | -0.033708 |
PaintCorrectionWhat | Correction |
ParametricDarks | 0 |
ParametricHighlights | 0 |
ParametricHighlightSplit | 75 |
ParametricLights | 0 |
ParametricMidtoneSplit | 50 |
ParametricShadows | 0 |
ParametricShadowSplit | 25 |
PerspectiveAspect | 0 |
PerspectiveHorizontal | 0 |
PerspectiveRotate | 0.0 |
PerspectiveScale | 100 |
PerspectiveUpright | 0 |
PerspectiveVertical | -2 |
PostCropVignetteAmount | 0 |
ProcessVersion | 6.7 |
ProfileDescription | sRGB IEC61966-2.1 |
RedHue | 0 |
RedSaturation | 0 |
Saturation | Normal |
ScaleFactor35efl | 2.0 |
SceneCaptureType | Standard |
SensitivityType | Standard Output Sensitivity |
SerialNumber | BHSA48194 |
Shadows2012 | 0 |
ShadowTint | 0 |
SharpenDetail | 25 |
SharpenEdgeMasking | 0 |
SharpenRadius | +1.0 |
Sharpness (1) | 0 |
Sharpness | Normal |
ShutterSpeed | 1/40 |
ShutterSpeedValue | 1/40 |
Software | Adobe Photoshop Lightroom 5.7.1 (Macintosh) |
SplitToningBalance | 0 |
SplitToningHighlightHue | 0 |
SplitToningHighlightSaturation | 0 |
SplitToningShadowHue | 0 |
SplitToningShadowSaturation | 0 |
ToneCurve | 0, 0, 255, 255 |
ToneCurveBlue | 0, 0, 255, 255 |
ToneCurveGreen | 0, 0, 255, 255 |
ToneCurveName | Linear |
ToneCurveName2012 | Linear |
ToneCurvePV2012 | 0, 0, 255, 255 |
ToneCurvePV2012Blue | 0, 0, 255, 255 |
ToneCurvePV2012Green | 0, 0, 255, 255 |
ToneCurvePV2012Red | 0, 0, 255, 255 |
ToneCurveRed | 0, 0, 255, 255 |
Version | 8.7.1 |
VignetteAmount | 0 |
WhiteBalance (1) | Custom |
WhiteBalance | Auto |
Whites2012 | 0 |