Felt | Verdi |
AlreadyApplied | True |
Aperture | 8.0 |
ApertureValue | 8.0 |
Artist | ARILD THINGVOLL |
AutoLateralCA | 0 |
BitsPerSample | 8 |
Blacks2012 | -52 |
BlueHue | 0 |
BlueSaturation | 0 |
BrightnessValue | 7.11 |
By-line | ARILD THINGVOLL |
CameraProfile | Embedded |
CircGradBasedCorrActive | true |
CircGradBasedCorrAmount | 1.000000 |
CircGradBasedCorrBrightness | 0.000000 |
CircGradBasedCorrClarity2012 | 0.000000 |
CircGradBasedCorrContrast2012 | 0.000000 |
CircGradBasedCorrCorrectionRangeMaskColorAmount | 0.500000 |
CircGradBasedCorrCorrectionRangeMaskDepthFeather | 0.500000 |
CircGradBasedCorrCorrectionRangeMaskDepthMax | 1.000000 |
CircGradBasedCorrCorrectionRangeMaskDepthMin | 0.000000 |
CircGradBasedCorrCorrectionRangeMaskLumFeather | 0.500000 |
CircGradBasedCorrCorrectionRangeMaskLumMax | 1.000000 |
CircGradBasedCorrCorrectionRangeMaskLumMin | 0.000000 |
CircGradBasedCorrCorrectionRangeMaskType | 0 |
CircGradBasedCorrCorrectionRangeMaskVersion | +2 |
CircGradBasedCorrDefringe | 0.000000 |
CircGradBasedCorrExposure2012 (10) | 0.326000 |
CircGradBasedCorrExposure2012 (2) | 0.543500 |
CircGradBasedCorrExposure2012 (6) | 0.152250 |
CircGradBasedCorrExposure2012 (9) | 0.260750 |
CircGradBasedCorrExposure2012 | 0.195750 |
CircGradBasedCorrHighlights2012 | 0.000000 |
CircGradBasedCorrHue | 101.000000 |
CircGradBasedCorrLocalBlacks2012 (10) | 0.000000 |
CircGradBasedCorrLocalBlacks2012 | -0.108700 |
CircGradBasedCorrLocalDehaze | 0.000000 |
CircGradBasedCorrLocalTexture | 0.000000 |
CircGradBasedCorrLocalWhites2012 | 0.000000 |
CircGradBasedCorrLuminanceNoise | 0.000000 |
CircGradBasedCorrMaskAngle | 0.000000 |
CircGradBasedCorrMaskBottom (1) | 0.572760 |
CircGradBasedCorrMaskBottom (10) | 0.368610 |
CircGradBasedCorrMaskBottom (11) | 0.364181 |
CircGradBasedCorrMaskBottom (12) | 0.824980 |
CircGradBasedCorrMaskBottom (13) | 0.773881 |
CircGradBasedCorrMaskBottom (2) | 0.680279 |
CircGradBasedCorrMaskBottom (3) | 0.666394 |
CircGradBasedCorrMaskBottom (4) | 0.657394 |
CircGradBasedCorrMaskBottom (5) | 0.626907 |
CircGradBasedCorrMaskBottom (6) | 0.612960 |
CircGradBasedCorrMaskBottom (7) | 0.590061 |
CircGradBasedCorrMaskBottom (8) | 0.562926 |
CircGradBasedCorrMaskBottom (9) | 0.632651 |
CircGradBasedCorrMaskBottom | 0.927870 |
CircGradBasedCorrMaskFeather | +100 |
CircGradBasedCorrMaskFlipped | true |
CircGradBasedCorrMaskLeft (1) | 0.578868 |
CircGradBasedCorrMaskLeft (10) | 0.510767 |
CircGradBasedCorrMaskLeft (11) | 0.408625 |
CircGradBasedCorrMaskLeft (12) | 0.491745 |
CircGradBasedCorrMaskLeft (13) | 0.301078 |
CircGradBasedCorrMaskLeft (2) | 0.595996 |
CircGradBasedCorrMaskLeft (3) | 0.645165 |
CircGradBasedCorrMaskLeft (4) | 0.680736 |
CircGradBasedCorrMaskLeft (5) | 0.719102 |
CircGradBasedCorrMaskLeft (6) | 0.762308 |
CircGradBasedCorrMaskLeft (7) | 0.799730 |
CircGradBasedCorrMaskLeft (8) | 0.850698 |
CircGradBasedCorrMaskLeft (9) | 0.553618 |
CircGradBasedCorrMaskLeft | 0.590982 |
CircGradBasedCorrMaskMidpoint | +50 |
CircGradBasedCorrMaskRight (1) | 0.627257 |
CircGradBasedCorrMaskRight (10) | 0.611744 |
CircGradBasedCorrMaskRight (11) | 0.509834 |
CircGradBasedCorrMaskRight (12) | 0.688544 |
CircGradBasedCorrMaskRight (13) | 0.542244 |
CircGradBasedCorrMaskRight (2) | 0.644175 |
CircGradBasedCorrMaskRight (3) | 0.693318 |
CircGradBasedCorrMaskRight (4) | 0.728867 |
CircGradBasedCorrMaskRight (5) | 0.767248 |
CircGradBasedCorrMaskRight (6) | 0.810434 |
CircGradBasedCorrMaskRight (7) | 0.847859 |
CircGradBasedCorrMaskRight (8) | 0.898822 |
CircGradBasedCorrMaskRight (9) | 0.585818 |
CircGradBasedCorrMaskRight | 0.829316 |
CircGradBasedCorrMaskRoundness | 0 |
CircGradBasedCorrMaskTop (1) | 0.474713 |
CircGradBasedCorrMaskTop (10) | 0.289030 |
CircGradBasedCorrMaskTop (11) | 0.284418 |
CircGradBasedCorrMaskTop (12) | 0.746767 |
CircGradBasedCorrMaskTop (13) | 0.657110 |
CircGradBasedCorrMaskTop (2) | 0.582654 |
CircGradBasedCorrMaskTop (3) | 0.568821 |
CircGradBasedCorrMaskTop (4) | 0.559862 |
CircGradBasedCorrMaskTop (5) | 0.529345 |
CircGradBasedCorrMaskTop (6) | 0.515438 |
CircGradBasedCorrMaskTop (7) | 0.492534 |
CircGradBasedCorrMaskTop (8) | 0.465408 |
CircGradBasedCorrMaskTop (9) | 0.553849 |
CircGradBasedCorrMaskTop | 0.812469 |
CircGradBasedCorrMaskValue | 1.000000 |
CircGradBasedCorrMaskVersion | +2 |
CircGradBasedCorrMaskWhat | Mask/CircularGradient |
CircGradBasedCorrMoire | 0.000000 |
CircGradBasedCorrSaturation | 0.000000 |
CircGradBasedCorrShadows2012 | 0.000000 |
CircGradBasedCorrSharpness | 0.000000 |
CircGradBasedCorrTemperature | 0.000000 |
CircGradBasedCorrTint | 0.000000 |
CircGradBasedCorrWhat | Correction |
CircleOfConfusion | 0.020 mm |
Clarity2012 | +12 |
ColorComponents | 3 |
ColorNoiseReduction | 25 |
ColorNoiseReductionDetail | 50 |
ColorNoiseReductionSmoothness | 50 |
ColorSpace | sRGB |
ColorTransform | YCbCr |
Contrast2012 | +36 |
ConvertToGrayscale | True |
CreateDate | 2019:10:07 11:53:12 |
Creator | ARILD THINGVOLL |
CreatorTool | Adobe Photoshop Lightroom Classic 8.4.1 (Windows) |
CropAngle | 0 |
CropBottom | 0.911717 |
CropConstrainToWarp | 0 |
CropLeft | 0.273943 |
CropRight | 1 |
CropTop | 0.099519 |
CustomRendered | Custom |
DateCreated (1) | 2019:10:07 |
DateCreated | 2019:10:07 11:53:12 |
DateTimeOriginal | 2019:10:07 11:53:12 |
Dehaze | 0 |
Exposure2012 | +0.03 |
ExposureCompensation | -0.67 |
ExposureMode | Auto |
ExposureProgram | Aperture-priority AE |
ExposureTime | 1/680 |
Flash | No Flash |
FNumber | 8.0 |
FocalLength | 16.0 mm |
FocalLength35efl | 16.0 mm (35 mm equivalent: 24.0 mm) |
FocalLengthIn35mmFormat | 24 mm |
Format | image/jpeg |
FOV | 73.7 deg |
GradientBasedCorrActive | true |
GradientBasedCorrAmount | 1.000000 |
GradientBasedCorrBrightness | 0.000000 |
GradientBasedCorrClarity2012 | 0.000000 |
GradientBasedCorrContrast2012 | 0.000000 |
GradientBasedCorrCorrectionRangeMaskColorAmount | 0.500000 |
GradientBasedCorrCorrectionRangeMaskDepthFeather | 0.500000 |
GradientBasedCorrCorrectionRangeMaskDepthMax | 1.000000 |
GradientBasedCorrCorrectionRangeMaskDepthMin | 0.000000 |
GradientBasedCorrCorrectionRangeMaskLumFeather | 0.500000 |
GradientBasedCorrCorrectionRangeMaskLumMax | 1.000000 |
GradientBasedCorrCorrectionRangeMaskLumMin | 0.000000 |
GradientBasedCorrCorrectionRangeMaskType | 0 |
GradientBasedCorrCorrectionRangeMaskVersion | +2 |
GradientBasedCorrDefringe | 0.000000 |
GradientBasedCorrExposure2012 | -0.195750 |
GradientBasedCorrHighlights2012 | 0.000000 |
GradientBasedCorrHue | 101.000000 |
GradientBasedCorrLocalBlacks2012 | -0.108700 |
GradientBasedCorrLocalDehaze | 0.000000 |
GradientBasedCorrLocalTexture | 0.000000 |
GradientBasedCorrLocalWhites2012 | 0.000000 |
GradientBasedCorrLuminanceNoise | 0.000000 |
GradientBasedCorrMaskFullX (1) | 0.634091 |
GradientBasedCorrMaskFullX | 0.631359 |
GradientBasedCorrMaskFullY (1) | 0.142119 |
GradientBasedCorrMaskFullY | 0.863640 |
GradientBasedCorrMaskValue | 1.000000 |
GradientBasedCorrMaskWhat | Mask/Gradient |
GradientBasedCorrMaskZeroX (1) | 0.631518 |
GradientBasedCorrMaskZeroX | 0.632659 |
GradientBasedCorrMaskZeroY (1) | 0.368726 |
GradientBasedCorrMaskZeroY | 0.750504 |
GradientBasedCorrMoire | 0.000000 |
GradientBasedCorrSaturation | 0.000000 |
GradientBasedCorrShadows2012 | 0.000000 |
GradientBasedCorrSharpness | 0.000000 |
GradientBasedCorrTemperature | 0.000000 |
GradientBasedCorrTint | 0.000000 |
GradientBasedCorrWhat | Correction |
GrainAmount | 0 |
GrayMixerAqua | -18 |
GrayMixerBlue | -28 |
GrayMixerGreen | -28 |
GrayMixerMagenta | +4 |
GrayMixerOrange | -21 |
GrayMixerPurple | +19 |
GrayMixerRed | -11 |
GrayMixerYellow | -25 |
GreenHue | 0 |
GreenSaturation | 0 |
HasCrop | True |
HasSettings | True |
Highlights2012 | -100 |
HyperfocalDistance | 1.60 m |
ImageHeight | 850 |
ImageSize | 1140x850 |
ImageWidth | 1140 |
IncrementalTemperature | 0 |
IncrementalTint | 0 |
ISO | 800 |
Keywords | 1019, Oslo, SK, oktober |
Lens | XF16mmF1.4 R WR |
LensInfo | 16mm f/1.4 |
LensMake | FUJIFILM |
LensManualDistortionAmount | 0 |
LensModel | XF16mmF1.4 R WR |
LensProfileEnable | 1 |
LensProfileSetup | LensDefaults |
LensSerialNumber | 76A00436 |
LightSource | Unknown |
LightValue | 12.4 |
LookName | |
LuminanceNoiseReductionContrast | 0 |
LuminanceNoiseReductionDetail | 50 |
LuminanceSmoothing | 11 |
Make | FUJIFILM |
MaxApertureValue | 1.4 |
Megapixels | 0.969 |
MeteringMode | Multi-segment |
Model | X-H1 |
ModifyDate (1) | 2019:10:27 19:46:48+01:00 |
ModifyDate | 2019:10:27 19:46:48 |
OverrideLookVignette | False |
PaintCorrectionActive | true |
PaintCorrectionAmount | 1.000000 |
PaintCorrectionBrightness | 0.000000 |
PaintCorrectionClarity2012 | 0.000000 |
PaintCorrectionContrast2012 | 0.000000 |
PaintCorrectionCorrectionRangeMaskColorAmount | 0.500000 |
PaintCorrectionCorrectionRangeMaskDepthFeather | 0.500000 |
PaintCorrectionCorrectionRangeMaskDepthMax | 1.000000 |
PaintCorrectionCorrectionRangeMaskDepthMin | 0.000000 |
PaintCorrectionCorrectionRangeMaskLumFeather | 0.500000 |
PaintCorrectionCorrectionRangeMaskLumMax | 1.000000 |
PaintCorrectionCorrectionRangeMaskLumMin | 0.000000 |
PaintCorrectionCorrectionRangeMaskType | 0 |
PaintCorrectionCorrectionRangeMaskVersion | +2 |
PaintCorrectionDefringe | 0.000000 |
PaintCorrectionExposure2012 (1) | 0.000000 |
PaintCorrectionExposure2012 | 0.152250 |
PaintCorrectionHighlights2012 | 0.000000 |
PaintCorrectionHue | 101.000000 |
PaintCorrectionLocalBlacks2012 | 0.000000 |
PaintCorrectionLocalDehaze | 0.000000 |
PaintCorrectionLocalTexture | 0.000000 |
PaintCorrectionLocalWhites2012 | 0.000000 |
PaintCorrectionLuminanceNoise | 0.000000 |
PaintCorrectionMaskCenterWeight | 0.000000 |
PaintCorrectionMaskFlow | 1.000000 |
PaintCorrectionMaskRadius (1) | 0.060576 |
PaintCorrectionMaskRadius (10) | 0.045182 |
PaintCorrectionMaskRadius (11) | 0.045010 |
PaintCorrectionMaskRadius (12) | 0.050268 |
PaintCorrectionMaskRadius (13) | 0.029430 |
PaintCorrectionMaskRadius (14) | 0.029390 |
PaintCorrectionMaskRadius (15) | 0.029351 |
PaintCorrectionMaskRadius (2) | 0.024523 |
PaintCorrectionMaskRadius (3) | 0.034362 |
PaintCorrectionMaskRadius (5) | 0.044992 |
PaintCorrectionMaskRadius (6) | 0.045293 |
PaintCorrectionMaskRadius (7) | 0.045360 |
PaintCorrectionMaskRadius (8) | 0.045337 |
PaintCorrectionMaskRadius (9) | 0.045250 |
PaintCorrectionMaskRadius | 0.029405 |
PaintCorrectionMaskValue | 1.000000 |
PaintCorrectionMaskWhat | Mask/Paint |
PaintCorrectionMoire | 0.000000 |
PaintCorrectionSaturation | 0.000000 |
PaintCorrectionShadows2012 | 0.000000 |
PaintCorrectionSharpness | 0.000000 |
PaintCorrectionTemperature | 0.000000 |
PaintCorrectionTint | 0.000000 |
PaintCorrectionWhat | Correction |
ParametricDarks | 0 |
ParametricHighlights | 0 |
ParametricHighlightSplit | 75 |
ParametricLights | 0 |
ParametricMidtoneSplit | 50 |
ParametricShadows | 0 |
ParametricShadowSplit | 25 |
PerspectiveAspect | 0 |
PerspectiveHorizontal | 0 |
PerspectiveRotate | 0.0 |
PerspectiveScale | 100 |
PerspectiveUpright | 1 |
PerspectiveVertical | 0 |
PerspectiveX | 0.00 |
PerspectiveY | 0.00 |
PostCropVignetteAmount | 0 |
PreservedFileName | XH109528.JPG |
ProcessVersion | 11.0 |
ProfileDescription | sRGB IEC61966-2.1 |
Rating | 3 |
RawFileName | |
RedHue | 0 |
RedSaturation | 0 |
ScaleFactor35efl | 1.5 |
SceneCaptureType | Standard |
SceneType | Directly photographed |
SensingMethod | One-chip color area |
SensitivityType | Standard Output Sensitivity |
SerialNumber | 81A55422 |
Shadows2012 | +97 |
ShadowTint | 0 |
SharpenDetail | 25 |
SharpenEdgeMasking | 61 |
SharpenRadius | +1.0 |
Sharpness (1) | 74 |
Sharpness | Normal |
ShutterSpeed | 1/680 |
ShutterSpeedValue | 1/680 |
Software | Adobe Photoshop Lightroom Classic 8.4.1 (Windows) |
SplitToningBalance | 0 |
SplitToningHighlightHue | 0 |
SplitToningHighlightSaturation | 0 |
SplitToningShadowHue | 0 |
SplitToningShadowSaturation | 0 |
Subject | 1019, Oslo, SK, oktober |
SubjectDistanceRange | Unknown |
Texture | 0 |
ToneCurve | 0, 0, 255, 255 |
ToneCurveBlue | 0, 0, 255, 255 |
ToneCurveGreen | 0, 0, 255, 255 |
ToneCurveName | Linear |
ToneCurveName2012 | Linear |
ToneCurvePV2012 | 0, 0, 255, 255 |
ToneCurvePV2012Blue | 0, 0, 255, 255 |
ToneCurvePV2012Green | 0, 0, 255, 255 |
ToneCurvePV2012Red | 0, 0, 255, 255 |
ToneCurveRed | 0, 0, 255, 255 |
ToneMapStrength | 0 |
Version | 11.4.1 |
VignetteAmount | 0 |
WhiteBalance (1) | As Shot |
WhiteBalance | Auto |
Whites2012 | +27 |