Felt | Verdi |
AlreadyApplied | True |
Aperture | 7.1 |
ApertureValue | 7.1 |
Artist | ARILD THINGVOLL |
AutoLateralCA | 0 |
BitsPerSample | 8 |
Blacks2012 | -56 |
BlueHue | 0 |
BlueSaturation | 0 |
BrightnessValue | 4.89 |
By-line | ARILD THINGVOLL |
CameraProfile | Adobe Standard |
CircGradBasedCorrActive | true |
CircGradBasedCorrAmount | 1.000000 |
CircGradBasedCorrBrightness | 0.000000 |
CircGradBasedCorrClarity2012 (5) | 0.503720 |
CircGradBasedCorrClarity2012 | 0.000000 |
CircGradBasedCorrContrast2012 | 0.000000 |
CircGradBasedCorrCorrectionRangeMaskLumMax | 1.000000 |
CircGradBasedCorrCorrectionRangeMaskLumMin | 0.000000 |
CircGradBasedCorrCorrectionRangeMaskType | 0 |
CircGradBasedCorrCorrectionRangeMaskVersion | +2 |
CircGradBasedCorrDefringe | 0.000000 |
CircGradBasedCorrExposure2012 (10) | 0.122750 |
CircGradBasedCorrExposure2012 (12) | 0.140250 |
CircGradBasedCorrExposure2012 (8) | 0.182927 |
CircGradBasedCorrExposure2012 | 0.052750 |
CircGradBasedCorrHighlights2012 | 0.000000 |
CircGradBasedCorrHue (1) | 0.000000 |
CircGradBasedCorrHue | 139.000000 |
CircGradBasedCorrLocalBlacks2012 | 0.000000 |
CircGradBasedCorrLocalDehaze | 0.000000 |
CircGradBasedCorrLocalHue | 0.000000 |
CircGradBasedCorrLocalTexture | 0.000000 |
CircGradBasedCorrLocalWhites2012 | 0.000000 |
CircGradBasedCorrLuminanceNoise | 0.000000 |
CircGradBasedCorrMaskAngle | 0.000000 |
CircGradBasedCorrMaskBottom (1) | 0.710283 |
CircGradBasedCorrMaskBottom (10) | 0.273695 |
CircGradBasedCorrMaskBottom (11) | 0.281641 |
CircGradBasedCorrMaskBottom (12) | 0.283712 |
CircGradBasedCorrMaskBottom (13) | 0.276693 |
CircGradBasedCorrMaskBottom (2) | 0.635001 |
CircGradBasedCorrMaskBottom (3) | 0.669259 |
CircGradBasedCorrMaskBottom (4) | 0.873719 |
CircGradBasedCorrMaskBottom (5) | 1.013830 |
CircGradBasedCorrMaskBottom (6) | 0.601998 |
CircGradBasedCorrMaskBottom (8) | 1.024790 |
CircGradBasedCorrMaskBottom (9) | 0.269699 |
CircGradBasedCorrMaskBottom | 0.273592 |
CircGradBasedCorrMaskFeather | +100 |
CircGradBasedCorrMaskFlipped | true |
CircGradBasedCorrMaskLeft (1) | 0.314724 |
CircGradBasedCorrMaskLeft (10) | 0.576795 |
CircGradBasedCorrMaskLeft (11) | 0.111679 |
CircGradBasedCorrMaskLeft (12) | 0.221741 |
CircGradBasedCorrMaskLeft (13) | 0.345676 |
CircGradBasedCorrMaskLeft (2) | 0.167332 |
CircGradBasedCorrMaskLeft (3) | 0.736747 |
CircGradBasedCorrMaskLeft (4) | 0.733337 |
CircGradBasedCorrMaskLeft (5) | -0.039430 |
CircGradBasedCorrMaskLeft (6) | 0.245893 |
CircGradBasedCorrMaskLeft (7) | 0.302568 |
CircGradBasedCorrMaskLeft (8) | 0.519208 |
CircGradBasedCorrMaskLeft (9) | 0.764465 |
CircGradBasedCorrMaskLeft | 0.456768 |
CircGradBasedCorrMaskMidpoint | +50 |
CircGradBasedCorrMaskRight (1) | 0.472753 |
CircGradBasedCorrMaskRight (10) | 0.655363 |
CircGradBasedCorrMaskRight (11) | 0.187403 |
CircGradBasedCorrMaskRight (12) | 0.298138 |
CircGradBasedCorrMaskRight (13) | 0.422827 |
CircGradBasedCorrMaskRight (2) | 0.326246 |
CircGradBasedCorrMaskRight (3) | 0.895998 |
CircGradBasedCorrMaskRight (4) | 0.894292 |
CircGradBasedCorrMaskRight (5) | 0.409252 |
CircGradBasedCorrMaskRight (6) | 0.660925 |
CircGradBasedCorrMaskRight (7) | 0.751250 |
CircGradBasedCorrMaskRight (8) | 0.967890 |
CircGradBasedCorrMaskRight (9) | 0.844187 |
CircGradBasedCorrMaskRight | 0.534598 |
CircGradBasedCorrMaskRoundness | 0 |
CircGradBasedCorrMaskTop (1) | 0.352466 |
CircGradBasedCorrMaskTop (10) | 0.096036 |
CircGradBasedCorrMaskTop (11) | 0.110413 |
CircGradBasedCorrMaskTop (12) | 0.110962 |
CircGradBasedCorrMaskTop (13) | 0.102238 |
CircGradBasedCorrMaskTop (2) | 0.363284 |
CircGradBasedCorrMaskTop (3) | 0.357571 |
CircGradBasedCorrMaskTop (4) | 0.598514 |
CircGradBasedCorrMaskTop (5) | 0.852807 |
CircGradBasedCorrMaskTop (6) | 0.298209 |
CircGradBasedCorrMaskTop (7) | 0.863759 |
CircGradBasedCorrMaskTop (9) | 0.089432 |
CircGradBasedCorrMaskTop | 0.097601 |
CircGradBasedCorrMaskValue | 1.000000 |
CircGradBasedCorrMaskVersion | +2 |
CircGradBasedCorrMaskWhat | Mask/CircularGradient |
CircGradBasedCorrMoire | 0.000000 |
CircGradBasedCorrSaturation | 0.000000 |
CircGradBasedCorrShadows2012 (3) | 0.210530 |
CircGradBasedCorrShadows2012 (8) | 0.000000 |
CircGradBasedCorrShadows2012 | 0.280700 |
CircGradBasedCorrSharpness | 0.000000 |
CircGradBasedCorrTemperature | 0.000000 |
CircGradBasedCorrTint | 0.000000 |
CircGradBasedCorrWhat | Correction |
CircleOfConfusion | 0.020 mm |
Clarity2012 | -7 |
ColorComponents | 3 |
ColorNoiseReduction | 25 |
ColorNoiseReductionDetail | 50 |
ColorNoiseReductionSmoothness | 50 |
ColorSpace | sRGB |
ColorTemperature | 5100 |
ColorTransform | YCbCr |
Contrast2012 | +59 |
ConvertToGrayscale | True |
CreateDate | 2020:07:06 13:09:32 |
Creator | ARILD THINGVOLL |
CropAngle | 0 |
CropBottom | 0.98115 |
CropConstrainToWarp | 0 |
CropLeft | 0.038945 |
CropRight | 0.943467 |
CropTop | 0.01508 |
CustomRendered | Normal |
DateCreated (1) | 2020:07:06 |
DateCreated | 2020:07:06 13:09:32 |
DateTimeOriginal | 2020:07:06 13:09:32 |
Dehaze | 0 |
DistortionCorrectionAlreadyApplied | True |
Exposure2012 | -0.53 |
ExposureCompensation | -1 |
ExposureMode | Auto |
ExposureProgram | Aperture-priority AE |
ExposureTime | 1/110 |
Flash | No Flash |
FNumber | 7.1 |
FocalLength | 27.0 mm |
FocalLength35efl | 27.0 mm (35 mm equivalent: 41.0 mm) |
FocalLengthIn35mmFormat | 41 mm |
Format | image/jpeg |
FOV | 47.4 deg |
FujiRatingAlreadyApplied | True |
GradientBasedCorrActive | true |
GradientBasedCorrAmount | 1.000000 |
GradientBasedCorrBrightness | 0.000000 |
GradientBasedCorrClarity2012 | 0.000000 |
GradientBasedCorrContrast2012 | 0.000000 |
GradientBasedCorrCorrectionRangeMaskLumMax | 1.000000 |
GradientBasedCorrCorrectionRangeMaskLumMin | 0.000000 |
GradientBasedCorrCorrectionRangeMaskType | 0 |
GradientBasedCorrCorrectionRangeMaskVersion | +2 |
GradientBasedCorrDefringe | 0.000000 |
GradientBasedCorrExposure2012 | -0.224752 |
GradientBasedCorrHighlights2012 | 0.000000 |
GradientBasedCorrHue | 0.000000 |
GradientBasedCorrLocalBlacks2012 | 0.000000 |
GradientBasedCorrLocalDehaze | 0.000000 |
GradientBasedCorrLocalWhites2012 | 0.000000 |
GradientBasedCorrLuminanceNoise | 0.000000 |
GradientBasedCorrMaskFullX (1) | 0.577824 |
GradientBasedCorrMaskFullX (2) | 0.636757 |
GradientBasedCorrMaskFullX | 0.537621 |
GradientBasedCorrMaskFullY (1) | 0.171028 |
GradientBasedCorrMaskFullY (2) | -0.019106 |
GradientBasedCorrMaskFullY | 1.058040 |
GradientBasedCorrMaskValue | 1.000000 |
GradientBasedCorrMaskWhat | Mask/Gradient |
GradientBasedCorrMaskZeroX (1) | 0.573484 |
GradientBasedCorrMaskZeroX (2) | 0.636566 |
GradientBasedCorrMaskZeroX | 0.535785 |
GradientBasedCorrMaskZeroY (1) | 0.471987 |
GradientBasedCorrMaskZeroY (2) | 0.190582 |
GradientBasedCorrMaskZeroY | 0.797138 |
GradientBasedCorrMoire | 0.000000 |
GradientBasedCorrSaturation | 0.000000 |
GradientBasedCorrShadows2012 | 0.000000 |
GradientBasedCorrSharpness | 0.000000 |
GradientBasedCorrTemperature | 0.000000 |
GradientBasedCorrTint | 0.000000 |
GradientBasedCorrWhat | Correction |
GrainAmount | 0 |
GrayMixerAqua | -18 |
GrayMixerBlue | -28 |
GrayMixerGreen | -28 |
GrayMixerMagenta | +4 |
GrayMixerOrange | -21 |
GrayMixerPurple | +19 |
GrayMixerRed | -11 |
GrayMixerYellow | -25 |
GreenHue | 0 |
GreenSaturation | 0 |
HasCrop | True |
HasExtendedXMP | D277C40B1B3B5D627FEAC06D3FA0FD92 |
HasSettings | True |
Highlights2012 | -40 |
HyperfocalDistance | 5.19 m |
ImageHeight | 1424 |
ImageSize | 2000x1424 |
ImageWidth | 2000 |
ISO | 400 |
Keywords | 0720, Bakklandet, Gatefoto, SK, Trondheim |
Lens | XF27mmF2.8 |
LensInfo | 27mm f/2.8 |
LensMake | FUJIFILM |
LensManualDistortionAmount | 0 |
LensModel | XF27mmF2.8 |
LensProfileEnable | 1 |
LensProfileSetup | LensDefaults |
LensSerialNumber | 33A03683 |
LightSource | Unknown |
LightValue | 10.4 |
LookName | |
LuminanceNoiseReductionContrast | 0 |
LuminanceNoiseReductionDetail | 50 |
LuminanceSmoothing | 14 |
Make | FUJIFILM |
MaxApertureValue | 2.8 |
Megapixels | 2.8 |
MeteringMode | Multi-segment |
Model | X-H1 |
ModifyDate (1) | 2020:08:01 23:10:54+02:00 |
ModifyDate | 2020:08:01 23:10:54 |
OverrideLookVignette | False |
PaintCorrectionActive | true |
PaintCorrectionAmount | 1.000000 |
PaintCorrectionBrightness | 0.000000 |
PaintCorrectionClarity2012 | 0.000000 |
PaintCorrectionContrast2012 | 0.000000 |
PaintCorrectionCorrectionRangeMaskDepthMax | 1.000000 |
PaintCorrectionCorrectionRangeMaskDepthMin | 0.000000 |
PaintCorrectionCorrectionRangeMaskLumMax | 1.000000 |
PaintCorrectionCorrectionRangeMaskLumMin | 0.000000 |
PaintCorrectionCorrectionRangeMaskType | 0 |
PaintCorrectionCorrectionRangeMaskVersion | +2 |
PaintCorrectionDefringe | 0.000000 |
PaintCorrectionExposure2012 (1) | 0.175500 |
PaintCorrectionExposure2012 (2) | 0.052750 |
PaintCorrectionExposure2012 (3) | 0.000000 |
PaintCorrectionExposure2012 (5) | 0.070250 |
PaintCorrectionExposure2012 | 0.087750 |
PaintCorrectionHighlights2012 (1) | 0.052630 |
PaintCorrectionHighlights2012 | 0.000000 |
PaintCorrectionHue | 139.000000 |
PaintCorrectionLocalBlacks2012 | 0.000000 |
PaintCorrectionLocalDehaze | 0.000000 |
PaintCorrectionLocalHue | 0.000000 |
PaintCorrectionLocalTexture | 0.000000 |
PaintCorrectionLocalWhites2012 | 0.000000 |
PaintCorrectionLuminanceNoise | 0.000000 |
PaintCorrectionMaskCenterWeight | 1.000000 |
PaintCorrectionMaskFlow | 1.000000 |
PaintCorrectionMaskRadius (1) | 0.033217 |
PaintCorrectionMaskRadius (10) | 0.022773 |
PaintCorrectionMaskRadius (11) | 0.022969 |
PaintCorrectionMaskRadius (12) | 0.023129 |
PaintCorrectionMaskRadius (13) | 0.023134 |
PaintCorrectionMaskRadius (14) | 0.023088 |
PaintCorrectionMaskRadius (15) | 0.023082 |
PaintCorrectionMaskRadius (16) | 0.023005 |
PaintCorrectionMaskRadius (17) | 0.023036 |
PaintCorrectionMaskRadius (18) | 0.023084 |
PaintCorrectionMaskRadius (19) | 0.022708 |
PaintCorrectionMaskRadius (2) | 0.034101 |
PaintCorrectionMaskRadius (20) | 0.022711 |
PaintCorrectionMaskRadius (21) | 0.022721 |
PaintCorrectionMaskRadius (22) | 0.022870 |
PaintCorrectionMaskRadius (23) | 0.022850 |
PaintCorrectionMaskRadius (24) | 0.022863 |
PaintCorrectionMaskRadius (25) | 0.022841 |
PaintCorrectionMaskRadius (26) | 0.022848 |
PaintCorrectionMaskRadius (27) | 0.022344 |
PaintCorrectionMaskRadius (28) | 0.022794 |
PaintCorrectionMaskRadius (29) | 0.022792 |
PaintCorrectionMaskRadius (3) | 0.033182 |
PaintCorrectionMaskRadius (30) | 0.023001 |
PaintCorrectionMaskRadius (31) | 0.023091 |
PaintCorrectionMaskRadius (32) | 0.024760 |
PaintCorrectionMaskRadius (33) | 0.024967 |
PaintCorrectionMaskRadius (34) | 0.022334 |
PaintCorrectionMaskRadius (35) | 0.021915 |
PaintCorrectionMaskRadius (36) | 0.021725 |
PaintCorrectionMaskRadius (37) | 0.022548 |
PaintCorrectionMaskRadius (38) | 0.022900 |
PaintCorrectionMaskRadius (39) | 0.022596 |
PaintCorrectionMaskRadius (4) | 0.007610 |
PaintCorrectionMaskRadius (40) | 0.022879 |
PaintCorrectionMaskRadius (41) | 0.021827 |
PaintCorrectionMaskRadius (42) | 0.022628 |
PaintCorrectionMaskRadius (43) | 0.022939 |
PaintCorrectionMaskRadius (44) | 0.022868 |
PaintCorrectionMaskRadius (45) | 0.022842 |
PaintCorrectionMaskRadius (46) | 0.023037 |
PaintCorrectionMaskRadius (47) | 0.023094 |
PaintCorrectionMaskRadius (48) | 0.022395 |
PaintCorrectionMaskRadius (49) | 0.022451 |
PaintCorrectionMaskRadius (5) | 0.022809 |
PaintCorrectionMaskRadius (50) | 0.022679 |
PaintCorrectionMaskRadius (51) | 0.022617 |
PaintCorrectionMaskRadius (52) | 0.021859 |
PaintCorrectionMaskRadius (53) | 0.021800 |
PaintCorrectionMaskRadius (54) | 0.021797 |
PaintCorrectionMaskRadius (6) | 0.022400 |
PaintCorrectionMaskRadius (7) | 0.022410 |
PaintCorrectionMaskRadius (8) | 0.022307 |
PaintCorrectionMaskRadius (9) | 0.022499 |
PaintCorrectionMaskRadius | 0.021840 |
PaintCorrectionMaskValue | 0.691000 |
PaintCorrectionMaskWhat | Mask/Paint |
PaintCorrectionMoire | 0.000000 |
PaintCorrectionSaturation | 0.000000 |
PaintCorrectionShadows2012 (1) | 0.052630 |
PaintCorrectionShadows2012 | 0.000000 |
PaintCorrectionSharpness | 0.000000 |
PaintCorrectionTemperature (3) | 0.192980 |
PaintCorrectionTemperature | 0.000000 |
PaintCorrectionTint | 0.000000 |
PaintCorrectionWhat | Correction |
ParametricDarks | 0 |
ParametricHighlights | 0 |
ParametricHighlightSplit | 75 |
ParametricLights | 0 |
ParametricMidtoneSplit | 50 |
ParametricShadows | +91 |
ParametricShadowSplit | 25 |
PerspectiveAspect | 0 |
PerspectiveHorizontal | 0 |
PerspectiveRotate | 0.0 |
PerspectiveScale | 100 |
PerspectiveUpright | 5 |
PerspectiveVertical | 0 |
PerspectiveX | 0.00 |
PerspectiveY | 0.00 |
PostCropVignetteAmount | 0 |
PreservedFileName | XH103346.RAF |
ProcessVersion | 11.0 |
ProfileDescription | sRGB IEC61966-2.1 |
Rating | 2 |
RawFileName | A. Thingvoll_2020_00306-242.RAF |
RedHue | 0 |
RedSaturation | 0 |
ScaleFactor35efl | 1.5 |
SceneCaptureType | Standard |
SceneType | Directly photographed |
SensingMethod | One-chip color area |
SensitivityType | Standard Output Sensitivity |
SerialNumber | 81A55422 |
Shadows2012 | +97 |
ShadowTint | 0 |
SharpenDetail | 25 |
SharpenEdgeMasking | 58 |
SharpenRadius | +1.0 |
Sharpness (1) | 89 |
Sharpness | Normal |
ShutterSpeed | 1/110 |
ShutterSpeedValue | 1/110 |
SplitToningBalance | 0 |
SplitToningHighlightHue | 0 |
SplitToningHighlightSaturation | 0 |
SplitToningShadowHue | 0 |
SplitToningShadowSaturation | 0 |
Subject | 0720, Bakklandet, Gatefoto, SK, Trondheim |
SubjectDistanceRange | Unknown |
Texture | 0 |
Tint | +15 |
ToneCurve | 0, 0, 255, 255 |
ToneCurveBlue | 0, 0, 255, 255 |
ToneCurveGreen | 0, 0, 255, 255 |
ToneCurveName | Linear |
ToneCurveName2012 | Linear |
ToneCurvePV2012 | 0, 0, 255, 255 |
ToneCurvePV2012Blue | 0, 0, 255, 255 |
ToneCurvePV2012Green | 0, 0, 255, 255 |
ToneCurvePV2012Red | 0, 0, 255, 255 |
ToneCurveRed | 0, 0, 255, 255 |
ToneMapStrength | 0 |
Version | 12.3 |
VignetteAmount | 0 |
VignetteCorrectionAlreadyApplied | True |
WhiteBalance (1) | As Shot |
WhiteBalance | Auto |
Whites2012 | +50 |