Felt | Verdi |
AlreadyApplied | True |
Aperture | 8.0 |
ApertureValue | 8.0 |
ApproximateFocusDistance | 4294967295 |
AutoLateralCA | 1 |
BitsPerSample | 8 |
Blacks2012 | +8 |
BlueHue | 0 |
BlueSaturation | 0 |
CameraProfile | Adobe Standard |
CFAPattern | [Red,Green][Green,Blue] |
CircGradBasedCorrActive | true |
CircGradBasedCorrAmount | 1.000000 |
CircGradBasedCorrBrightness | 0.000000 |
CircGradBasedCorrClarity2012 (1) | 0.085754 |
CircGradBasedCorrClarity2012 (3) | 0.109240 |
CircGradBasedCorrClarity2012 | 0.092440 |
CircGradBasedCorrContrast2012 (1) | 0.098769 |
CircGradBasedCorrContrast2012 (2) | 0.142860 |
CircGradBasedCorrContrast2012 (3) | 0.100000 |
CircGradBasedCorrContrast2012 | 0.112860 |
CircGradBasedCorrCorrectionRangeMaskColorAmount | 0.500000 |
CircGradBasedCorrCorrectionRangeMaskDepthFeather | 0.500000 |
CircGradBasedCorrCorrectionRangeMaskDepthMax | 1.000000 |
CircGradBasedCorrCorrectionRangeMaskDepthMin | 0.000000 |
CircGradBasedCorrCorrectionRangeMaskLumFeather | 0.500000 |
CircGradBasedCorrCorrectionRangeMaskLumMax | 1.000000 |
CircGradBasedCorrCorrectionRangeMaskLumMin | 0.000000 |
CircGradBasedCorrCorrectionRangeMaskType | 0 |
CircGradBasedCorrCorrectionRangeMaskVersion | +2 |
CircGradBasedCorrDefringe | 0.000000 |
CircGradBasedCorrExposure2012 (1) | 0.069575 |
CircGradBasedCorrExposure2012 (2) | 0.100000 |
CircGradBasedCorrExposure2012 | 0.075000 |
CircGradBasedCorrHighlights2012 | 0.000000 |
CircGradBasedCorrHue | 0.000000 |
CircGradBasedCorrLocalBlacks2012 (1) | -0.039960 |
CircGradBasedCorrLocalBlacks2012 (2) | -0.009990 |
CircGradBasedCorrLocalBlacks2012 (3) | 0.000000 |
CircGradBasedCorrLocalBlacks2012 | -0.018535 |
CircGradBasedCorrLocalDehaze | 0.000000 |
CircGradBasedCorrLocalHue | 0.000000 |
CircGradBasedCorrLocalTexture (1) | 0.226890 |
CircGradBasedCorrLocalTexture (2) | 0.210080 |
CircGradBasedCorrLocalTexture (3) | 0.176470 |
CircGradBasedCorrLocalTexture | 0.179300 |
CircGradBasedCorrLocalWhites2012 (1) | 0.142860 |
CircGradBasedCorrLocalWhites2012 (2) | 0.075630 |
CircGradBasedCorrLocalWhites2012 (3) | 0.000000 |
CircGradBasedCorrLocalWhites2012 | 0.070160 |
CircGradBasedCorrLuminanceNoise (2) | 0.092440 |
CircGradBasedCorrLuminanceNoise (3) | 0.085630 |
CircGradBasedCorrLuminanceNoise | 0.109240 |
CircGradBasedCorrMaskAngle (1) | 0.796919 |
CircGradBasedCorrMaskAngle (2) | -6.840690 |
CircGradBasedCorrMaskAngle (3) | -26.794900 |
CircGradBasedCorrMaskAngle | 1.153880 |
CircGradBasedCorrMaskBottom (1) | 0.506218 |
CircGradBasedCorrMaskBottom (2) | 0.208404 |
CircGradBasedCorrMaskBottom (3) | 0.952593 |
CircGradBasedCorrMaskBottom | 0.193841 |
CircGradBasedCorrMaskFeather | +50 |
CircGradBasedCorrMaskFlipped | true |
CircGradBasedCorrMaskLeft (1) | 0.059029 |
CircGradBasedCorrMaskLeft (2) | 0.339220 |
CircGradBasedCorrMaskLeft (3) | 0.767232 |
CircGradBasedCorrMaskLeft | 0.610897 |
CircGradBasedCorrMaskMidpoint | +50 |
CircGradBasedCorrMaskRight (1) | 0.259111 |
CircGradBasedCorrMaskRight (2) | 0.725393 |
CircGradBasedCorrMaskRight (3) | 1.070100 |
CircGradBasedCorrMaskRight | 0.741189 |
CircGradBasedCorrMaskRoundness | 0 |
CircGradBasedCorrMaskTop (1) | -0.060161 |
CircGradBasedCorrMaskTop (2) | 0.021018 |
CircGradBasedCorrMaskTop (3) | 0.593507 |
CircGradBasedCorrMaskTop | 0.053201 |
CircGradBasedCorrMaskValue | 1.000000 |
CircGradBasedCorrMaskVersion | +2 |
CircGradBasedCorrMaskWhat | Mask/CircularGradient |
CircGradBasedCorrMoire | 0.000000 |
CircGradBasedCorrSaturation (1) | 0.099240 |
CircGradBasedCorrSaturation (3) | 0.075630 |
CircGradBasedCorrSaturation (5) | 0.060000 |
CircGradBasedCorrSaturation (7) | 0.058820 |
CircGradBasedCorrSaturation | 0.000000 |
CircGradBasedCorrShadows2012 (1) | 0.513030 |
CircGradBasedCorrShadows2012 (2) | 0.411760 |
CircGradBasedCorrShadows2012 (3) | 0.267310 |
CircGradBasedCorrShadows2012 | 0.378150 |
CircGradBasedCorrSharpness | 0.000000 |
CircGradBasedCorrTemperature | 0.000000 |
CircGradBasedCorrTint | 0.000000 |
CircGradBasedCorrWhat | Correction |
CircleOfConfusion | 0.020 mm |
Clarity2012 | -9 |
ColorComponents | 3 |
ColorGradeBlending | 50 |
ColorGradeGlobalHue | 0 |
ColorGradeGlobalLum | 0 |
ColorGradeGlobalSat | 0 |
ColorGradeHighlightLum | 0 |
ColorGradeMidtoneHue | 0 |
ColorGradeMidtoneLum | 0 |
ColorGradeMidtoneSat | 0 |
ColorGradeShadowLum | 0 |
ColorNoiseReduction | 25 |
ColorNoiseReductionDetail | 50 |
ColorNoiseReductionSmoothness | 50 |
ColorSpace | sRGB |
ColorTemperature | 6022 |
ColorTransform | YCbCr |
Contrast | Normal |
Contrast2012 | -21 |
ConvertToGrayscale | False |
CreateDate (1) | 2020:10:07 17:44:18.82 |
CreateDate | 2020:10:07 17:44:18 |
CreatorTool | Adobe Photoshop Lightroom Classic 10.0 (Windows) |
CropAngle | 1.35665 |
CropBottom | 0.998184 |
CropConstrainToWarp | 0 |
CropLeft | 0.067379 |
CropRight | 0.982148 |
CropTop | 0.000953 |
CustomRendered | Normal |
DateCreated (1) | 2020:10:07 |
DateCreated | 2020:10:07 17:44:18.82 |
DateTimeOriginal | 2020:10:07 17:44:18 |
DefringeGreenAmount | 0 |
DefringeGreenHueHi | 60 |
DefringeGreenHueLo | 40 |
DefringePurpleAmount | 0 |
DefringePurpleHueHi | 70 |
DefringePurpleHueLo | 30 |
Dehaze | +16 |
DigitalZoomRatio | 1 |
DistortionCorrectionAlreadyApplied | True |
DOF | inf (7.57 m - inf) |
Exposure2012 | +0.40 |
ExposureCompensation | 0 |
ExposureMode | Manual |
ExposureProgram | Manual |
ExposureTime | 1/10 |
Flash | Off, Did not fire |
FNumber | 8.0 |
FocalLength | 35.0 mm |
FocalLength35efl | 35.0 mm (35 mm equivalent: 52.0 mm) |
FocalLengthIn35mmFormat | 52 mm |
Format | image/jpeg |
FOV | 38.2 deg |
GainControl | None |
GrainAmount | 0 |
GreenHue | 0 |
GreenSaturation | 0 |
HasCrop | True |
HasSettings | True |
Highlights2012 | -95 |
HueAdjustmentAqua | 0 |
HueAdjustmentBlue | 0 |
HueAdjustmentGreen | +3 |
HueAdjustmentMagenta | 0 |
HueAdjustmentOrange | -7 |
HueAdjustmentPurple | 0 |
HueAdjustmentRed | +2 |
HueAdjustmentYellow | -10 |
HyperfocalDistance | 7.57 m |
ImageHeight | 1200 |
ImageNumber | 37279 |
ImageSize | 1736x1200 |
ImageWidth | 1736 |
ISO | 100 |
LateralChromaticAberrationCorrectionAlreadyApplied | True |
Lens | 18.0-35.0 mm f/1.8 |
LensID (1) | 139 |
LensID | Sigma 18-35mm F1.8 DC HSM |
LensInfo | 18-35mm f/1.8 |
LensManualDistortionAmount | 0 |
LensModel | 18.0-35.0 mm f/1.8 |
LensProfileDistortionScale | 100 |
LensProfileEnable | 1 |
LensProfileFilename | NIKON CORPORATION (SIGMA 18-35mm F1.8 DC HSM A013) - RAW.lcp |
LensProfileIsEmbedded | False |
LensProfileName | Adobe (SIGMA 18-35mm F1.8 DC HSM A013, NIKON CORPORATION) |
LensProfileSetup | LensDefaults |
LensProfileVignettingScale | 100 |
LightSource | Unknown |
LightValue | 9.3 |
LuminanceAdjustmentAqua | 0 |
LuminanceAdjustmentBlue | 0 |
LuminanceAdjustmentGreen | +25 |
LuminanceAdjustmentMagenta | 0 |
LuminanceAdjustmentOrange | +8 |
LuminanceAdjustmentPurple | 0 |
LuminanceAdjustmentRed | 0 |
LuminanceAdjustmentYellow | +18 |
LuminanceNoiseReductionContrast | 5 |
LuminanceNoiseReductionDetail | 50 |
LuminanceSmoothing | 10 |
Make | NIKON CORPORATION |
MaxApertureValue | 1.7 |
Megapixels | 2.1 |
MeteringMode | Multi-segment |
Model | NIKON D7200 |
ModifyDate (1) | 2020:10:31 14:29:50+01:00 |
ModifyDate | 2020:10:31 14:29:50 |
OverrideLookVignette | True |
PaintCorrectionActive | true |
PaintCorrectionAmount | 1.000000 |
PaintCorrectionBrightness | 0.000000 |
PaintCorrectionClarity2012 | 0.000000 |
PaintCorrectionContrast2012 | -0.025210 |
PaintCorrectionCorrectionRangeMaskColorAmount | 0.500000 |
PaintCorrectionCorrectionRangeMaskDepthFeather | 0.500000 |
PaintCorrectionCorrectionRangeMaskDepthMax | 1.000000 |
PaintCorrectionCorrectionRangeMaskDepthMin | 0.000000 |
PaintCorrectionCorrectionRangeMaskLumFeather | 0.500000 |
PaintCorrectionCorrectionRangeMaskLumMax | 1.000000 |
PaintCorrectionCorrectionRangeMaskLumMin | 0.000000 |
PaintCorrectionCorrectionRangeMaskType | 0 |
PaintCorrectionCorrectionRangeMaskVersion | +2 |
PaintCorrectionDefringe | 0.000000 |
PaintCorrectionExposure2012 | 0.000000 |
PaintCorrectionHighlights2012 | -0.599810 |
PaintCorrectionHue | 0.000000 |
PaintCorrectionLocalBlacks2012 | 0.000000 |
PaintCorrectionLocalDehaze | 0.000000 |
PaintCorrectionLocalHue | 0.000000 |
PaintCorrectionLocalTexture | 0.000000 |
PaintCorrectionLocalWhites2012 | 0.109240 |
PaintCorrectionLuminanceNoise | 0.000000 |
PaintCorrectionMaskCenterWeight | 0.000000 |
PaintCorrectionMaskFlow | 1.000000 |
PaintCorrectionMaskRadius (1) | 0.066459 |
PaintCorrectionMaskRadius (2) | 0.026442 |
PaintCorrectionMaskRadius | 0.026445 |
PaintCorrectionMaskValue | 1.000000 |
PaintCorrectionMaskWhat | Mask/Paint |
PaintCorrectionMoire | 0.000000 |
PaintCorrectionSaturation (1) | -0.360650 |
PaintCorrectionSaturation | 0.000000 |
PaintCorrectionShadows2012 | 0.000000 |
PaintCorrectionSharpness | 0.000000 |
PaintCorrectionTemperature | -0.099880 |
PaintCorrectionTint | 0.007280 |
PaintCorrectionWhat | Correction |
ParametricDarks | 0 |
ParametricHighlights | 0 |
ParametricHighlightSplit | 75 |
ParametricLights | 0 |
ParametricMidtoneSplit | 50 |
ParametricShadows | 0 |
ParametricShadowSplit | 25 |
PerspectiveAspect | 0 |
PerspectiveHorizontal | 0 |
PerspectiveRotate | 0.0 |
PerspectiveScale | 100 |
PerspectiveUpright | 0 |
PerspectiveVertical | 0 |
PerspectiveX | 0.00 |
PerspectiveY | 0.00 |
PostCropVignetteAmount | -20 |
PostCropVignetteFeather | 66 |
PostCropVignetteHighlightContrast | 0 |
PostCropVignetteMidpoint | 45 |
PostCropVignetteRoundness | +15 |
PostCropVignetteStyle | 1 |
PreservedFileName | DSC_1619.NEF |
ProcessVersion | 11.0 |
ProfileDescription | sRGB IEC61966-2.1 |
RawFileName | DSC_1619.NEF |
RedHue | 0 |
RedSaturation | 0 |
Saturation (1) | +16 |
Saturation | Normal |
SaturationAdjustmentAqua | 0 |
SaturationAdjustmentBlue | 0 |
SaturationAdjustmentGreen | +5 |
SaturationAdjustmentMagenta | 0 |
SaturationAdjustmentOrange | +15 |
SaturationAdjustmentPurple | 0 |
SaturationAdjustmentRed | +7 |
SaturationAdjustmentYellow | +7 |
ScaleFactor35efl | 1.5 |
SceneCaptureType | Standard |
SceneType | Directly photographed |
SensingMethod | One-chip color area |
SensitivityType | Recommended Exposure Index |
SerialNumber | 4452707 |
Shadows2012 | +72 |
ShadowTint | 0 |
SharpenDetail | 25 |
SharpenEdgeMasking | 21 |
SharpenRadius | +1.0 |
Sharpness (1) | 40 |
Sharpness | Normal |
ShutterSpeed | 1/10 |
ShutterSpeedValue | 1/10 |
Software | Adobe Photoshop Lightroom Classic 10.0 (Windows) |
SplitToningBalance | 0 |
SplitToningHighlightHue | 0 |
SplitToningHighlightSaturation | 0 |
SplitToningShadowHue | 0 |
SplitToningShadowSaturation | 0 |
SubjectDistanceRange | Unknown |
Texture | +23 |
Tint | +5 |
ToneCurveName2012 | Linear |
ToneCurvePV2012 | 0, 0, 255, 255 |
ToneCurvePV2012Blue | 0, 0, 255, 255 |
ToneCurvePV2012Green | 0, 0, 255, 255 |
ToneCurvePV2012Red | 0, 0, 255, 255 |
Version | 13.0 |
Vibrance | +42 |
VignetteAmount | 0 |
VignetteCorrectionAlreadyApplied | True |
WhiteBalance (1) | Custom |
WhiteBalance | Auto |
Whites2012 | +71 |