Felt | Verdi |
AlreadyApplied | True |
Aperture | 1.4 |
ApertureValue | 1.4 |
AutoLateralCA | 1 |
BitsPerSample | 8 |
Blacks2012 | +81 |
BlueHue | 0 |
BlueSaturation | 0 |
BrightnessValue | -11.27578125 |
CameraProfile | Adobe Standard |
CircGradBasedCorrActive | true |
CircGradBasedCorrAmount | 1.000000 |
CircGradBasedCorrBrightness | 0.000000 |
CircGradBasedCorrClarity | 0.000000 |
CircGradBasedCorrClarity2012 (1) | -1.000000 |
CircGradBasedCorrClarity2012 | 0.000000 |
CircGradBasedCorrContrast | 0.000000 |
CircGradBasedCorrContrast2012 | 0.000000 |
CircGradBasedCorrCorrectionRangeMaskColorAmount | 0.500000 |
CircGradBasedCorrCorrectionRangeMaskDepthFeather | 0.500000 |
CircGradBasedCorrCorrectionRangeMaskDepthMax | 1.000000 |
CircGradBasedCorrCorrectionRangeMaskDepthMin | 0.000000 |
CircGradBasedCorrCorrectionRangeMaskLumFeather | 0.500000 |
CircGradBasedCorrCorrectionRangeMaskLumMax | 1.000000 |
CircGradBasedCorrCorrectionRangeMaskLumMin | 0.000000 |
CircGradBasedCorrCorrectionRangeMaskType | 0 |
CircGradBasedCorrCorrectionRangeMaskVersion | +2 |
CircGradBasedCorrDefringe | 0.000000 |
CircGradBasedCorrExposure | 0.000000 |
CircGradBasedCorrExposure2012 (1) | 0.102673 |
CircGradBasedCorrExposure2012 (2) | 0.000000 |
CircGradBasedCorrExposure2012 | 0.115225 |
CircGradBasedCorrHighlights2012 (1) | 0.000000 |
CircGradBasedCorrHighlights2012 (2) | -0.438820 |
CircGradBasedCorrHighlights2012 | -1.000000 |
CircGradBasedCorrHue | 240.000000 |
CircGradBasedCorrLocalBlacks2012 | 0.000000 |
CircGradBasedCorrLocalDehaze | 0.000000 |
CircGradBasedCorrLocalHue | 0.000000 |
CircGradBasedCorrLocalTexture | 0.000000 |
CircGradBasedCorrLocalWhites2012 | 0.000000 |
CircGradBasedCorrLuminanceNoise | 0.000000 |
CircGradBasedCorrMaskAngle | 0.000000 |
CircGradBasedCorrMaskBottom (1) | 1.133240 |
CircGradBasedCorrMaskBottom (2) | 0.938884 |
CircGradBasedCorrMaskBottom | 0.955590 |
CircGradBasedCorrMaskFeather | +50 |
CircGradBasedCorrMaskFlipped | true |
CircGradBasedCorrMaskLeft (1) | 0.158330 |
CircGradBasedCorrMaskLeft (2) | 0.566120 |
CircGradBasedCorrMaskLeft | 0.264215 |
CircGradBasedCorrMaskMidpoint | +50 |
CircGradBasedCorrMaskRight (1) | 0.871578 |
CircGradBasedCorrMaskRight (2) | 0.718173 |
CircGradBasedCorrMaskRight | 0.497145 |
CircGradBasedCorrMaskRoundness | 0 |
CircGradBasedCorrMaskTop (1) | -0.046901 |
CircGradBasedCorrMaskTop (2) | 0.652613 |
CircGradBasedCorrMaskTop | 0.627931 |
CircGradBasedCorrMaskValue | 1.000000 |
CircGradBasedCorrMaskVersion | +2 |
CircGradBasedCorrMaskWhat | Mask/CircularGradient |
CircGradBasedCorrMoire | 0.000000 |
CircGradBasedCorrSaturation | 0.000000 |
CircGradBasedCorrShadows2012 (1) | 0.000000 |
CircGradBasedCorrShadows2012 (2) | 0.788322 |
CircGradBasedCorrShadows2012 | 0.359856 |
CircGradBasedCorrSharpness (1) | 0.250000 |
CircGradBasedCorrSharpness | 0.000000 |
CircGradBasedCorrTemperature | 0.000000 |
CircGradBasedCorrTint | 0.000000 |
CircGradBasedCorrWhat | Correction |
CircleOfConfusion | 0.030 mm |
Clarity2012 | +5 |
ColorComponents | 3 |
ColorGradeBlending | 50 |
ColorGradeGlobalHue | 0 |
ColorGradeGlobalLum | 0 |
ColorGradeGlobalSat | 0 |
ColorGradeHighlightLum | 0 |
ColorGradeMidtoneHue | 0 |
ColorGradeMidtoneLum | 0 |
ColorGradeMidtoneSat | 0 |
ColorGradeShadowLum | 0 |
ColorNoiseReduction | 25 |
ColorNoiseReductionDetail | 50 |
ColorNoiseReductionSmoothness | 50 |
ColorSpace | sRGB |
ColorTemperature | 3371 |
ColorTransform | YCbCr |
Contrast | Normal |
Contrast2012 | +30 |
CreateDate (1) | 2021:01:11 22:13:09.1+02:00 |
CreateDate | 2021:01:11 22:13:09 |
CreatorTool | Adobe Photoshop Lightroom Classic 10.0 (Macintosh) |
CropAngle | 0 |
CropBottom | 0.91631 |
CropConstrainToWarp | 1 |
CropLeft | 0.119582 |
CropRight | 0.901212 |
CropTop | 0.174253 |
CustomRendered | Normal |
DateCreated (1) | 2021:01:11 |
DateCreated | 2021:01:11 22:11:38+02:00 |
DateTimeOriginal | 2021:01:11 22:13:09 |
DefringeGreenAmount | 0 |
DefringeGreenHueHi | 60 |
DefringeGreenHueLo | 40 |
DefringePurpleAmount | 0 |
DefringePurpleHueHi | 70 |
DefringePurpleHueLo | 30 |
Dehaze | 0 |
DigitalZoomRatio | 1 |
DistortionCorrectionAlreadyApplied | True |
Exposure2012 | +0.90 |
ExposureCompensation | 0 |
ExposureMode | Manual |
ExposureProgram | Manual |
ExposureTime | 15 |
Flash | Off, Did not fire |
FNumber | 1.4 |
FocalLength | 24.0 mm |
FocalLength35efl | 24.0 mm (35 mm equivalent: 24.0 mm) |
FocalLengthIn35mmFormat | 24 mm |
Format | image/jpeg |
FOV | 73.7 deg |
GradientBasedCorrActive | true |
GradientBasedCorrAmount | 1.000000 |
GradientBasedCorrBrightness | 0.000000 |
GradientBasedCorrClarity | 0.000000 |
GradientBasedCorrClarity2012 (1) | 0.124120 |
GradientBasedCorrClarity2012 (2) | 0.000000 |
GradientBasedCorrClarity2012 | -1.000000 |
GradientBasedCorrContrast | 0.000000 |
GradientBasedCorrContrast2012 (1) | -0.091549 |
GradientBasedCorrContrast2012 (2) | -0.131924 |
GradientBasedCorrContrast2012 | 0.000000 |
GradientBasedCorrCorrectionRangeMaskColorAmount | 0.500000 |
GradientBasedCorrCorrectionRangeMaskDepthFeather | 0.500000 |
GradientBasedCorrCorrectionRangeMaskDepthMax | 1.000000 |
GradientBasedCorrCorrectionRangeMaskDepthMin | 0.000000 |
GradientBasedCorrCorrectionRangeMaskLumFeather | 0.500000 |
GradientBasedCorrCorrectionRangeMaskLumMax | 1.000000 |
GradientBasedCorrCorrectionRangeMaskLumMin | 0.000000 |
GradientBasedCorrCorrectionRangeMaskType | 0 |
GradientBasedCorrCorrectionRangeMaskVersion | +2 |
GradientBasedCorrDefringe | 0.000000 |
GradientBasedCorrExposure | 0.000000 |
GradientBasedCorrExposure2012 (1) | -0.115558 |
GradientBasedCorrExposure2012 (2) | 0.096194 |
GradientBasedCorrExposure2012 | -0.177355 |
GradientBasedCorrHighlights2012 (1) | 0.346712 |
GradientBasedCorrHighlights2012 (2) | 0.387182 |
GradientBasedCorrHighlights2012 | 0.000000 |
GradientBasedCorrHue | 240.000000 |
GradientBasedCorrLocalBlacks2012 (2) | 0.000000 |
GradientBasedCorrLocalBlacks2012 | -0.117595 |
GradientBasedCorrLocalDehaze (1) | 0.000000 |
GradientBasedCorrLocalDehaze | 0.119409 |
GradientBasedCorrLocalHue | 0.000000 |
GradientBasedCorrLocalTexture | 0.000000 |
GradientBasedCorrLocalWhites2012 (3) | 0.000000 |
GradientBasedCorrLocalWhites2012 | -0.012848 |
GradientBasedCorrLuminanceNoise | 0.000000 |
GradientBasedCorrMaskFullX (1) | 0.604818 |
GradientBasedCorrMaskFullX (2) | 0.502574 |
GradientBasedCorrMaskFullX (3) | 1.009830 |
GradientBasedCorrMaskFullX | 0.014253 |
GradientBasedCorrMaskFullY (1) | 0.470751 |
GradientBasedCorrMaskFullY (2) | 0.729775 |
GradientBasedCorrMaskFullY (3) | 0.409988 |
GradientBasedCorrMaskFullY | 0.447869 |
GradientBasedCorrMaskValue | 1.000000 |
GradientBasedCorrMaskWhat | Mask/Gradient |
GradientBasedCorrMaskZeroX (1) | 0.567984 |
GradientBasedCorrMaskZeroX (2) | 0.502574 |
GradientBasedCorrMaskZeroX (3) | 0.804093 |
GradientBasedCorrMaskZeroX | 0.177738 |
GradientBasedCorrMaskZeroY (1) | 0.728388 |
GradientBasedCorrMaskZeroY (2) | 0.651851 |
GradientBasedCorrMaskZeroY (3) | 0.408041 |
GradientBasedCorrMaskZeroY | 0.448345 |
GradientBasedCorrMoire | 0.000000 |
GradientBasedCorrSaturation | 0.000000 |
GradientBasedCorrShadows2012 (1) | -1.000000 |
GradientBasedCorrShadows2012 | 0.000000 |
GradientBasedCorrSharpness (1) | 0.000000 |
GradientBasedCorrSharpness | 0.250000 |
GradientBasedCorrTemperature (1) | -0.153140 |
GradientBasedCorrTemperature (2) | -0.041951 |
GradientBasedCorrTemperature | 0.000000 |
GradientBasedCorrTint (2) | -0.041173 |
GradientBasedCorrTint | 0.000000 |
GradientBasedCorrWhat | Correction |
GrainAmount | 0 |
GreenHue | 0 |
GreenSaturation | 0 |
HasCrop | True |
HasSettings | True |
Highlights2012 | -100 |
HueAdjustmentAqua | 0 |
HueAdjustmentBlue | -18 |
HueAdjustmentGreen | +9 |
HueAdjustmentMagenta | 0 |
HueAdjustmentOrange | +1 |
HueAdjustmentPurple | -3 |
HueAdjustmentRed | -1 |
HueAdjustmentYellow | +49 |
HyperfocalDistance | 13.69 m |
ImageHeight | 8127 |
ImageSize | 6502x8127 |
ImageWidth | 6502 |
IsMergedPanorama | True |
ISO | 400 |
LateralChromaticAberrationCorrectionAlreadyApplied | True |
Lens | 24mm F1.4 DG HSM | Art 018 |
LensDistortInfo | 33078/32768 -45159523/1073741824 42402087/1073741824 -11648932/1073741824 |
LensInfo | 24mm f/1.4 |
LensManualDistortionAmount | 0 |
LensModel | 24mm F1.4 DG HSM | Art 018 |
LensProfileDistortionScale | 200 |
LensProfileEnable | 1 |
LensProfileFilename | SONY (SIGMA 24mm F1.4 DG HSM A018) - RAW.lcp |
LensProfileIsEmbedded | False |
LensProfileName | Adobe (SIGMA 24mm F1.4 DG HSM A018, SONY) |
LensProfileSetup | Custom |
LensProfileVignettingScale | 0 |
LightSource | Unknown |
LightValue | -4.9 |
LookAmount | 1.000000 |
LookGroup | Profiles |
LookName | Adobe Color |
LookParametersCameraProfile | Adobe Standard |
LookParametersConvertToGrayscale | False |
LookParametersLookTable | E1095149FDB39D7A057BAB208837E2E1 |
LookParametersProcessVersion | 11.0 |
LookParametersToneCurvePV2012 | 0, 0, 22, 16, 40, 35, 127, 127, 224, 230, 240, 246, 255, 255 |
LookParametersToneCurvePV2012Blue | 0, 0, 255, 255 |
LookParametersToneCurvePV2012Green | 0, 0, 255, 255 |
LookParametersToneCurvePV2012Red | 0, 0, 255, 255 |
LookParametersVersion | 13.0 |
LookSupportsAmount | false |
LookSupportsMonochrome | false |
LookSupportsOutputReferred | false |
LuminanceAdjustmentAqua | 0 |
LuminanceAdjustmentBlue | 0 |
LuminanceAdjustmentGreen | 0 |
LuminanceAdjustmentMagenta | 0 |
LuminanceAdjustmentOrange | 0 |
LuminanceAdjustmentPurple | 0 |
LuminanceAdjustmentRed | 0 |
LuminanceAdjustmentYellow | 0 |
LuminanceSmoothing | 0 |
Make | SONY |
MaxApertureValue | 1.4 |
Megapixels | 52.8 |
MeteringMode | Multi-segment |
Model | ILCE-7M3 |
ModifyDate (1) | 2021:01:12 13:36:40+01:00 |
ModifyDate | 2021:01:12 13:36:40 |
OverrideLookVignette | False |
PaintCorrectionActive | true |
PaintCorrectionAmount | 1.000000 |
PaintCorrectionBrightness | 0.000000 |
PaintCorrectionClarity | 0.000000 |
PaintCorrectionClarity2012 | 0.000000 |
PaintCorrectionContrast | 0.000000 |
PaintCorrectionContrast2012 | 0.000000 |
PaintCorrectionCorrectionRangeMaskColorAmount | 0.500000 |
PaintCorrectionCorrectionRangeMaskDepthFeather | 0.500000 |
PaintCorrectionCorrectionRangeMaskDepthMax | 1.000000 |
PaintCorrectionCorrectionRangeMaskDepthMin | 0.000000 |
PaintCorrectionCorrectionRangeMaskLumFeather | 0.500000 |
PaintCorrectionCorrectionRangeMaskLumMax | 1.000000 |
PaintCorrectionCorrectionRangeMaskLumMin | 0.000000 |
PaintCorrectionCorrectionRangeMaskType | 0 |
PaintCorrectionCorrectionRangeMaskVersion | +2 |
PaintCorrectionDefringe | 0.000000 |
PaintCorrectionExposure | 0.000000 |
PaintCorrectionExposure2012 (1) | -0.143809 |
PaintCorrectionExposure2012 (2) | -0.082753 |
PaintCorrectionExposure2012 (3) | -0.121956 |
PaintCorrectionExposure2012 | -0.156398 |
PaintCorrectionHighlights2012 | 0.000000 |
PaintCorrectionHue | 240.000000 |
PaintCorrectionLocalBlacks2012 | 0.000000 |
PaintCorrectionLocalDehaze (1) | -1.000000 |
PaintCorrectionLocalDehaze | 0.000000 |
PaintCorrectionLocalHue | 0.000000 |
PaintCorrectionLocalTexture | 0.000000 |
PaintCorrectionLocalWhites2012 | 0.000000 |
PaintCorrectionLuminanceNoise | 0.000000 |
PaintCorrectionMaskCenterWeight | 0.000000 |
PaintCorrectionMaskFlow | 1.000000 |
PaintCorrectionMaskRadius (1) | 0.010257 |
PaintCorrectionMaskRadius (5) | 0.003107 |
PaintCorrectionMaskRadius (6) | 0.063336 |
PaintCorrectionMaskRadius | 0.015237 |
PaintCorrectionMaskValue | 1.000000 |
PaintCorrectionMaskWhat | Mask/Paint |
PaintCorrectionMoire | 0.000000 |
PaintCorrectionSaturation (7) | -0.465344 |
PaintCorrectionSaturation | 0.000000 |
PaintCorrectionShadows2012 | 0.000000 |
PaintCorrectionSharpness (2) | 0.250000 |
PaintCorrectionSharpness | 0.000000 |
PaintCorrectionTemperature (1) | -1.000000 |
PaintCorrectionTemperature (3) | 0.000000 |
PaintCorrectionTemperature | -0.457161 |
PaintCorrectionTint | 0.000000 |
PaintCorrectionWhat | Correction |
ParametricDarks | 0 |
ParametricHighlights | 0 |
ParametricHighlightSplit | 75 |
ParametricLights | 0 |
ParametricMidtoneSplit | 50 |
ParametricShadows | 0 |
ParametricShadowSplit | 25 |
PerspectiveAspect | +48 |
PerspectiveHorizontal | 0 |
PerspectiveRotate | 0.0 |
PerspectiveScale | 84 |
PerspectiveUpright | 0 |
PerspectiveVertical | 0 |
PerspectiveX | 0.00 |
PerspectiveY | 0.00 |
PostCropVignetteAmount | 0 |
PreservedFileName | _DSC1261.ARW |
ProcessVersion | 11.0 |
ProfileDescription | sRGB IEC61966-2.1 |
RecommendedExposureIndex | 400 |
RedHue | 0 |
RedSaturation | 0 |
Saturation (1) | -4 |
Saturation | Normal |
SaturationAdjustmentAqua | 0 |
SaturationAdjustmentBlue | 0 |
SaturationAdjustmentGreen | 0 |
SaturationAdjustmentMagenta | 0 |
SaturationAdjustmentOrange | 0 |
SaturationAdjustmentPurple | 0 |
SaturationAdjustmentRed | 0 |
SaturationAdjustmentYellow | 0 |
ScaleFactor35efl | 1.0 |
SceneCaptureType | Standard |
SceneType | Directly photographed |
SensitivityType | Recommended Exposure Index |
Shadows2012 | -2 |
ShadowTint | 0 |
SharpenDetail | 25 |
SharpenEdgeMasking | 0 |
SharpenRadius | +1.0 |
Sharpness (1) | 40 |
Sharpness | Normal |
ShutterSpeed | 15 |
ShutterSpeedValue | 15 |
Software | Adobe Photoshop Lightroom Classic 10.0 (Macintosh) |
SplitToningBalance | 0 |
SplitToningHighlightHue | 0 |
SplitToningHighlightSaturation | 0 |
SplitToningShadowHue | 0 |
SplitToningShadowSaturation | 0 |
Texture | +43 |
Tint | -12 |
ToneCurveName2012 | Custom |
ToneCurvePV2012 | 0, 5, 47, 45, 130, 133, 255, 255 |
ToneCurvePV2012Blue | 0, 0, 255, 255 |
ToneCurvePV2012Green | 0, 0, 255, 255 |
ToneCurvePV2012Red | 0, 0, 255, 255 |
Transformation | Perspective |
Version | 13.0 |
Vibrance | +15 |
VignetteAmount | 0 |
VignetteCorrectionAlreadyApplied | True |
VirtualFocalLength | 0.335006 |
VirtualImageXCenter | 0.48621 |
VirtualImageYCenter | 0.832425 |
WhiteBalance (1) | Custom |
WhiteBalance | Auto |
Whites2012 | -100 |