Felt | Verdi |
AlreadyApplied | True |
Aperture | 22.0 |
ApertureValue | 22.0 |
ApproximateFocusDistance | 2.78 |
AutoLateralCA | 1 |
BitsPerSample (1) | 8 8 8 |
BitsPerSample | 8 |
Blacks2012 | -18 |
BlueHue | 0 |
BlueSaturation | 0 |
CameraProfile | Adobe Standard |
CircGradBasedCorrActive | true |
CircGradBasedCorrAmount | 1.000000 |
CircGradBasedCorrBrightness | 0.000000 |
CircGradBasedCorrClarity2012 | -0.250000 |
CircGradBasedCorrContrast2012 | -0.169141 |
CircGradBasedCorrCorrectionRangeMaskColorAmount | 0.500000 |
CircGradBasedCorrCorrectionRangeMaskDepthFeather | 0.500000 |
CircGradBasedCorrCorrectionRangeMaskDepthMax | 1.000000 |
CircGradBasedCorrCorrectionRangeMaskDepthMin | 0.000000 |
CircGradBasedCorrCorrectionRangeMaskLumFeather | 0.500000 |
CircGradBasedCorrCorrectionRangeMaskLumMax | 1.000000 |
CircGradBasedCorrCorrectionRangeMaskLumMin | 0.000000 |
CircGradBasedCorrCorrectionRangeMaskType | 0 |
CircGradBasedCorrCorrectionRangeMaskVersion | +2 |
CircGradBasedCorrDefringe | 0.000000 |
CircGradBasedCorrExposure2012 | -0.103379 |
CircGradBasedCorrHighlights2012 | 0.000000 |
CircGradBasedCorrHue | 50.316399 |
CircGradBasedCorrLocalBlacks2012 | 0.000000 |
CircGradBasedCorrLocalWhites2012 | 0.000000 |
CircGradBasedCorrLuminanceNoise | 0.000000 |
CircGradBasedCorrMaskAngle | -0.772243 |
CircGradBasedCorrMaskBottom | 1.060110 |
CircGradBasedCorrMaskFeather | +50 |
CircGradBasedCorrMaskFlipped | false |
CircGradBasedCorrMaskLeft | 0.020205 |
CircGradBasedCorrMaskMidpoint | +50 |
CircGradBasedCorrMaskRight | 0.878293 |
CircGradBasedCorrMaskRoundness | 0 |
CircGradBasedCorrMaskTop | 0.071758 |
CircGradBasedCorrMaskValue | 1.000000 |
CircGradBasedCorrMaskVersion | +2 |
CircGradBasedCorrMaskWhat | Mask/CircularGradient |
CircGradBasedCorrMoire | 0.000000 |
CircGradBasedCorrSaturation (1) | 0.000000 |
CircGradBasedCorrSaturation | 0.142930 |
CircGradBasedCorrShadows2012 | 0.000000 |
CircGradBasedCorrSharpness | 0.310865 |
CircGradBasedCorrTemperature | 0.000000 |
CircGradBasedCorrTint | 0.000000 |
CircGradBasedCorrWhat | Correction |
CircleOfConfusion | 0.027 mm |
Clarity2012 | +9 |
ColorComponents | 3 |
ColorGradeBlending | 50 |
ColorGradeGlobalHue | 0 |
ColorGradeGlobalLum | 0 |
ColorGradeGlobalSat | 0 |
ColorGradeHighlightLum | 0 |
ColorGradeMidtoneHue | 0 |
ColorGradeMidtoneLum | 0 |
ColorGradeMidtoneSat | 0 |
ColorGradeShadowLum | 0 |
ColorMode | RGB |
ColorNoiseReduction | 25 |
ColorNoiseReductionDetail | 50 |
ColorNoiseReductionSmoothness | 50 |
ColorSpace | sRGB |
ColorTemperature | 11215 |
ColorTransform | YCbCr |
Contrast2012 | -32 |
ConvertToGrayscale | False |
CreateDate | 2021:01:13 14:37:25 |
CreatorTool | Adobe Photoshop Lightroom Classic 10.1 (Windows) |
CropAngle | -0.772243 |
CropBottom | 0.892706 |
CropConstrainToWarp | 0 |
CropLeft | 0 |
CropRight | 0.896364 |
CropTop | 0.022287 |
CustomRendered | Normal |
DateCreated (1) | 2021:01:13 |
DateCreated | 2021:01:13 14:37:25.005 |
DateTimeOriginal | 2021:01:13 14:37:25 |
DefringeGreenAmount | 0 |
DefringeGreenHueHi | 60 |
DefringeGreenHueLo | 40 |
DefringePurpleAmount | 0 |
DefringePurpleHueHi | 70 |
DefringePurpleHueLo | 30 |
Dehaze | 0 |
DOF | inf (0.73 m - inf) |
ExifImageHeight | 3696 |
ExifImageWidth | 5544 |
Exposure2012 | +0.18 |
ExposureCompensation | 0 |
ExposureMode | Manual |
ExposureProgram | Manual |
ExposureTime | 1/50 |
Firmware | 1.1.0 |
Flash | No Flash |
FlashCompensation | 0 |
FNumber | 22.0 |
FocalLength | 24.0 mm |
FocalLength35efl | 24.0 mm (35 mm equivalent: 27.1 mm) |
Format | image/jpeg |
FOV | 67.3 deg |
GradientBasedCorrActive | true |
GradientBasedCorrAmount | 1.000000 |
GradientBasedCorrBrightness | 0.000000 |
GradientBasedCorrClarity2012 | 0.000000 |
GradientBasedCorrContrast2012 | 0.000000 |
GradientBasedCorrCorrectionRangeMaskColorAmount | 0.500000 |
GradientBasedCorrCorrectionRangeMaskDepthFeather | 0.500000 |
GradientBasedCorrCorrectionRangeMaskDepthMax | 1.000000 |
GradientBasedCorrCorrectionRangeMaskDepthMin | 0.000000 |
GradientBasedCorrCorrectionRangeMaskLumFeather | 0.500000 |
GradientBasedCorrCorrectionRangeMaskLumMax | 1.000000 |
GradientBasedCorrCorrectionRangeMaskLumMin | 0.507715 |
GradientBasedCorrCorrectionRangeMaskType | +2 |
GradientBasedCorrCorrectionRangeMaskVersion | +2 |
GradientBasedCorrDefringe | 0.000000 |
GradientBasedCorrExposure2012 | -0.092609 |
GradientBasedCorrHighlights2012 | -0.464098 |
GradientBasedCorrHue | 240.000000 |
GradientBasedCorrLocalBlacks2012 | 0.000000 |
GradientBasedCorrLocalDehaze | 0.000000 |
GradientBasedCorrLocalWhites2012 | 0.000000 |
GradientBasedCorrLuminanceNoise | 0.000000 |
GradientBasedCorrMaskFullX | 0.442980 |
GradientBasedCorrMaskFullY | 0.096524 |
GradientBasedCorrMaskValue | 1.000000 |
GradientBasedCorrMaskWhat | Mask/Gradient |
GradientBasedCorrMaskZeroX | 0.449922 |
GradientBasedCorrMaskZeroY | 0.651087 |
GradientBasedCorrMoire | 0.000000 |
GradientBasedCorrSaturation | 0.000000 |
GradientBasedCorrShadows2012 | 0.000000 |
GradientBasedCorrSharpness | 0.000000 |
GradientBasedCorrTemperature | 0.000000 |
GradientBasedCorrTint | 0.000000 |
GradientBasedCorrWhat | Correction |
GrainAmount | 0 |
GreenHue | 0 |
GreenSaturation | 0 |
HasCrop | True |
HasSettings | True |
Highlights2012 | -100 |
HueAdjustmentAqua | +9 |
HueAdjustmentBlue | -7 |
HueAdjustmentGreen | +12 |
HueAdjustmentMagenta | +15 |
HueAdjustmentOrange | -6 |
HueAdjustmentPurple | 0 |
HueAdjustmentRed | +11 |
HueAdjustmentYellow | 0 |
HyperfocalDistance | 0.98 m |
ICCProfileName | sRGB IEC61966-2.1 |
ImageHeight | 3696 |
ImageNumber | 0 |
ImageSize | 5544x3696 |
ImageWidth | 5544 |
ISO | 100 |
LateralChromaticAberrationCorrectionAlreadyApplied | True |
Lens | RF24-105mm F4 L IS USM |
LensID (1) | 61182 |
LensID | Canon RF 24-105mm F4 L IS USM |
LensInfo | 24-105mm f/? |
LensManualDistortionAmount | 0 |
LensModel | RF24-105mm F4 L IS USM |
LensProfileEnable | 0 |
LensSerialNumber | 7513000890 |
LightValue | 14.6 |
LuminanceAdjustmentAqua | +8 |
LuminanceAdjustmentBlue | -23 |
LuminanceAdjustmentGreen | +1 |
LuminanceAdjustmentMagenta | +4 |
LuminanceAdjustmentOrange | +3 |
LuminanceAdjustmentPurple | +14 |
LuminanceAdjustmentRed | +7 |
LuminanceAdjustmentYellow | +10 |
LuminanceNoiseReductionContrast | 0 |
LuminanceNoiseReductionDetail | 50 |
LuminanceSmoothing | 18 |
Make | Canon |
MaxApertureValue | 4.2 |
Megapixels | 20.5 |
MeteringMode | Center-weighted average |
Model | Canon EOS RP |
ModifyDate (1) | 2021:01:13 21:20:57+01:00 |
ModifyDate | 2021:01:13 21:20:57 |
Orientation | Horizontal (normal) |
OverrideLookVignette | False |
ParametricDarks | 0 |
ParametricHighlights | -16 |
ParametricHighlightSplit | 79 |
ParametricLights | 0 |
ParametricMidtoneSplit | 46 |
ParametricShadows | 0 |
ParametricShadowSplit | 17 |
PerspectiveAspect | 0 |
PerspectiveHorizontal | 0 |
PerspectiveRotate | 0.0 |
PerspectiveScale | 100 |
PerspectiveUpright | 0 |
PerspectiveVertical | 0 |
PerspectiveX | 0.00 |
PerspectiveY | 0.00 |
PhotometricInterpretation | RGB |
PostCropVignetteAmount | 0 |
PreservedFileName | IMG_7293.CR3 |
ProcessVersion | 11.0 |
ProfileDescription | sRGB IEC61966-2.1 |
RangeMaskMapInfoRangeMaskMapInfoLabMax | 0.997269 0.518975 0.565911 |
RangeMaskMapInfoRangeMaskMapInfoLabMin | 0.002197 0.480629 0.416007 |
RangeMaskMapInfoRangeMaskMapInfoRGBMax | 0.142214 0.137011 0.114199 |
RangeMaskMapInfoRangeMaskMapInfoRGBMin | 0.005127 0.005432 0.006577 |
RawFileName | IMG_7293.CR3 |
RecommendedExposureIndex | 100 |
RedHue | 0 |
RedSaturation | 0 |
SamplesPerPixel | 3 |
Saturation | +16 |
SaturationAdjustmentAqua | -44 |
SaturationAdjustmentBlue | -36 |
SaturationAdjustmentGreen | -39 |
SaturationAdjustmentMagenta | -42 |
SaturationAdjustmentOrange | -9 |
SaturationAdjustmentPurple | -45 |
SaturationAdjustmentRed | -37 |
SaturationAdjustmentYellow | -20 |
ScaleFactor35efl | 1.1 |
SceneCaptureType | Standard |
SensitivityType | Recommended Exposure Index |
SerialNumber | 043022000943 |
Shadows2012 | -40 |
ShadowTint | -3 |
SharpenDetail | 25 |
SharpenEdgeMasking | 0 |
SharpenRadius | +1.0 |
Sharpness | 42 |
ShutterSpeed | 1/50 |
ShutterSpeedValue | 1/50 |
Software | Adobe Photoshop 21.2 (Windows) |
SplitToningBalance | 0 |
SplitToningHighlightHue | 0 |
SplitToningHighlightSaturation | 0 |
SplitToningShadowHue | 0 |
SplitToningShadowSaturation | 0 |
Texture | +5 |
Tint | +10 |
ToneCurveName2012 | Custom |
ToneCurvePV2012 | 0, 16, 31, 35, 63, 65, 126, 125, 195, 195, 255, 242 |
ToneCurvePV2012Blue | 0, 0, 48, 27, 86, 77, 117, 119, 193, 211, 255, 255 |
ToneCurvePV2012Green | 0, 0, 46, 21, 57, 34, 115, 116, 199, 213, 255, 255 |
ToneCurvePV2012Red | 0, 0, 50, 25, 78, 63, 118, 121, 196, 209, 255, 255 |
URL_List | |
Version | 13.1 |
Vibrance | -5 |
VignetteAmount | 0 |
WhiteBalance (1) | Custom |
WhiteBalance | Auto |
Whites2012 | +20 |