Felt | Verdi |
2023-10-14T23:03:35+02:00 Filen IMG_4264.jpg er lagret
AlreadyApplied | True |
Aperture | 1.8 |
ApertureValue | 1.8 |
AutoLateralCA | 0 |
BitsPerSample (1) | 8 8 8 |
BitsPerSample | 8 |
Blacks2012 | 0 |
BlueHue | 0 |
BlueSaturation | 0 |
BrightnessValue | 10.88734291 |
CameraProfile | Apple Embedded Color Profile |
CircleOfConfusion | 0.009 mm |
Clarity2012 | +23 |
ColorComponents | 3 |
ColorGradeBlending | 50 |
ColorGradeGlobalHue | 0 |
ColorGradeGlobalLum | 0 |
ColorGradeGlobalSat | 0 |
ColorGradeHighlightLum | 0 |
ColorGradeMidtoneHue | 0 |
ColorGradeMidtoneLum | 0 |
ColorGradeMidtoneSat | 0 |
ColorGradeShadowLum | 0 |
ColorMode | RGB |
ColorNoiseReduction | 25 |
ColorNoiseReductionDetail | 50 |
ColorNoiseReductionSmoothness | 50 |
ColorSpace | Uncalibrated |
ColorTemperature | 5150 |
ColorTransform | YCbCr |
Contrast2012 | 0 |
CreateDate | 2023:06:05 13:04:24 |
CreatorTool | 16.4.1 |
DateCreated (1) | 2023:06:05 |
DateCreated | 2023:06:05 13:04:24.708+02:00 |
DateTimeOriginal | 2023:06:05 13:04:24 |
DefringeGreenAmount | 0 |
DefringeGreenHueHi | 60 |
DefringeGreenHueLo | 40 |
DefringePurpleAmount | 0 |
DefringePurpleHueHi | 70 |
DefringePurpleHueLo | 30 |
Dehaze | 0 |
ExifImageHeight | 1373 |
ExifImageWidth | 2000 |
Exposure2012 | 0.00 |
ExposureCompensation | 0 |
ExposureMode | Auto |
ExposureProgram | Program AE |
ExposureTime | 1/6000 |
Flash | Off, Did not fire |
FNumber | 1.8 |
FocalLength | 6.9 mm |
FocalLength35efl | 6.9 mm (35 mm equivalent: 24.0 mm) |
FocalLengthIn35mmFormat | 24 mm |
Format | image/jpeg |
FOV | 73.7 deg |
GPSAltitude (1) | 11.84142975 m |
GPSAltitude | 11.8 m Above Sea Level |
GPSAltitudeRef | Above Sea Level |
GPSDateStamp | 2023:06:05 |
GPSDestBearing | 254.4743957 |
GPSDestBearingRef | True North |
GPSHPositioningError | 4.728076973 m |
GPSImgDirection | 254.4743957 |
GPSImgDirectionRef | True North |
GPSLatitude (1) | 59 deg 12' 10.79" |
GPSLatitude | 59 deg 12' 10.79" N |
GPSLatitudeRef | North |
GPSLongitude (1) | 10 deg 57' 9.95" |
GPSLongitude | 10 deg 57' 9.95" E |
GPSLongitudeRef | East |
GPSPosition | 59 deg 12' 10.79" N, 10 deg 57' 9.95" E |
GPSSpeed | 0.4962368199 |
GPSSpeedRef | km/h |
GrainAmount | 0 |
GreenHue | 0 |
GreenSaturation | 0 |
HasCrop | False |
HasSettings | True |
Highlights2012 | -58 |
HueAdjustmentAqua | 0 |
HueAdjustmentBlue | 0 |
HueAdjustmentGreen | 0 |
HueAdjustmentMagenta | 0 |
HueAdjustmentOrange | 0 |
HueAdjustmentPurple | 0 |
HueAdjustmentRed | 0 |
HueAdjustmentYellow | 0 |
HyperfocalDistance | 3.04 m |
ICCProfileName | Display P3 |
ImageHeight (1) | 5503 |
ImageHeight | 1373 |
ImageSize | 2000x1373 |
ImageWidth (1) | 8018 |
ImageWidth | 2000 |
ISO | 100 |
Lens | iPhone 14 Pro back triple camera 6.86mm f/1.78 |
LensInfo (1) | 2.22000002861193-9mm f/1.77999997138807-2.8 |
LensInfo | 2.220000029-9mm f/1.779999971-2.8 |
LensMake | Apple |
LensManualDistortionAmount | 0 |
LensModel | iPhone 14 Pro back triple camera 6.86mm f/1.78 |
LensProfileEnable | 0 |
LightValue | 14.2 |
LookAmount | 1 |
LookCopyright | © 2021 Adobe Systems, Inc. |
LookGroup | Profiles |
LookName | Apple ProRaw |
LookParametersCameraProfile | Apple Embedded Color Profile |
LookParametersConvertToGrayscale | False |
LookParametersProcessVersion | 11.0 |
LookParametersProfileGainTableMap | 100 |
LookParametersVersion | 15.3.1 |
LookSupportsMonochrome | false |
LookSupportsOutputReferred | false |
LuminanceAdjustmentAqua | 0 |
LuminanceAdjustmentBlue | 0 |
LuminanceAdjustmentGreen | 0 |
LuminanceAdjustmentMagenta | 0 |
LuminanceAdjustmentOrange | 0 |
LuminanceAdjustmentPurple | 0 |
LuminanceAdjustmentRed | 0 |
LuminanceAdjustmentYellow | 0 |
LuminanceSmoothing | 0 |
Make | Apple |
Megapixels | 2.7 |
MeteringMode | Multi-segment |
Model | iPhone 14 Pro |
ModifyDate (1) | 2023:10:14 23:03:35+02:00 |
ModifyDate | 2023:10:14 23:03:35 |
Orientation | Horizontal (normal) |
OverrideLookVignette | False |
ParametricDarks | 0 |
ParametricHighlights | 0 |
ParametricHighlightSplit | 75 |
ParametricLights | 0 |
ParametricMidtoneSplit | 50 |
ParametricShadows | 0 |
ParametricShadowSplit | 25 |
PerspectiveAspect | 0 |
PerspectiveHorizontal | 0 |
PerspectiveRotate | 0.0 |
PerspectiveScale | 100 |
PerspectiveUpright | 0 |
PerspectiveVertical | 0 |
PerspectiveX | 0.00 |
PerspectiveY | 0.00 |
PhotometricInterpretation | RGB |
PostCropVignetteAmount | 0 |
ProcessVersion | 11.0 |
ProfileDescription | Display P3 |
RedHue | 0 |
RedSaturation | 0 |
SamplesPerPixel | 3 |
Saturation | 0 |
SaturationAdjustmentAqua | 0 |
SaturationAdjustmentBlue | 0 |
SaturationAdjustmentGreen | 0 |
SaturationAdjustmentMagenta | 0 |
SaturationAdjustmentOrange | 0 |
SaturationAdjustmentPurple | 0 |
SaturationAdjustmentRed | 0 |
SaturationAdjustmentYellow | 0 |
ScaleFactor35efl | 3.5 |
SceneType | Directly photographed |
SensingMethod | One-chip color area |
Shadows2012 | +50 |
ShadowTint | 0 |
SharpenDetail | 25 |
SharpenEdgeMasking | 40 |
SharpenRadius | +1.4 |
Sharpness | 50 |
ShutterSpeed | 1/6000 |
ShutterSpeedValue | 1/6000 |
Software | Adobe Photoshop 25.0 (Macintosh) |
SplitToningBalance | 0 |
SplitToningHighlightHue | 0 |
SplitToningHighlightSaturation | 0 |
SplitToningShadowHue | 0 |
SplitToningShadowSaturation | 0 |
SubjectArea | 4018 3011 4418 2649 |
Texture | 0 |
Tint | +9 |
ToneCurveName2012 | Linear |
ToneCurvePV2012 | 0, 0, 255, 255 |
ToneCurvePV2012Blue | 0, 0, 255, 255 |
ToneCurvePV2012Green | 0, 0, 255, 255 |
ToneCurvePV2012Red | 0, 0, 255, 255 |
URL_List | |
Version | 15.3.1 |
Vibrance | 0 |
VignetteAmount | 0 |
WhiteBalance (1) | As Shot |
WhiteBalance | Auto |
Whites2012 | 0 |