Felt | Verdi |
AlreadyApplied | True |
BitsPerSample | 8 |
BlueHue | 0 |
BlueSaturation | 0 |
Brightness | +50 |
By-line | ¯ivind R. Nilsen |
CameraProfile | ACR 4.1 |
CFAPattern | [Green,Blue][Red,Green] |
ChromaticAberrationB | 0 |
ChromaticAberrationR | 0 |
Clarity | 81 |
ColorComponents | 3 |
ColorNoiseReduction | 25 |
ColorSpace | Unknown (-1) |
Contrast (2) | +25 |
Contrast | Normal |
ConvertToGrayscale | False |
Copyright | Oivind R. Nilsen |
CopyrightNotice | ¯ivind R. Nilsen |
CreateDate (1) | 2007:11:04 15:10:09+01:00 |
CreateDate | 2007:11:04 15:10:09 |
Creator | Øivind R. Nilsen |
CreatorAddress | Sandsmoen 12 |
CreatorPostalCode | 1903 Gan |
CreatorTool | Adobe Photoshop Lightroom |
CropAngle | -5.654421 |
CropBottom | 0.687246 |
CropHeight | 768 |
CropLeft | 0.02922 |
CropRight | 0.900836 |
CropTop | 0.051033 |
CropUnit | pixels |
CropWidth | 576 |
CustomRendered | Normal |
DateTimeDigitized | 2007:11:04 15:10:09.00+01:00 |
DateTimeOriginal (1) | 2007:11:04 15:10:09.00+01:00 |
DateTimeOriginal | 2007:11:04 15:10:09 |
Defringe | 0 |
DigitalZoomRatio | 1 |
ExifImageHeight | 3872 |
ExifImageWidth | 2592 |
Exposure | +1.81 |
ExposureCompensation | 0 |
ExposureMode | Manual |
ExposureProgram | Manual |
ExposureTime | 1/500 |
FillLight | 0 |
Flash | No Flash |
FlashFired | False |
FlashFunction | False |
FlashMode | Unknown |
FlashRedEyeMode | False |
FlashReturn | No return detection |
Format | application/vnd.adobe.photoshop |
GainControl | None |
GreenHue | 0 |
GreenSaturation | 0 |
HasCrop | True |
HasSettings | True |
HighlightRecovery | 100 |
HueAdjustmentAqua | 0 |
HueAdjustmentBlue | 0 |
HueAdjustmentGreen | 0 |
HueAdjustmentMagenta | 0 |
HueAdjustmentOrange | 0 |
HueAdjustmentPurple | 0 |
HueAdjustmentRed | 0 |
HueAdjustmentYellow | 0 |
ImageHeight | 768 |
ImageNumber | 653 |
ImageSize | 576x768 |
ImageWidth | 576 |
IncrementalTemperature | +8 |
IncrementalTint | +1 |
ISO | 100 |
Keywords | Fet, Fetsund, Lensemuseum |
Lens | 0.0 mm f/0.0 |
LensInfo | 0mm f/0 |
LightSource | Unknown |
LuminanceAdjustmentAqua | 0 |
LuminanceAdjustmentBlue | 0 |
LuminanceAdjustmentGreen | 0 |
LuminanceAdjustmentMagenta | 0 |
LuminanceAdjustmentOrange | 0 |
LuminanceAdjustmentPurple | 0 |
LuminanceAdjustmentRed | 0 |
LuminanceAdjustmentYellow | 0 |
LuminanceSmoothing | 0 |
Make | NIKON CORPORATION |
Marked | True |
MaxApertureValue | 1.0 |
Megapixels | 0.442 |
MeteringMode | Center-weighted average |
Model | NIKON D40X |
ModifyDate (1) | 2007:11:04 20:50:21+01:00 |
ModifyDate | 2007:11:04 20:50:21 |
ParametricDarks | +31 |
ParametricHighlights | 0 |
ParametricHighlightSplit | 75 |
ParametricLights | 0 |
ParametricMidtoneSplit | 50 |
ParametricShadows | +97 |
ParametricShadowSplit | 25 |
ProfileDescription | sRGB IEC61966-2.1 |
Rating | 1 |
RedHue | 0 |
RedSaturation | 0 |
Rights | Øivind R. Nilsen |
Saturation (2) | +19 |
Saturation | Normal |
SaturationAdjustmentAqua | -100 |
SaturationAdjustmentBlue | +55 |
SaturationAdjustmentGreen | -100 |
SaturationAdjustmentMagenta | 0 |
SaturationAdjustmentOrange | 0 |
SaturationAdjustmentPurple | 0 |
SaturationAdjustmentRed | 0 |
SaturationAdjustmentYellow | 0 |
SceneCaptureType | Standard |
SceneType | Directly photographed |
SensingMethod | One-chip color area |
SerialNumber | 6039650 |
Shadows | 5 |
ShadowTint | 0 |
SharpenDetail | 25 |
SharpenEdgeMasking | 0 |
SharpenRadius | +1.0 |
Sharpness (2) | 54 |
Sharpness | Normal |
ShutterSpeed | 1/500 |
ShutterSpeedValue | 1/500 |
Software | Adobe Photoshop CS3 Macintosh |
SplitToningBalance | -12 |
SplitToningHighlightHue | 241 |
SplitToningHighlightSaturation | 48 |
SplitToningShadowHue | 360 |
SplitToningShadowSaturation | 19 |
Subject | Fet, Fetsund, Lensemuseum |
SubjectDistanceRange | Unknown |
ToneCurve | 0, 0, 32, 22, 64, 56, 128, 128, 192, 196, 255, 255 |
ToneCurveName | Medium Contrast |
Version | 1.0 |
Vibrance | +34 |
VignetteAmount | 0 |
WhiteBalance (2) | Custom |
WhiteBalance | Auto |