Felt | Verdi |
AlreadyApplied | True |
Aperture | 4.0 |
ApertureValue | 4.0 |
BitsPerSample | 8 |
BlueHue | 0 |
BlueSaturation | 0 |
Brightness | +34 |
By-line | Gaute Bruvik |
CameraProfile | ACR 3.3 |
CFAPattern | [Red,Green][Green,Blue] |
ChromaticAberrationB | 0 |
ChromaticAberrationR | 0 |
CircleOfConfusion | 0.020 mm |
Clarity | 60 |
ColorComponents | 3 |
ColorNoiseReduction | 25 |
ColorTemperature | 4563 |
Contrast (2) | +44 |
Contrast | Normal |
ConvertToGrayscale | False |
Copyright | Kodiak Photography |
CopyrightNotice | Kodiak Photography |
CreateDate | 2007:11:22 22:04:07 |
Creator | Gaute Bruvik |
CreatorAddress | Mølnenga 19 |
CreatorCity | Kvaløysletta |
CreatorPostalCode | 9100 |
CreatorRegion | Tromsø |
CreatorTool | Adobe Photoshop Lightroom |
CropAngle | -0.849 |
CropBottom | 0.856197 |
CropHeight | 2364 |
CropLeft | 0.161954 |
CropRight | 1 |
CropTop | 0.044631 |
CropUnit | pixels |
CropWidth | 3559 |
CustomRendered | Normal |
DateTimeDigitized | 2007:11:22 22:04:07.49+01:00 |
DateTimeOriginal (1) | 2007:11:22 22:04:07.49+01:00 |
DateTimeOriginal | 2007:11:22 22:04:07 |
Defringe | 0 |
DigitalZoomRatio | 1 |
ExifImageHeight | 600 |
ExifImageWidth | 398 |
Exposure | +0.71 |
ExposureCompensation | 0 |
ExposureMode | Manual |
ExposureProgram | Manual |
ExposureTime | 33 |
FillLight | 4 |
Flash | No Flash |
FlashFired | False |
FlashFunction | False |
FlashMode | Unknown |
FlashRedEyeMode | False |
FlashReturn | No return detection |
FNumber | 4.0 |
FocalLength | 12.0 mm |
FocalLength35efl | 12.0 mm (35 mm equivalent: 18.0 mm) |
FocalLengthIn35mmFormat | 18 mm |
FOV | 90.0 deg |
GainControl | None |
GreenHue | 0 |
GreenSaturation | 0 |
HasCrop | True |
HasSettings | True |
HighlightRecovery | 35 |
HueAdjustmentAqua | 0 |
HueAdjustmentBlue | 0 |
HueAdjustmentGreen | 0 |
HueAdjustmentMagenta | 0 |
HueAdjustmentOrange | 0 |
HueAdjustmentPurple | 0 |
HueAdjustmentRed | 0 |
HueAdjustmentYellow | 0 |
HyperfocalDistance | 1.80 m |
ImageHeight (1) | 3559 |
ImageHeight | 600 |
ImageNumber | 8923 |
ImageSize | 398x600 |
ImageWidth (1) | 2364 |
ImageWidth | 398 |
ISO | 200 |
Keywords | fljæra, natt, skyer, vann |
Lens | 12.0-24.0 mm f/4.0 |
LensInfo | 12-24mm f/4 |
LightSource | Unknown |
LightValue | -2.0 |
LuminanceAdjustmentAqua | 0 |
LuminanceAdjustmentBlue | 0 |
LuminanceAdjustmentGreen | 0 |
LuminanceAdjustmentMagenta | 0 |
LuminanceAdjustmentOrange | 0 |
LuminanceAdjustmentPurple | 0 |
LuminanceAdjustmentRed | 0 |
LuminanceAdjustmentYellow | 0 |
LuminanceSmoothing | 0 |
Make | NIKON CORPORATION |
MaxApertureValue | 4.0 |
Megapixels | 0.239 |
MeteringMode | Multi-segment |
Model | NIKON D2Xs |
ModifyDate (1) | 2007:11:25 16:09:13+01:00 |
ModifyDate | 2007:11:26 20:18:47 |
Orientation | Horizontal (normal) |
ParametricDarks | -20 |
ParametricHighlights | 0 |
ParametricHighlightSplit | 75 |
ParametricLights | -4 |
ParametricMidtoneSplit | 50 |
ParametricShadows | -27 |
ParametricShadowSplit | 25 |
ProfileDescription | Adobe RGB (1998) |
RedHue | 0 |
RedSaturation | 0 |
Rights | Kodiak Photography |
Saturation (2) | 0 |
Saturation | Normal |
SaturationAdjustmentAqua | 0 |
SaturationAdjustmentBlue | 0 |
SaturationAdjustmentGreen | 0 |
SaturationAdjustmentMagenta | 0 |
SaturationAdjustmentOrange | 0 |
SaturationAdjustmentPurple | 0 |
SaturationAdjustmentRed | 0 |
SaturationAdjustmentYellow | 0 |
ScaleFactor35efl | 1.5 |
SceneCaptureType | Standard |
SceneType | Directly photographed |
SensingMethod | One-chip color area |
SerialNumber | 6013562 |
Shadows | 26 |
ShadowTint | 0 |
SharpenDetail | 20 |
SharpenEdgeMasking | 5 |
SharpenRadius | +0.9 |
Sharpness (2) | 134 |
Sharpness | Hard |
ShutterSpeed | 33 |
ShutterSpeedValue | 33 |
Software | ACD Systems Digital Imaging |
SplitToningBalance | 0 |
SplitToningHighlightHue | 0 |
SplitToningHighlightSaturation | 0 |
SplitToningShadowHue | 0 |
SplitToningShadowSaturation | 0 |
Subject | fljæra, natt, skyer, vann |
SubjectDistanceRange | Unknown |
Tint | -4 |
ToneCurve | 0, 0, 32, 22, 64, 56, 128, 128, 192, 196, 255, 255 |
ToneCurveName | Medium Contrast |
Version | 1.0 |
Vibrance | +32 |
VignetteAmount | -6 |
VignetteMidpoint | 53 |
WhiteBalance (2) | Custom |
WhiteBalance | Auto |