Felt | Verdi |
AlreadyApplied | True |
Aperture | 13.0 |
ApertureValue | 13.0 |
BitsPerSample (1) | 16, 16, 16 |
BitsPerSample (2) | 16 16 16 |
BitsPerSample | 8 |
BlueHue | 0 |
BlueSaturation | 0 |
Brightness | +36 |
CameraProfile | ACR 4.4 |
ChromaticAberrationB | 0 |
ChromaticAberrationR | 0 |
CircleOfConfusion | 0.019 mm |
Clarity | 14 |
ColorComponents | 3 |
ColorMode | RGB |
ColorNoiseReduction | 30 |
ColorSpace | sRGB |
ColorTemperature | 5691 |
Contrast | +39 |
ConvertToGrayscale | False |
CopyrightFlag | False |
CreateDate (1) | 2008:09:13 20:47:10+02:00 |
CreateDate | 2008:09:10 19:19:28 |
CreatorTool | Adobe Photoshop CS3 Windows |
CropAngle | 0 |
CropBottom | 0.965079 |
CropHeight | 2427 |
CropLeft | 0.160846 |
CropRight | 0.980953 |
CropTop | 0.028571 |
CropUnit | pixels |
CropWidth | 3189 |
CustomRendered | Normal |
DateTimeDigitized | 2008:09:10 19:19:28.36+02:00 |
DateTimeOriginal (1) | 2008:09:10 19:19:28.36+02:00 |
DateTimeOriginal | 2008:09:10 19:19:28 |
Defringe | 0 |
ExifImageHeight | 768 |
ExifImageWidth | 1009 |
Exposure | +0.38 |
ExposureCompensation | -1 |
ExposureMode | Auto |
ExposureProgram | Aperture-priority AE |
ExposureTime | 1/125 |
FillLight | 0 |
Firmware | 1.0.8 |
Flash | Off, Did not fire |
FlashCompensation | 0 |
FlashFired | False |
FlashFunction | False |
FlashMode | Off |
FlashRedEyeMode | False |
FlashReturn | No return detection |
FNumber | 13.0 |
FocalLength | 160.0 mm |
FocalLength35efl | 160.0 mm (35 mm equivalent: 259.0 mm) |
Format | image/jpeg |
FOV | 8.0 deg |
GreenHue | 0 |
GreenSaturation | 0 |
HasCrop | True |
HasSettings | True |
HighlightRecovery | 0 |
HueAdjustmentAqua | 0 |
HueAdjustmentBlue | 0 |
HueAdjustmentGreen | 0 |
HueAdjustmentMagenta | 0 |
HueAdjustmentOrange | 0 |
HueAdjustmentPurple | 0 |
HueAdjustmentRed | 0 |
HueAdjustmentYellow | 0 |
HyperfocalDistance | 106.10 m |
ICCProfileName | sRGB IEC61966-2.1 |
ImageHeight (1) | 2427 |
ImageHeight | 768 |
ImageNumber | 0 |
ImageSize | 1009x768 |
ImageWidth (1) | 3189 |
ImageWidth | 1009 |
ISO | 800 |
Lens | EF100-400mm f/4.5-5.6L IS USM |
LensInfo | 100-400mm f/? |
LightValue | 11.4 |
LuminanceAdjustmentAqua | -12 |
LuminanceAdjustmentBlue | -10 |
LuminanceAdjustmentGreen | -17 |
LuminanceAdjustmentMagenta | 0 |
LuminanceAdjustmentOrange | +2 |
LuminanceAdjustmentPurple | +7 |
LuminanceAdjustmentRed | -7 |
LuminanceAdjustmentYellow | -2 |
LuminanceSmoothing | 32 |
Make | Canon |
MaxApertureValue | 4.8 |
Megapixels | 0.775 |
MeteringMode | Multi-segment |
Model | Canon EOS 40D |
ModifyDate (1) | 2008:09:13 20:47:10+02:00 |
ModifyDate | 2008:09:13 20:47:10 |
Orientation | Horizontal (normal) |
ParametricDarks | 0 |
ParametricHighlights | 0 |
ParametricHighlightSplit | 75 |
ParametricLights | -7 |
ParametricMidtoneSplit | 50 |
ParametricShadows | 0 |
ParametricShadowSplit | 25 |
PhotometricInterpretation | RGB |
PlanarConfiguration | Chunky |
ProfileDescription | sRGB IEC61966-2.1 |
RedHue | 0 |
RedSaturation | 0 |
SamplesPerPixel | 3 |
Saturation | 0 |
SaturationAdjustmentAqua | +19 |
SaturationAdjustmentBlue | +14 |
SaturationAdjustmentGreen | +17 |
SaturationAdjustmentMagenta | +5 |
SaturationAdjustmentOrange | +2 |
SaturationAdjustmentPurple | +7 |
SaturationAdjustmentRed | +10 |
SaturationAdjustmentYellow | +2 |
ScaleFactor35efl | 1.6 |
SceneCaptureType | Standard |
SerialNumber | 630444448 |
Shadows | 5 |
ShadowTint | 0 |
SharpenDetail | 29 |
SharpenEdgeMasking | 0 |
SharpenRadius | +1.0 |
Sharpness | 37 |
ShutterSpeed | 1/125 |
ShutterSpeedValue | 1/125 |
Software | Adobe Photoshop CS3 Windows |
SplitToningBalance | 0 |
SplitToningHighlightHue | 0 |
SplitToningHighlightSaturation | 0 |
SplitToningShadowHue | 0 |
SplitToningShadowSaturation | 0 |
Tint | +7 |
ToneCurve | 0, 0, 32, 22, 64, 56, 128, 128, 192, 196, 255, 255 |
ToneCurveName | Medium Contrast |
URL_List | |
Version | 4.4.1 |
Vibrance | +7 |
VignetteAmount | 0 |
WhiteBalance (2) | Custom |
WhiteBalance | Auto |