Felt | Verdi |
1
A: -17.11
A: 2.57
A: 5.23
A: 9.23
Add Layer Mask
Add To Selection From: 15.48 cm, 9.23 cm
Add To Selection From: 15.82 cm, 9.16 cm
Add To Selection From: 15.85 cm, 8.08 cm
Add To Selection From: 15.95 cm, 8.59 cm
Add To Selection From: 15.98 cm, 7.34 cm
Add To Selection From: 15.98 cm, 9.97 cm
Add To Selection From: 17.41 cm, 14.34 cm
Add To Selection From: 18.08 cm, 14.95 cm
Add To Selection From: 18.69 cm, 15.43 cm
Add To Selection From: 18.96 cm, 16.1 cm
Add To Selection From: 18.99 cm, 15.73 cm
Add To Selection From: 19.16 cm, 16.41 cm
Add To Selection From: 19.36 cm, 14.92 cm
Add To Selection From: rectangle
Adjustment: curves adjustment list
Adjustment: hue/saturation adjustment list
Adjustment: levels adjustment list
AlreadyApplied | True |
Angle: 0°
Aperture | 2.8 |
ApertureValue | 2.8 |
Apply Image
Apply Image With: calculation
Artist | Geir Ellingsrud |
At: mask channel
AuthorsPosition | Professor |
B: -0.71
B: -2.41
B: -39.02
B: 21
Background Color Clusters: 0
Background Color Clusters: 1
Background Color Parameters: none
Background Color Tolerance: 0.063
Background Color Tolerance: 1558048
Background Spatial Tolerance: 1
BitsPerSample | 8 |
Blending Change
BlueHue | 0 |
BlueSaturation | 0 |
Bottom: 0.42 cm
Bottom: 1.17 cm
Bottom: 1.52 cm
Bottom: 11.95 cm
Bottom: 12.42 cm
Bottom: 13.23 cm
Bottom: 13.57 cm
Bottom: 15.91 cm
Bottom: 18.69 cm
Bottom: 18.8 cm
Bottom: 2.29 cm
Bottom: 20.24 cm
Bottom: 20.37 cm
Bottom: 20.91 cm
Bottom: 20.97 cm
Bottom: 23.47 cm
Bottom: 23.55 cm
Bottom: 25.99 cm
Bottom: 27.23 cm
Bottom: 28.9 cm
Bottom: 3.92 cm
Bottom: 8.97 cm
Brightness | +14 |
Brightness/Contrast 1 Layer
Brightness: -16
Brightness: 0
Brightness: 12
Brightness: 3
Brightness: 7
Brush Tool
By-line | Geir Ellingsrud |
By-lineTitle | Professor |
Calculation: soft light
CameraProfile | Adobe Standard |
CaptionWriter | Ge |
Channel: a channel
Channel: b channel
Channel: blue channel
Channel: composite channel
Channel: lightness channel
ChromaticAberrationB | 0 |
ChromaticAberrationR | 0 |
CircleOfConfusion | 0.019 mm |
Clarity | +28 |
Clear
Color Range
Color Range Fuzziness: 16
Color Range Fuzziness: 4
ColorComponents | 3 |
ColorMode | RGB |
ColorNoiseReduction | 25 |
ColorSpace | sRGB |
ColorTemperature | 3450 |
Contrast | +60 |
Contrast: -42
Contrast: 0
Contrast: 10
Contrast: 2
Contrast: 55
Convert Mode To: Lab color mode
Convert Mode To: RGB color mode
ConvertToGrayscale | False |
Copy
Copy Merged
Copyright Notice: “Geir Ellingsrud2009”
Copyright Status: copyrighted
Copyright | Geir Ellingsrud2009 |
CopyrightFlag | True |
CopyrightNotice | Geir Ellingsrud2009 |
CreateDate (1) | 2009:03:28 19:02:38.03+01:00 |
CreateDate | 2009:03:28 19:02:38 |
Creator | Geir Ellingsrud |
CreatorAddress | Ekebergveien 224c |
CreatorCity | Oslo |
CreatorCountry | Norway |
CreatorPostalCode | N-1162 |
Crop
Crop To: rectangle
Curve: point list
Curves 1 Layer
Curves 2 Layer
curves adjustment
CustomRendered | Normal |
DateTimeDigitized | 2009:03:28 19:02:38.03+01:00 |
DateTimeOriginal | 2009:03:28 19:02:38 |
Defringe | 0 |
Delete
Delete Color Sampler
Delete color sampler 1
Delete current layer
Delete Layer
Deselect
Dimension: 5
Disable Layer Mask
Document Title: “I speilet”
Dodge Tool
Duplicate Channel
Duplicate current channel
Duplicate current layer 2
Duplicate Layer
Elliptical Marquee
Enable Layer Mask
Exchange Swatches
ExifImageHeight | 2740 |
ExifImageWidth | 3708 |
Exposure | -0.05 |
ExposureCompensation | 0 |
ExposureMode | Manual |
ExposureProgram | Manual |
ExposureTime | 1/80 |
File Info
Fill Opacity Change
Fill Opacity: 100%
FillLight | 60 |
Firmware | 1.0.4 |
Flash | On, Fired |
FlashCompensation | 0.333333333333333 |
FlashFired | True |
FlashFunction | False |
FlashMode | On |
FlashRedEyeMode | False |
FlashReturn | No return detection |
FNumber | 2.8 |
FocalLength | 55.0 mm |
Foreground Color Clusters: 17
Foreground Color Clusters: 24
Foreground Color Tolerance: 0.016
Foreground Color Tolerance: 0.063
Foreground Spatial Tolerance: 1
Format | image/jpeg |
FOV | 22.9 deg |
Gamma: 0.71
Gamma: 1.3
Gamma: 1.48
GreenHue | 0 |
GreenSaturation | 0 |
Group Layers
Group Properties
HasCrop | False |
HasSettings | True |
Hide Background
Hide blue channel
Hide channel “Red copy”
Hide current channel
Hide current layer
Hide green channel
Hide layer “Background copy skjerpingslag”
Hide layer “Brightness/Contrast 1”
Hide layer “Brightness/Contrast all over”
Hide layer “Curves 1”
Hide layer “hud lysere”
Hide layer “Hue/Saturation 1”
Hide layer “Hue/Saturation 2”
Hide layer “Hue/Saturation vinduene”
Hide layer “Layer 1”
Hide layer “Levels 1”
Hide layer “Levels 1” of layer “Hue/Saturation 2”
Hide layer “lysere over all”
Hide layer “overlay 2”
Hide layer “ovrlay”
Hide layer “persienner blåere”
Hide layer “skjerping copy”
Hide red channel
HighlightRecovery | 0 |
Hue/Saturation 1 Layer
Hue/Saturation 2 Layer
hue/saturation adjustment
Hue: 0
Hue: 4
HueAdjustmentAqua | 0 |
HueAdjustmentBlue | 0 |
HueAdjustmentGreen | 0 |
HueAdjustmentMagenta | 0 |
HueAdjustmentOrange | 0 |
HueAdjustmentPurple | 0 |
HueAdjustmentRed | 0 |
HueAdjustmentYellow | 0 |
HyperfocalDistance | 58.08 m |
ICCProfileName | sRGB IEC61966-2.1 |
ImageHeight (1) | 3413 |
ImageHeight | 2740 |
ImageNumber | 0 |
ImageSize | 3708x2740 |
ImageWidth (1) | 5120 |
ImageWidth | 3708 |
Input: 0, 144
Input: 0, 203
Invert
ISO | 400 |
Keywords | Krsistin, people, speil, sminke |
Keywords: “Krsistin”, “people”, “speil”, “sminke”
Lab Color
Layer Order
Layer Properties
Layer Via Copy
Left: 0 cm
Left: 0.25 cm
Left: 0.45 cm
Left: 0.9 cm
Left: 0.98 cm
Left: 1.56 cm
Left: 11.29 cm
Left: 11.59 cm
Left: 14.26 cm
Left: 14.94 cm
Left: 15.41 cm
Left: 18.08 cm
Left: 2.18 cm
Left: 26.85 cm
Left: 27.81 cm
Left: 3.52 cm
Left: 33.78 cm
Left: 4.37 cm
Left: 4.5 cm
Left: 4.79 cm
Left: 7.61 cm
Left: 8.15 cm
Lens | EF-S17-55mm f/2.8 IS USM |
LensInfo | 17-55mm f/? |
Levels 1 Layer
levels adjustment
Lightness: -24
Lightness: 0
Lightness: 16
LightValue | 7.3 |
Load Selection
Luminance: 11.3
Luminance: 49.08
Luminance: 75.91
Luminance: 84.26
LuminanceAdjustmentAqua | 0 |
LuminanceAdjustmentBlue | 0 |
LuminanceAdjustmentGreen | 0 |
LuminanceAdjustmentMagenta | 0 |
LuminanceAdjustmentOrange | 0 |
LuminanceAdjustmentPurple | 0 |
LuminanceAdjustmentRed | 0 |
LuminanceAdjustmentYellow | 0 |
LuminanceSmoothing | 0 |
Magic Wand
Make adjustment layer Using: adjustment layer
Make color sampler Position: 19.34 cm, 8.92 cm
Make Group From: current layer
Make New: channel
Make New: layer
Make | Canon |
Marked | True |
master diameter: 121 pixels
master diameter: 201 pixels
master diameter: 23 pixels
master diameter: 24 pixels
master diameter: 41 pixels
master diameter: 42 pixels
master diameter: 45 pixels
master diameter: 67 pixels
Master Opacity Change
MaxApertureValue | 2.8 |
Maximum: Lab color
Megapixels | 10.2 |
MeteringMode | Partial |
Minimum: Lab color
Mode: color
Mode: hard light
Mode: hue
Mode: lighten
Mode: linear light
Mode: luminosity
Mode: multiply
Mode: normal
Mode: overlay
Mode: saturation
Mode: screen
Mode: soft light
Mode: vivid light
Model | Canon EOS 450D |
Modify Brightness/Contrast Layer
Modify Curves Layer
Modify Hue/Saturation Layer
Modify Levels Layer
ModifyDate (1) | 2009:05:03 10:15+02:00 |
ModifyDate | 2009:05:03 10:15:00 |
Move
Move current layer To: layer 1
Move current layer To: layer 3
Move current layer To: layer 4
Move current layer To: layer 5
Name: “Background copy skjerpingslag”
Name: “Brightness/Contrast all over”
Name: “hud lysere”
Name: “hud mørkere”
Name: “hud”
Name: “Hue/Saturation vinduene”
Name: “lysere over all”
Name: “over all lysere”
Name: “overlay 2”
Name: “ovrlay”
Name: “persienne mørkere”
Name: “persienner blåere”
Name: “persienner mørkere og blåere”
Name: “persienner”
Name: “skjerping usm 348-1.0-6”
Name: “skjerping”
New Color Sampler
ObjectName | I speilet |
Opacity: 0%
Opacity: 1%
Opacity: 10%
Opacity: 100%
Opacity: 12%
Opacity: 14%
Opacity: 17%
Opacity: 22%
Opacity: 24%
Opacity: 27%
Opacity: 29%
Opacity: 3%
Opacity: 33%
Opacity: 34%
Opacity: 36%
Opacity: 37%
Opacity: 38%
Opacity: 39%
Opacity: 4%
Opacity: 44%
Opacity: 45%
Opacity: 46%
Opacity: 47%
Opacity: 49%
Opacity: 55%
Opacity: 57%
Opacity: 59%
Opacity: 6%
Opacity: 63%
Opacity: 67%
Opacity: 69%
Opacity: 7%
Opacity: 78%
Opacity: 8%
Opacity: 81%
Opacity: 87%
Opacity: 89%
Opacity: 9%
Opacity: 90%
Opacity: 93%
Orientation | Horizontal (normal) |
Output: 0, 226
Output: 1, 255
ParametricDarks | 0 |
ParametricHighlights | 0 |
ParametricHighlightSplit | 75 |
ParametricLights | 0 |
ParametricMidtoneSplit | 50 |
ParametricShadows | 0 |
ParametricShadowSplit | 25 |
Paste
Paste Anti-alias: none
point: 0, 0
point: 108, 77
point: 113, 155
point: 117, 116
point: 118, 135
point: 122, 124
point: 123, 102
point: 128, 123
point: 128, 128
point: 132, 127
point: 132, 142
point: 135, 109
point: 139, 140
point: 149, 131
point: 150, 127
point: 151, 133
point: 154, 131
point: 155, 124
point: 157, 167
point: 22, 0
point: 255, 244
point: 255, 254
point: 255, 255
point: 51, 58
point: 65, 201
point: 70, 79
point: 82, 96
point: 83, 109
point: 84, 167
PostCropVignetteAmount | 0 |
Preset Kind: Custom
Preset Kind: Default
ProfileDescription | sRGB IEC61966-2.1 |
Quick Selection
Radius: 1 pixels
Radius: 1.3 pixels
Rating | 4 |
RawFileName | _MG_7459.CR2 |
Rectangular Marquee
RedHue | 0 |
Redo
RedSaturation | 0 |
RGB Color
Right: 13.69 cm
Right: 14.17 cm
Right: 16.03 cm
Right: 16.26 cm
Right: 16.54 cm
Right: 2.19 cm
Right: 24.05 cm
Right: 29.56 cm
Right: 3.71 cm
Right: 31.32 cm
Right: 32.29 cm
Right: 33.36 cm
Right: 37.86 cm
Right: 37.98 cm
Right: 4.49 cm
Right: 42.04 cm
Right: 8.15 cm
Right: 8.61 cm
Right: 8.64 cm
Right: 8.86 cm
Right: 9.03 cm
Right: 9.19 cm
Rights | Geir Ellingsrud2009 |
Saturation | -5 |
Saturation: -24
Saturation: 73
Saturation: 74
SaturationAdjustmentAqua | 0 |
SaturationAdjustmentBlue | 0 |
SaturationAdjustmentGreen | 0 |
SaturationAdjustmentMagenta | 0 |
SaturationAdjustmentOrange | 0 |
SaturationAdjustmentPurple | 0 |
SaturationAdjustmentRed | 0 |
SaturationAdjustmentYellow | 0 |
Save
ScaleFactor35efl | 1.6 |
SceneCaptureType | Standard |
Select blue channel
Select brush
Select brush 1
Select burn
Select Canvas
Select current channel
Select current channel Without Make Visible
Select dodge
Select green channel
Select history state -10
Select Lab channel
Select Lab channel Without Make Visible
Select layer “Background” Without Make Visible
Select layer “Curves 1” Without Make Visible
Select layer “Curves 2” Without Make Visible
Select layer “hud lysere” Without Make Visible
Select layer “hud mørkere” Without Make Visible
Select layer “Hue/Saturation 1” Without Make Visible
Select layer “Hue/Saturation 2” Without Make Visible
Select layer “Levels 1” Without Make Visible
Select layer “lysere over all” Without Make Visible
Select layer “overlay 2” Without Make Visible
Select layer “ovrlay” Without Make Visible
Select layer “skjerping copy” Without Make Visible
Select layer “skjerping” Without Make Visible
Select lightness channel
Select mask channel
Select previous history state
Select quick selection
Select red channel
Select RGB channel Without Make Visible
Select sponge
SerialNumber | 680121782 |
Set current adjustment layer To: brightness/contrast
Set current adjustment layer To: curves
Set current adjustment layer To: hue/saturation
Set current adjustment layer To: levels
Set current brush To: brush
Set current layer To: layer
Set File Info of current document To: file info
Set Selection To: all
Set Selection To: current channel
Set Selection To: none
Set Selection To: rectangle
Shadows | 3 |
ShadowTint | 0 |
SharpenDetail | 25 |
SharpenEdgeMasking | 0 |
SharpenRadius | +1.0 |
Sharpness | 25 |
Show Background
Show channel “Red copy”
Show current channel
Show current layer
Show layer “Background copy skjerpingslag”
Show layer “Brightness/Contrast 1”
Show layer “Brightness/Contrast all over”
Show layer “Curves 1”
Show layer “hud lysere”
Show layer “Hue/Saturation 1”
Show layer “Hue/Saturation 2”
Show layer “Hue/Saturation vinduene”
Show layer “Layer 1”
Show layer “Levels 1”
Show layer “lysere over all”
Show layer “overlay 2”
Show layer “ovrlay”
Show layer “persienner blåere”
Show layer “skjerping copy”
Show layer “skjerping”
Show red channel, green channel, blue channel
ShutterSpeed | 1/80 |
ShutterSpeedValue | 1/80 |
Software | Adobe Photoshop CS4 Macintosh |
Source: Lab channel of layer “skjerping copy”
Source: lightness channel of layer “skjerping copy”
SplitToningBalance | 0 |
SplitToningHighlightHue | 0 |
SplitToningHighlightSaturation | 0 |
SplitToningShadowHue | 0 |
SplitToningShadowSaturation | 0 |
Sponge Tool
Subject | Krsistin, people, speil, sminke |
Subtract From Selection Using: 18.08 cm, 17.01 cm
Subtract From Selection Using: 3.07 cm, 17.7 cm
Subtract From Selection Using: 3.73 cm, 18.26 cm
Subtract From Selection Using: 6.6 cm, 18.15 cm
Subtract From Selection Using: ellipse
Subtract From Selection Using: rectangle
Target Height: 0 pixels
Target Resolution: 0 per cm
Target Width: 0 pixels
Threshold
Threshold Level: 44
Threshold: 4
Threshold: 6
Tint | 0 |
Title | I speilet |
Tolerance: 7
ToneCurve | 0, 0, 32, 22, 64, 56, 128, 128, 192, 196, 255, 255 |
ToneCurveName | Medium Contrast |
Top: 0 cm
Top: 0.35 cm
Top: 0.41 cm
Top: 1.48 cm
Top: 1.58 cm
Top: 1.67 cm
Top: 10.11 cm
Top: 10.4 cm
Top: 11.97 cm
Top: 13.16 cm
Top: 13.46 cm
Top: 14.34 cm
Top: 15.33 cm
Top: 2.06 cm
Top: 2.25 cm
Top: 21.79 cm
Top: 3.88 cm
Top: 7.82 cm
Top: 7.98 cm
Top: 9.53 cm
Type: brightness/contrast
Type: curves
Type: hue/saturation
Type: levels
Undo
Unsharp Mask
Unsharp Mask Amount: 348%
Unsharp Mask Amount: 87%
URL_List | |
Using: reveal all
Using: selection
Version | 5.3 |
Vibrance | +11 |
VignetteAmount | 0 |
WhiteBalance | Auto |
With Anti-alias
With Copy
With Flatten
With Hide
With Layer Mask Enabled
With Merged
Without Adjust Selection
Without Colorize
Without Layer Mask Enabled
Without Make Visible
Without Rasterize
Writer-Editor | Ge |