Felt | Verdi |
AlreadyApplied | True |
Aperture | 4.0 |
ApertureValue | 4.0 |
BitsPerSample | 8 |
BlueHue | 0 |
BlueSaturation | 0 |
Brightness | +43 |
CameraProfile | ACR 4.4 |
ChromaticAberrationB | 0 |
ChromaticAberrationR | 0 |
CircleOfConfusion | 0.019 mm |
Clarity | +57 |
ColorComponents | 1 |
ColorMode | RGB |
ColorNoiseReduction | 25 |
ColorSpace | sRGB |
ColorTemperature | 4024 |
Contrast | +62 |
ConvertToGrayscale | True |
CopyrightFlag | False |
CreateDate (1) | 2009:06:22 23:02:54+02:00 |
CreateDate | 2009:06:02 16:56:46 |
CreatorTool | Adobe Photoshop CS3 Windows |
CropAngle | 7.61738 |
CropBottom | 1 |
CropHeight | 2427 |
CropLeft | 0.075313 |
CropRight | 0.774108 |
CropTop | 0 |
CropUnit | pixels |
CropWidth | 3336 |
CustomRendered | Normal |
DateTimeDigitized | 2009:06:02 16:56:46.03+02:00 |
DateTimeOriginal (1) | 2009:06:02 16:56:46.03+02:00 |
DateTimeOriginal | 2009:06:02 16:56:46 |
Defringe | 0 |
ExifImageHeight | 829 |
ExifImageWidth | 610 |
Exposure | +0.95 |
ExposureCompensation | 0 |
ExposureMode | Auto |
ExposureProgram | Aperture-priority AE |
ExposureTime | 1/50 |
FillLight | 6 |
Firmware | 1.0.9 |
Flash | Off, Did not fire |
FlashCompensation | 0 |
FlashFired | False |
FlashFunction | False |
FlashMode | Off |
FlashRedEyeMode | False |
FlashReturn | No return detection |
FNumber | 4.0 |
FocalLength | 18.0 mm |
FocalLength35efl | 18.0 mm (35 mm equivalent: 29.1 mm) |
Format | image/jpeg |
FOV | 63.5 deg |
GrayMixerAqua | -12 |
GrayMixerBlue | +10 |
GrayMixerGreen | -27 |
GrayMixerMagenta | +4 |
GrayMixerOrange | -19 |
GrayMixerPurple | +16 |
GrayMixerRed | -10 |
GrayMixerYellow | -24 |
GreenHue | 0 |
GreenSaturation | 0 |
HasCrop | True |
HasSettings | True |
HighlightRecovery | 11 |
HyperfocalDistance | 4.35 m |
ICCProfileName | sRGB IEC61966-2.1 |
ImageHeight (1) | 3336 |
ImageHeight | 829 |
ImageNumber | 0 |
ImageSize | 610x829 |
ImageWidth (1) | 2427 |
ImageWidth | 610 |
ISO | 800 |
Lens | 18-125mm |
LensInfo | 18-125mm f/? |
LightValue | 6.6 |
LuminanceSmoothing | 6 |
Make | Canon |
MaxApertureValue | 3.8 |
Megapixels | 0.506 |
MeteringMode | Multi-segment |
Model | Canon EOS 450D |
ModifyDate (1) | 2009:06:22 23:02:54+02:00 |
ModifyDate | 2009:06:22 23:02:54 |
Orientation | Horizontal (normal) |
ParametricDarks | +5 |
ParametricHighlights | +24 |
ParametricHighlightSplit | 75 |
ParametricLights | +38 |
ParametricMidtoneSplit | 50 |
ParametricShadows | -19 |
ParametricShadowSplit | 25 |
PostCropVignetteAmount | 0 |
ProfileDescription | sRGB IEC61966-2.1 |
RedHue | 0 |
RedSaturation | 0 |
ScaleFactor35efl | 1.6 |
SceneCaptureType | Standard |
SerialNumber | 530176788 |
Shadows | 6 |
ShadowTint | 0 |
SharpenDetail | 44 |
SharpenEdgeMasking | 0 |
SharpenRadius | +1.0 |
Sharpness | 89 |
ShutterSpeed | 1/50 |
ShutterSpeedValue | 1/50 |
Software | Adobe Photoshop CS3 Windows |
SplitToningBalance | 0 |
SplitToningHighlightHue | 0 |
SplitToningHighlightSaturation | 0 |
SplitToningShadowHue | 0 |
SplitToningShadowSaturation | 0 |
Tint | +12 |
ToneCurve | 0, 0, 32, 16, 64, 50, 128, 128, 192, 202, 255, 255 |
ToneCurveName | Strong Contrast |
URL_List | |
Version | 4.5 |
VignetteAmount | 0 |
WhiteBalance (2) | Custom |
WhiteBalance | Auto |