Felt | Verdi |
AlreadyApplied | True |
Aperture | 8.0 |
ApertureValue | 8.0 |
BitsPerSample | 8 |
BlueHue | 0 |
BlueSaturation | 0 |
Brightness | +50 |
CameraProfile | ACR 2.4 |
Caption-Abstract | OLYMPUS DIGITAL CAMERA |
ChromaticAberrationB | 0 |
ChromaticAberrationR | 0 |
Clarity | +50 |
ColorComponents | 1 |
ColorNoiseReduction | 0 |
Contrast (2) | 0 |
Contrast | High |
ConvertToGrayscale | True |
CreateDate (1) | 2009:07:21 18:44:26+02:00 |
CreateDate | 2009:07:21 18:44:26 |
CreatorTool | Adobe Photoshop Lightroom |
CustomRendered | Custom |
DateTimeDigitized | 2009:07:21 18:44:26+02:00 |
DateTimeOriginal (1) | 2009:07:21 18:44:26+02:00 |
DateTimeOriginal | 2009:07:21 18:44:26 |
Defringe | 0 |
Description | OLYMPUS DIGITAL CAMERA |
DigitalZoomRatio | 1 |
ExifImageHeight | 3024 |
ExifImageWidth | 3024 |
Exposure | +0.66 |
ExposureCompensation | 0 |
ExposureMode | Auto |
ExposureProgram | Aperture-priority AE |
ExposureTime | 1/25 |
FillLight | 37 |
Flash | Auto, Did not fire |
FlashCompensation | 0.6640625 |
FlashFired | False |
FlashFunction | False |
FlashMode | Auto |
FlashRedEyeMode | False |
FlashReturn | No return detection |
FNumber | 8.0 |
FocalLength | 17.0 mm |
FocalLength35efl | 17.0 mm |
GainControl | None |
GrayMixerAqua | -6 |
GrayMixerBlue | +18 |
GrayMixerGreen | -7 |
GrayMixerMagenta | +19 |
GrayMixerOrange | -6 |
GrayMixerPurple | +27 |
GrayMixerRed | +7 |
GrayMixerYellow | -13 |
GreenHue | 0 |
GreenSaturation | 0 |
HasCrop | False |
HasSettings | True |
HighlightRecovery | 10 |
ImageDescription | OLYMPUS DIGITAL CAMERA |
ImageHeight | 3024 |
ImageSize | 3024x3024 |
ImageWidth | 3024 |
IncrementalTemperature | 0 |
IncrementalTint | 0 |
ISO | 100 |
Keywords | Italia, Italy, TPW, ander petersen, lightroom, olympus, olympus e-p1, pen, toscana, workshop |
Lens | 17.0 mm f/2.8 |
LensInfo | 17mm f/2.8 |
LensSerialNumber | AAC215312 |
LightSource | Unknown |
LightValue | 10.6 |
LuminanceSmoothing | 0 |
Make | OLYMPUS IMAGING CORP. |
MaxApertureValue | 2.8 |
Megapixels | 9.1 |
MeteringMode | Multi-segment |
Model | E-P1 |
ModifyDate (1) | 2009:08:31 00:52:11+02:00 |
ModifyDate | 2009:08:31 00:52:11 |
ParametricDarks | -15 |
ParametricHighlights | +8 |
ParametricHighlightSplit | 75 |
ParametricLights | +15 |
ParametricMidtoneSplit | 50 |
ParametricShadows | -30 |
ParametricShadowSplit | 25 |
PostCropVignetteAmount | 0 |
ProfileDescription | sRGB IEC61966-2.1 |
Rating | 1 |
RedHue | 0 |
RedSaturation | 0 |
Saturation | Normal |
SceneCaptureType | Standard |
SerialNumber | H46508078 |
Shadows | 28 |
ShadowTint | 0 |
SharpenDetail | 20 |
SharpenEdgeMasking | 70 |
SharpenRadius | +1.2 |
Sharpness (2) | 35 |
Sharpness | Hard |
ShutterSpeed | 1/25 |
ShutterSpeedValue | 1/25 |
Software | Version 1.0 |
SplitToningBalance | 0 |
SplitToningHighlightHue | 46 |
SplitToningHighlightSaturation | 0 |
SplitToningShadowHue | 189 |
SplitToningShadowSaturation | 0 |
Subject | Italia, Italy, TPW, ander petersen, lightroom, olympus, olympus e-p1, pen, toscana, workshop |
ToneCurve | 0, 0, 32, 22, 64, 56, 128, 128, 192, 196, 255, 255 |
ToneCurveName | Medium Contrast |
Version | 5.4 |
VignetteAmount | 0 |
WhiteBalance (2) | As Shot |
WhiteBalance | Manual |