Felt | Verdi |
AlreadyApplied | True |
Aperture | 8.0 |
ApertureValue | 8.0 |
BitsPerSample | 8 |
BlueHue | 0 |
BlueSaturation | 0 |
Brightness | +50 |
CameraProfile | Camera Landscape |
ChromaticAberrationB | 0 |
ChromaticAberrationR | 0 |
CircleOfConfusion | 0.019 mm |
Clarity | 0 |
ColorComponents | 3 |
ColorNoiseReduction | 25 |
ColorTemperature | 7300 |
Contrast | +25 |
ConvertToGrayscale | False |
CreateDate (1) | 2009:07:04 09:25:14.79+02:00 |
CreateDate | 2009:07:04 09:25:14 |
CreatorTool | Adobe Photoshop Lightroom |
CropAngle | -0.962582 |
CropBottom | 0.975417 |
CropHeight | 533 |
CropLeft | 0.006829 |
CropRight | 0.993171 |
CropTop | 0.024583 |
CropUnit | pixels |
CropWidth | 800 |
CustomRendered | Normal |
DateTimeDigitized | 2009:07:04 09:25:14.79+02:00 |
DateTimeOriginal (1) | 2009:07:04 09:25:14.79+02:00 |
DateTimeOriginal | 2009:07:04 09:25:14 |
Defringe | 0 |
ExifImageHeight | 533 |
ExifImageWidth | 800 |
Exposure | -1.32 |
ExposureCompensation | +1/3 |
ExposureMode | Auto |
ExposureProgram | Aperture-priority AE |
ExposureTime | 1/60 |
FillLight | 0 |
Firmware | 1.0.6 |
Flash | Off, Did not fire |
FlashCompensation | 0 |
FlashFired | False |
FlashFunction | False |
FlashMode | Off |
FlashRedEyeMode | False |
FlashReturn | No return detection |
FNumber | 8.0 |
FocalLength | 17.0 mm |
FocalLength35efl | 17.0 mm (35 mm equivalent: 26.9 mm) |
FOV | 67.5 deg |
GreenHue | 0 |
GreenSaturation | 0 |
HasCrop | True |
HasSettings | True |
HighlightRecovery | 16 |
HueAdjustmentAqua | 0 |
HueAdjustmentBlue | 0 |
HueAdjustmentGreen | 0 |
HueAdjustmentMagenta | 0 |
HueAdjustmentOrange | 0 |
HueAdjustmentPurple | 0 |
HueAdjustmentRed | 0 |
HueAdjustmentYellow | 0 |
HyperfocalDistance | 1.91 m |
ImageHeight | 533 |
ImageNumber | 0 |
ImageSize | 800x533 |
ImageWidth | 800 |
ISO | 100 |
Lens | EF17-40mm f/4L USM |
LensInfo | 17-40mm f/? |
LightValue | 11.9 |
LuminanceAdjustmentAqua | 0 |
LuminanceAdjustmentBlue | 0 |
LuminanceAdjustmentGreen | 0 |
LuminanceAdjustmentMagenta | 0 |
LuminanceAdjustmentOrange | 0 |
LuminanceAdjustmentPurple | 0 |
LuminanceAdjustmentRed | 0 |
LuminanceAdjustmentYellow | 0 |
LuminanceSmoothing | 0 |
Make | Canon |
MaxApertureValue | 4.0 |
Megapixels | 0.426 |
MeteringMode | Multi-segment |
Model | Canon EOS 50D |
ModifyDate (1) | 2009:09:18 20:39:43+02:00 |
ModifyDate | 2009:09:18 20:39:43 |
ParametricDarks | 0 |
ParametricHighlights | 0 |
ParametricHighlightSplit | 75 |
ParametricLights | 0 |
ParametricMidtoneSplit | 50 |
ParametricShadows | 0 |
ParametricShadowSplit | 25 |
PostCropVignetteAmount | 0 |
ProfileDescription | ProPhoto RGB |
Rating | 2 |
RedHue | 0 |
RedSaturation | 0 |
Saturation | 0 |
SaturationAdjustmentAqua | 0 |
SaturationAdjustmentBlue | +65 |
SaturationAdjustmentGreen | +31 |
SaturationAdjustmentMagenta | 0 |
SaturationAdjustmentOrange | +33 |
SaturationAdjustmentPurple | 0 |
SaturationAdjustmentRed | 0 |
SaturationAdjustmentYellow | 0 |
ScaleFactor35efl | 1.6 |
SceneCaptureType | Standard |
SerialNumber | 530329460 |
Shadows | 3 |
ShadowTint | 0 |
SharpenDetail | 25 |
SharpenEdgeMasking | 0 |
SharpenRadius | +1.0 |
Sharpness | 41 |
ShutterSpeed | 1/60 |
ShutterSpeedValue | 1/60 |
SplitToningBalance | 0 |
SplitToningHighlightHue | 0 |
SplitToningHighlightSaturation | 0 |
SplitToningShadowHue | 0 |
SplitToningShadowSaturation | 0 |
Tint | +11 |
ToneCurve | 0, 0, 32, 22, 64, 56, 128, 128, 192, 196, 255, 255 |
ToneCurveName | Medium Contrast |
Version | 5.3 |
Vibrance | 0 |
VignetteAmount | 0 |
WhiteBalance (2) | Custom |
WhiteBalance | Auto |