Felt | Verdi |
AlreadyApplied | True |
Aperture | 4.5 |
ApertureValue | 4.5 |
BitsPerSample (2) | 16, 16, 16 |
BitsPerSample (3) | 8 8 8 8 |
BitsPerSample | 8 |
BlueHue | 0 |
BlueSaturation | 0 |
Brightness | +36 |
CameraProfile | Embedded |
ChromaticAberrationB | 0 |
ChromaticAberrationR | 0 |
CircleOfConfusion | 0.020 mm |
Clarity | +5 |
ColorComponents | 3 |
ColorMode | RGB |
ColorNoiseReduction | 25 |
ColorSpace | Unknown (-1) |
Contrast (3) | +25 |
Contrast | Normal |
ConvertToGrayscale | False |
CopyrightFlag | False |
CreateDate | 2009:10:20 18:58:19+02:00 |
CreatorTool | Adobe Photoshop Elements 6.0 Windows |
CropAngle | 0.953214 |
CropBottom | 0.940958 |
CropHeight | 1680 |
CropLeft | 0.163612 |
CropRight | 0.947499 |
CropTop | 0.056892 |
CropUnit | pixels |
CropWidth | 2298 |
CustomRendered | Normal |
DateTimeDigitized | 2009:10:03 13:01:01.90+02:00 |
DateTimeOriginal | 2009:10:03 13:01:01.90+02:00 |
Defringe | 0 |
DigitalZoomRatio | 1 |
ExifImageHeight | 1680 |
ExifImageWidth | 2298 |
Exposure | -1.14 |
ExposureCompensation | 0 |
ExposureMode | Auto |
ExposureProgram | Not Defined |
ExposureTime | 1/80 |
ExtraSamples | Unassociated Alpha |
FillLight | 30 |
Flash | Off, Did not fire |
FlashFired | False |
FlashFunction | False |
FlashMode | Off |
FlashRedEyeMode | False |
FlashReturn | No return detection |
FNumber | 4.5 |
FocalLength | 18.0 mm |
FocalLength35efl | 18.0 mm (35 mm equivalent: 27.0 mm) |
FocalLengthIn35mmFormat | 27 mm |
Format | image/tiff |
FOV | 67.4 deg |
GainControl | None |
GreenHue | 0 |
GreenSaturation | 0 |
HasCrop | True |
HasSettings | True |
HighlightRecovery | 0 |
HueAdjustmentAqua | 0 |
HueAdjustmentBlue | 0 |
HueAdjustmentGreen | +1 |
HueAdjustmentMagenta | 0 |
HueAdjustmentOrange | +3 |
HueAdjustmentPurple | 0 |
HueAdjustmentRed | 0 |
HueAdjustmentYellow | +5 |
HyperfocalDistance | 3.59 m |
ICCProfileName | ProPhoto RGB |
ImageHeight (1) | 1680 |
ImageHeight | 1756 |
ImageNumber | 5224 |
ImageSize | 2383x1756 |
ImageWidth (2) | 2298 |
ImageWidth | 2383 |
IncrementalTemperature | +2 |
IncrementalTint | +2 |
ISO | 200 |
Lens | 18.0-55.0 mm f/3.5-5.6 |
LensInfo | 18-55mm f/3.5-5.6 |
LightSource | Unknown |
LightValue | 9.7 |
LuminanceAdjustmentAqua | 0 |
LuminanceAdjustmentBlue | 0 |
LuminanceAdjustmentGreen | 0 |
LuminanceAdjustmentMagenta | 0 |
LuminanceAdjustmentOrange | 0 |
LuminanceAdjustmentPurple | 0 |
LuminanceAdjustmentRed | 0 |
LuminanceAdjustmentYellow | 0 |
LuminanceSmoothing | 0 |
Make | NIKON CORPORATION |
MaxApertureValue | 3.5 |
Megapixels | 4.2 |
MeteringMode | Multi-segment |
Model | NIKON D60 |
ModifyDate (2) | 2009:10:20 18:58:19+02:00 |
ModifyDate | 2009:10:20 18:58:19 |
Orientation | Horizontal (normal) |
ParametricDarks | -31 |
ParametricHighlights | 0 |
ParametricHighlightSplit | 78 |
ParametricLights | +14 |
ParametricMidtoneSplit | 57 |
ParametricShadows | +4 |
ParametricShadowSplit | 25 |
PhotometricInterpretation | RGB |
PlanarConfiguration | Chunky |
PostCropVignetteAmount | 0 |
Predictor | None |
ProfileDescription | ProPhoto RGB |
Rating | 5 |
RedHue | 0 |
RedSaturation | 0 |
RowsPerStrip | 1 |
SamplesPerPixel (2) | 3 |
SamplesPerPixel | 4 |
Saturation (1) | 0 |
Saturation | Normal |
SaturationAdjustmentAqua | 0 |
SaturationAdjustmentBlue | 0 |
SaturationAdjustmentGreen | 0 |
SaturationAdjustmentMagenta | +2 |
SaturationAdjustmentOrange | +2 |
SaturationAdjustmentPurple | 0 |
SaturationAdjustmentRed | +3 |
SaturationAdjustmentYellow | 0 |
ScaleFactor35efl | 1.5 |
SceneCaptureType | Standard |
SceneType | Directly photographed |
SensingMethod | One-chip color area |
SerialNumber | 6538953 |
Shadows | 15 |
ShadowTint | 0 |
SharpenDetail | 20 |
SharpenEdgeMasking | 70 |
SharpenRadius | +1.2 |
Sharpness (3) | 25 |
Sharpness | Normal |
ShutterSpeed | 1/80 |
ShutterSpeedValue | 1/80 |
Software | PhotoScape |
SplitToningBalance | 0 |
SplitToningHighlightHue | 52 |
SplitToningHighlightSaturation | 64 |
SplitToningShadowHue | 37 |
SplitToningShadowSaturation | 22 |
SubfileType | Full-resolution Image |
SubjectDistanceRange | Unknown |
ToneCurve | 0, 0, 32, 16, 64, 50, 128, 128, 192, 202, 255, 255 |
ToneCurveName | Strong Contrast |
URL_List | |
Version | 5.5 |
Vibrance | 0 |
VignetteAmount | 0 |
WhiteBalance (1) | Custom |
WhiteBalance | Auto |