Felt | Verdi |
AlreadyApplied | True |
Aperture | 13.0 |
ApertureValue | 13.0 |
Artist | Geir Ebbestad |
BitsPerSample | 8 |
BlueHue | 0 |
BlueSaturation | 0 |
Brightness | +46 |
By-line | Geir Ebbestad |
CameraProfile | ACR 4.4 |
ChromaticAberrationB | 0 |
ChromaticAberrationR | 0 |
CircleOfConfusion | 0.019 mm |
Clarity | +33 |
ColorComponents | 3 |
ColorMode | RGB |
ColorNoiseReduction | 25 |
ColorSpace (1) | Unknown (-1) |
ColorSpace | Uncalibrated |
ColorTemperature | 3250 |
Contrast | +70 |
ConvertToGrayscale | True |
Copyright | Geir Ebbestad |
CopyrightFlag | True |
CopyrightNotice | Geir Ebbestad |
CreateDate (1) | 2009:12:01 12:02:48+01:00 |
CreateDate | 2009:11:27 07:10:20 |
Creator | Geir Ebbestad |
CreatorAddress | Myrvollveien 11 |
CreatorCity | Kløfta |
CreatorCountry | Norway |
CreatorPostalCode | 2040 |
CreatorTool | Adobe Photoshop Elements 7.0 Windows |
CreatorWorkEmail | geir-ebbestad@c2i.net |
CustomRendered | Normal |
DateTimeDigitized | 2009:11:27 07:10:20+01:00 |
DateTimeOriginal (1) | 2009:11:27 07:10:20+01:00 |
DateTimeOriginal | 2009:11:27 07:10:20 |
Defringe | 0 |
ExifImageHeight | 3396 |
ExifImageWidth | 4337 |
Exposure | -1.81 |
ExposureCompensation | 0 |
ExposureMode | Manual |
ExposureProgram | Manual |
ExposureTime | 30 |
FillLight | 13 |
Firmware | 1.1.1 |
Flash | Off, Did not fire |
FlashCompensation | -0.666666666666667 |
FlashFired | False |
FlashFunction | False |
FlashMode | Off |
FlashRedEyeMode | False |
FlashReturn | No return detection |
FNumber | 13.0 |
FocalLength | 104.0 mm |
FocalLength35efl | 104.0 mm (35 mm equivalent: 168.3 mm) |
Format | image/jpeg |
FOV | 12.2 deg |
GrayMixerAqua | -23 |
GrayMixerBlue | 0 |
GrayMixerGreen | -20 |
GrayMixerMagenta | +11 |
GrayMixerOrange | -4 |
GrayMixerPurple | +12 |
GrayMixerRed | +6 |
GrayMixerYellow | -9 |
GreenHue | 0 |
GreenSaturation | 0 |
HasCrop | False |
HasSettings | True |
HighlightRecovery | 21 |
HyperfocalDistance | 44.81 m |
ICCProfileName | Adobe RGB (1998) |
ImageHeight (1) | 2592 |
ImageHeight | 3396 |
ImageNumber | 160 |
ImageSize | 4337x3396 |
ImageWidth (1) | 3888 |
ImageWidth | 4337 |
ISO | 100 |
Lens | 70.0-200.0 mm |
LensInfo | 70-200mm f/? |
LightValue | 2.5 |
LuminanceSmoothing | 0 |
Make | Canon |
Marked | True |
MaxApertureValue | 2.8 |
Megapixels | 14.7 |
MeteringMode | Average |
Model | Canon EOS 400D DIGITAL |
ModifyDate (1) | 2009:12:01 12:02:48+01:00 |
ModifyDate | 2009:12:01 12:02:48 |
Orientation | Horizontal (normal) |
OwnerName | unknown |
ParametricDarks | -5 |
ParametricHighlights | -21 |
ParametricHighlightSplit | 75 |
ParametricLights | 0 |
ParametricMidtoneSplit | 50 |
ParametricShadows | -7 |
ParametricShadowSplit | 25 |
PostCropVignetteAmount | 0 |
ProfileDescription | Adobe RGB (1998) |
RedHue | 0 |
RedSaturation | 0 |
Rights | Geir Ebbestad |
ScaleFactor35efl | 1.6 |
SceneCaptureType | Standard |
SerialNumber | 1781109475 |
Shadows | 19 |
ShadowTint | 0 |
SharpenDetail | 25 |
SharpenEdgeMasking | 0 |
SharpenRadius | +1.0 |
Sharpness | 25 |
ShutterSpeed | 30 |
ShutterSpeedValue | 30 |
Software | Adobe Photoshop Elements 7.0 Windows |
SplitToningBalance | 0 |
SplitToningHighlightHue | 0 |
SplitToningHighlightSaturation | 0 |
SplitToningShadowHue | 0 |
SplitToningShadowSaturation | 0 |
Tint | +6 |
ToneCurve | 0, 0, 32, 22, 64, 56, 128, 128, 192, 196, 255, 255 |
ToneCurveName | Medium Contrast |
URL_List | |
Version | 5.5 |
VignetteAmount | 0 |
WhiteBalance (2) | As Shot |
WhiteBalance | Manual |