Felt | Verdi |
AlreadyApplied | True |
Aperture | 9.5 |
ApertureValue | 9.5 |
Artist | Eric Fagerheim |
AuthorsPosition | photographer |
BitsPerSample | 8 |
BlueHue | +11 |
BlueSaturation | -21 |
Brightness | +36 |
By-line | Eric Fagerheim |
By-lineTitle | photographer |
CameraProfile | Embedded |
Caption-Abstract | Eric Fagerheim |
ChromaticAberrationB | 0 |
ChromaticAberrationR | 0 |
CircleOfConfusion | 0.020 mm |
Clarity | 0 |
ColorComponents | 3 |
ColorNoiseReduction | 0 |
ColorSpace | sRGB |
Contrast (2) | +32 |
Contrast | Normal |
ConvertToGrayscale | True |
Copyright | Eric Fagerheim |
CopyrightFlag | True |
CopyrightNotice | Eric Fagerheim |
CreateDate (1) | 2009:12:07 17:17:44+01:00 |
CreateDate | 2009:12:07 17:17:44 |
Creator | Eric Fagerheim |
CreatorCity | Trondheim |
CreatorCountry | Norway |
CreatorTool | Adobe Photoshop Lightroom |
CreatorWorkTelephone | +92440401 |
CreatorWorkURL | http://www.fotofashon.no |
CustomRendered | Normal |
DateTimeDigitized | 2009:12:07 17:17:44+01:00 |
DateTimeOriginal (1) | 2009:12:07 17:17:44+01:00 |
DateTimeOriginal | 2009:12:07 17:17:44 |
Defringe | 0 |
Description | Eric Fagerheim |
ExifImageHeight | 532 |
ExifImageWidth | 800 |
Exposure | 0.00 |
ExposureCompensation | 0 |
ExposureMode | Manual |
ExposureProgram | Manual |
ExposureTime | 1/180 |
FillLight | 0 |
Flash | Off, Did not fire |
FlashFired | False |
FlashFunction | False |
FlashMode | Off |
FlashRedEyeMode | False |
FlashReturn | No return detection |
FNumber | 9.5 |
FocalLength | 85.0 mm |
FocalLength35efl | 85.0 mm (35 mm equivalent: 127.0 mm) |
FocalLengthIn35mmFormat | 127 mm |
Format | application/vnd.adobe.photoshop |
FOV | 16.1 deg |
GrayMixerAqua | -10 |
GrayMixerBlue | +19 |
GrayMixerGreen | -9 |
GrayMixerMagenta | +30 |
GrayMixerOrange | -14 |
GrayMixerPurple | +25 |
GrayMixerRed | -5 |
GrayMixerYellow | -14 |
GreenHue | +16 |
GreenSaturation | +51 |
HasCrop | False |
HasSettings | True |
HighlightRecovery | 0 |
HyperfocalDistance | 37.82 m |
ImageDescription | Eric Fagerheim |
ImageHeight | 532 |
ImageSize | 800x532 |
ImageWidth | 800 |
IncrementalTemperature | 0 |
IncrementalTint | 0 |
ISO | 100 |
Keywords | baby, barnefotograf, bilder, christer hammar, foto, fotograf, trondheim |
Label | fotofashion |
Lens | smc PENTAX-DA* 50-135mm F2.8 ED [IF] SDM |
LensID (1) | 8 241 |
LensID | smc PENTAX-DA* 50-135mm F2.8 ED [IF] SDM |
LensInfo | 50-135mm f/2.8 |
LightValue | 14.0 |
LuminanceSmoothing | 0 |
Make | PENTAX |
Marked | True |
Megapixels | 0.426 |
MeteringMode | Multi-segment |
Model | PENTAX K20D |
ModifyDate (1) | 2009:12:07 22:40:15+01:00 |
ModifyDate | 2009:12:07 22:40:15 |
ParametricDarks | -10 |
ParametricHighlights | 0 |
ParametricHighlightSplit | 75 |
ParametricLights | 0 |
ParametricMidtoneSplit | 50 |
ParametricShadows | -10 |
ParametricShadowSplit | 25 |
PostCropVignetteAmount | 0 |
ProfileDescription | sRGB IEC61966-2.1 |
Rating | 1 |
RedHue | +23 |
RedSaturation | +10 |
Rights | Eric Fagerheim |
Saturation | Normal |
ScaleFactor35efl | 1.5 |
SceneCaptureType | Standard |
SensingMethod | One-chip color area |
Shadows | 2 |
ShadowTint | +4 |
SharpenDetail | 25 |
SharpenEdgeMasking | 0 |
SharpenRadius | +1.0 |
Sharpness (2) | 25 |
Sharpness | Normal |
ShutterSpeed | 1/180 |
ShutterSpeedValue | 1/180 |
Software | Adobe Photoshop Lightroom |
SplitToningBalance | 0 |
SplitToningHighlightHue | 11 |
SplitToningHighlightSaturation | 1 |
SplitToningShadowHue | 353 |
SplitToningShadowSaturation | 6 |
Subject | baby, barnefotograf, bilder, christer hammar, foto, fotograf, trondheim |
SubjectDistanceRange | Close |
ToneCurve | 0, 0, 255, 255 |
ToneCurveName | Linear |
URL | http://www.fotofashion.no |
Version | 5.4 |
VignetteAmount | -100 |
VignetteMidpoint | 40 |
WebStatement | http://www.fotofashion.no |
WhiteBalance (2) | As Shot |
WhiteBalance | Auto |