Felt | Verdi |
AlreadyApplied | True |
Aperture | 14.0 |
ApertureValue | 14.0 |
BitsPerSample | 8 |
BlueHue | 0 |
BlueSaturation | 0 |
Brightness | +30 |
CameraProfile | Adobe Standard |
CFAPattern | [Green,Blue][Red,Green] |
ChromaticAberrationB | 0 |
ChromaticAberrationR | 0 |
CircleOfConfusion | 0.020 mm |
Clarity | +86 |
ColorComponents | 3 |
ColorNoiseReduction | 92 |
ColorTemperature | 5600 |
Contrast (2) | +50 |
Contrast | Normal |
ConvertToGrayscale | False |
CreateDate (1) | 2010:06:10 19:44:40.00+02:00 |
CreateDate | 2010:06:10 19:44:40 |
CreatorTool | Adobe Photoshop Lightroom |
CropAngle | 0 |
CropBottom | 0.835309 |
CropHeight | 1222 |
CropLeft | 0.207711 |
CropRight | 0.690008 |
CropTop | 0.406398 |
CropUnit | pixels |
CropWidth | 2068 |
CustomRendered | Normal |
DateTimeDigitized | 2010:06:10 19:44:40.00+02:00 |
DateTimeOriginal (1) | 2010:06:10 19:44:40.00+02:00 |
DateTimeOriginal | 2010:06:10 19:44:40 |
Defringe | 0 |
DigitalZoomRatio | 1 |
ExifImageHeight | 1222 |
ExifImageWidth | 2068 |
Exposure | 0.00 |
ExposureCompensation | +4/3 |
ExposureMode | Manual |
ExposureProgram | Manual |
ExposureTime | 1/200 |
FillLight | 0 |
Flash | On, Return detected |
FlashFired | True |
FlashFunction | False |
FlashMode | On |
FlashRedEyeMode | False |
FlashReturn | Return detected |
FNumber | 14.0 |
FocalLength | 75.0 mm |
FocalLength35efl | 75.0 mm (35 mm equivalent: 112.0 mm) |
FocalLengthIn35mmFormat | 112 mm |
FOV | 18.3 deg |
GainControl | None |
GreenHue | 0 |
GreenSaturation | 0 |
HasCrop | True |
HasSettings | True |
HighlightRecovery | 9 |
HueAdjustmentAqua | 0 |
HueAdjustmentBlue | 0 |
HueAdjustmentGreen | 0 |
HueAdjustmentMagenta | 0 |
HueAdjustmentOrange | 0 |
HueAdjustmentPurple | 0 |
HueAdjustmentRed | 0 |
HueAdjustmentYellow | 0 |
HyperfocalDistance | 19.97 m |
ImageHeight | 1222 |
ImageNumber | 9152 |
ImageSize | 2068x1222 |
ImageWidth | 2068 |
ISO | 200 |
Lens | 18.0-105.0 mm f/3.5-5.6 |
LensInfo | 18-105mm f/3.5-5.6 |
LightSource | Unknown |
LightValue | 14.3 |
LuminanceAdjustmentAqua | 0 |
LuminanceAdjustmentBlue | 0 |
LuminanceAdjustmentGreen | 0 |
LuminanceAdjustmentMagenta | 0 |
LuminanceAdjustmentOrange | 0 |
LuminanceAdjustmentPurple | 0 |
LuminanceAdjustmentRed | 0 |
LuminanceAdjustmentYellow | 0 |
LuminanceSmoothing | 83 |
Make | NIKON CORPORATION |
MaxApertureValue | 5.5 |
Megapixels | 2.5 |
MeteringMode | Center-weighted average |
Model | NIKON D90 |
ModifyDate (1) | 2010:06:24 12:02:35+02:00 |
ModifyDate | 2010:06:24 12:02:35 |
PaintCorrectionActive | true |
PaintCorrectionAmount | 1.000000 |
PaintCorrectionBrightness | -0.825000 |
PaintCorrectionClarity | 0.000000 |
PaintCorrectionContrast | 0.000000 |
PaintCorrectionExposure | 0.000000 |
PaintCorrectionHue | 353.000000 |
PaintCorrectionMaskCenterWeight | 0.029953 |
PaintCorrectionMaskFlow | 0.715000 |
PaintCorrectionMaskRadius | 0.019237 |
PaintCorrectionMaskValue | 0.375000 |
PaintCorrectionMaskWhat | Mask/Paint |
PaintCorrectionSaturation | 0.000000 |
PaintCorrectionSharpness | 0.000000 |
PaintCorrectionWhat | Correction |
ParametricDarks | 0 |
ParametricHighlights | 0 |
ParametricHighlightSplit | 75 |
ParametricLights | 0 |
ParametricMidtoneSplit | 50 |
ParametricShadows | 0 |
ParametricShadowSplit | 25 |
PostCropVignetteAmount | 0 |
ProfileDescription | sRGB IEC61966-2.1 |
RedHue | 0 |
RedSaturation | 0 |
Saturation (2) | 0 |
Saturation | Normal |
SaturationAdjustmentAqua | 0 |
SaturationAdjustmentBlue | 0 |
SaturationAdjustmentGreen | 0 |
SaturationAdjustmentMagenta | 0 |
SaturationAdjustmentOrange | 0 |
SaturationAdjustmentPurple | 0 |
SaturationAdjustmentRed | 0 |
SaturationAdjustmentYellow | 0 |
ScaleFactor35efl | 1.5 |
SceneCaptureType | Standard |
SceneType | Directly photographed |
SensingMethod | One-chip color area |
SerialNumber | 6138714 |
Shadows | 1 |
ShadowTint | 0 |
SharpenDetail | 93 |
SharpenEdgeMasking | 65 |
SharpenRadius | +0.8 |
Sharpness (2) | 87 |
Sharpness | Normal |
ShutterSpeed | 1/200 |
ShutterSpeedValue | 1/200 |
Software | Ver.1.00 |
SplitToningBalance | 0 |
SplitToningHighlightHue | 0 |
SplitToningHighlightSaturation | 0 |
SplitToningShadowHue | 0 |
SplitToningShadowSaturation | 0 |
SubjectDistanceRange | Unknown |
Tint | -13 |
ToneCurve | 0, 0, 32, 22, 64, 56, 128, 128, 192, 196, 255, 255 |
ToneCurveName | Medium Contrast |
Version | 5.5 |
Vibrance | +29 |
VignetteAmount | 0 |
WhiteBalance (2) | As Shot |
WhiteBalance | Auto |