Felt | Verdi |
AlreadyApplied | True |
Aperture | 7.1 |
ApertureValue | 7.1 |
BitsPerSample | 8 |
BlueHue | 0 |
BlueSaturation | 0 |
Brightness | +43 |
CameraProfile | Adobe Standard |
ChromaticAberrationB | 0 |
ChromaticAberrationR | 0 |
CircleOfConfusion | 0.019 mm |
Clarity | +38 |
ColorComponents | 3 |
ColorNoiseReduction | 25 |
ColorNoiseReductionDetail | 50 |
ColorTemperature | 4617 |
Contrast | +47 |
ConvertToGrayscale | False |
CreateDate (1) | 2010:07:16 18:22:41.00+02:00 |
CreateDate | 2010:07:16 18:22:41 |
CreatorTool | Adobe Photoshop Lightroom |
CropAngle | 0 |
CropBottom | 0.77698 |
CropConstrainToWarp | 0 |
CropHeight | 681 |
CropLeft | 0.309353 |
CropRight | 1 |
CropTop | 0.18885 |
CropUnit | pixels |
CropWidth | 1200 |
CustomRendered | Normal |
DateTimeDigitized | 2010:07:16 18:22:41.00+02:00 |
DateTimeOriginal (1) | 2010:07:16 18:22:41.00+02:00 |
DateTimeOriginal | 2010:07:16 18:22:41 |
Defringe | 0 |
DOF | 0.10 m (4.96 - 5.06 m) |
ExifImageHeight | 681 |
ExifImageWidth | 1200 |
Exposure | +0.11 |
ExposureCompensation | -1/3 |
ExposureMode | Auto |
ExposureProgram | Aperture-priority AE |
ExposureTime | 1/640 |
FillLight | 0 |
Firmware | 1.1.1 |
Flash | Off, Did not fire |
FlashCompensation | 0 |
FlashFired | False |
FlashFunction | False |
FlashMode | Off |
FlashRedEyeMode | False |
FlashReturn | No return detection |
FNumber | 7.1 |
FocalLength | 250.0 mm |
FocalLength35efl | 250.0 mm (35 mm equivalent: 404.7 mm) |
FOV | 5.1 deg |
GrainAmount | 0 |
GreenHue | 0 |
GreenSaturation | 0 |
HasCrop | True |
HasSettings | True |
HighlightRecovery | 0 |
HueAdjustmentAqua | 0 |
HueAdjustmentBlue | 0 |
HueAdjustmentGreen | 0 |
HueAdjustmentMagenta | 0 |
HueAdjustmentOrange | 0 |
HueAdjustmentPurple | 0 |
HueAdjustmentRed | 0 |
HueAdjustmentYellow | 0 |
HyperfocalDistance | 474.27 m |
ImageHeight | 681 |
ImageNumber | 0 |
ImageSize | 1200x681 |
ImageWidth | 1200 |
ISO | 200 |
Lens | EF-S55-250mm f/4-5.6 IS |
LensID (1) | 49 |
LensID | Canon EF-S 55-250mm f/4-5.6 IS |
LensInfo | 55-250mm f/? |
LensManualDistortionAmount | 0 |
LensProfileEnable | 0 |
LensProfileSetup | LensDefaults |
LightValue | 14.0 |
LuminanceAdjustmentAqua | 0 |
LuminanceAdjustmentBlue | 0 |
LuminanceAdjustmentGreen | 0 |
LuminanceAdjustmentMagenta | 0 |
LuminanceAdjustmentOrange | 0 |
LuminanceAdjustmentPurple | 0 |
LuminanceAdjustmentRed | 0 |
LuminanceAdjustmentYellow | 0 |
LuminanceSmoothing | 0 |
Make | Canon |
MaxApertureValue | 5.7 |
Megapixels | 0.817 |
MeteringMode | Spot |
Model | Canon EOS 40D |
ModifyDate (1) | 2010:07:30 13:17:25+02:00 |
ModifyDate | 2010:07:30 13:17:25 |
PaintCorrectionActive | true |
PaintCorrectionAmount | 1.000000 |
PaintCorrectionBrightness | 0.000000 |
PaintCorrectionClarity (1) | 0.000000 |
PaintCorrectionClarity | 0.522000 |
PaintCorrectionContrast | 0.000000 |
PaintCorrectionExposure (1) | -0.062000 |
PaintCorrectionExposure | 0.000000 |
PaintCorrectionHue | 0.000000 |
PaintCorrectionMaskCenterWeight | 0.004653 |
PaintCorrectionMaskFlow | 1.000000 |
PaintCorrectionMaskRadius (1) | 0.007691 |
PaintCorrectionMaskRadius | 0.010351 |
PaintCorrectionMaskValue | 1.000000 |
PaintCorrectionMaskWhat | Mask/Paint |
PaintCorrectionSaturation | 0.000000 |
PaintCorrectionSharpness (1) | 0.000000 |
PaintCorrectionSharpness | 0.575000 |
PaintCorrectionWhat | Correction |
ParametricDarks | 0 |
ParametricHighlights | 0 |
ParametricHighlightSplit | 75 |
ParametricLights | 0 |
ParametricMidtoneSplit | 50 |
ParametricShadows | 0 |
ParametricShadowSplit | 25 |
PerspectiveHorizontal | 0 |
PerspectiveRotate | 0.0 |
PerspectiveScale | 100 |
PerspectiveVertical | 0 |
PostCropVignetteAmount | 0 |
ProcessVersion | 5.7 |
ProfileDescription | sRGB IEC61966-2.1 |
RedHue | 0 |
RedSaturation | 0 |
Saturation | 0 |
SaturationAdjustmentAqua | 0 |
SaturationAdjustmentBlue | 0 |
SaturationAdjustmentGreen | 0 |
SaturationAdjustmentMagenta | 0 |
SaturationAdjustmentOrange | 0 |
SaturationAdjustmentPurple | 0 |
SaturationAdjustmentRed | 0 |
SaturationAdjustmentYellow | 0 |
ScaleFactor35efl | 1.6 |
SceneCaptureType | Standard |
SerialNumber | 1430732253 |
Shadows | 5 |
ShadowTint | 0 |
SharpenDetail | 25 |
SharpenEdgeMasking | 30 |
SharpenRadius | +1.0 |
Sharpness | 86 |
ShutterSpeed | 1/640 |
ShutterSpeedValue | 1/640 |
SplitToningBalance | 0 |
SplitToningHighlightHue | 0 |
SplitToningHighlightSaturation | 0 |
SplitToningShadowHue | 0 |
SplitToningShadowSaturation | 0 |
SubjectDistance | 5.01 m |
Tint | +10 |
ToneCurve | 0, 0, 32, 22, 64, 56, 128, 128, 192, 196, 255, 255 |
ToneCurveName | Medium Contrast |
Version | 6.1 |
Vibrance | +20 |
VignetteAmount | 0 |
WhiteBalance (2) | Custom |
WhiteBalance | Auto |