Felt | Verdi |
AlreadyApplied | True |
Aperture | 10.0 |
ApertureValue | 10.0 |
Artist | Svenn Fjeldheim |
BitsPerSample | 8 |
BlueHue | 0 |
BlueSaturation | 0 |
Brightness | +40 |
By-line | Svenn Fjeldheim |
CameraProfile | Adobe Standard |
ChromaticAberrationB | 0 |
ChromaticAberrationR | 0 |
CircleOfConfusion | 0.019 mm |
Clarity | +40 |
ColorComponents | 3 |
ColorMode | RGB |
ColorNoiseReduction | 25 |
ColorNoiseReductionDetail | 50 |
ColorSpace | sRGB |
ColorTemperature | 6500 |
Contrast | +98 |
ConvertToGrayscale | False |
CreateDate (1) | 2010:09:05 07:35:06.00+02:00 |
CreateDate | 2010:09:05 07:35:06 |
Creator | Svenn Fjeldheim |
CropAngle | 0 |
CropBottom | 1 |
CropLeft | 0 |
CropRight | 0.877069 |
CropTop | 0.122931 |
CustomRendered | Normal |
DateTimeDigitized | 2010:09:05 07:35:06.00+02:00 |
DateTimeOriginal (1) | 2010:09:05 07:35:06.00+02:00 |
DateTimeOriginal | 2010:09:05 07:35:06 |
Defringe | 0 |
DOF | inf (9.22 m - inf) |
ExifImageHeight | 800 |
ExifImageWidth | 1200 |
Exposure | -0.78 |
ExposureCompensation | 0 |
ExposureMode | Manual |
ExposureProgram | Manual |
ExposureTime | 1/200 |
FillLight | 100 |
Firmware | 1.2.2 |
Flash | Off, Did not fire |
FlashCompensation | 0 |
FlashFired | False |
FlashFunction | False |
FlashMode | Off |
FlashRedEyeMode | False |
FlashReturn | No return detection |
FNumber | 10.0 |
FocalLength | 42.0 mm |
FocalLength35efl | 42.0 mm (35 mm equivalent: 66.0 mm) |
Format | image/jpeg |
FOV | 30.5 deg |
GrainAmount | 0 |
GreenHue | 0 |
GreenSaturation | 0 |
HasCrop | True |
HasSettings | True |
HighlightRecovery | 0 |
HueAdjustmentAqua | 0 |
HueAdjustmentBlue | 0 |
HueAdjustmentGreen | 0 |
HueAdjustmentMagenta | 0 |
HueAdjustmentOrange | 0 |
HueAdjustmentPurple | 0 |
HueAdjustmentRed | 0 |
HueAdjustmentYellow | 0 |
HyperfocalDistance | 9.22 m |
ICCProfileName | sRGB IEC61966-2.1 |
ImageHeight | 800 |
ImageNumber | 0 |
ImageSize | 1200x800 |
ImageWidth | 1200 |
ISO | 100 |
Label | |
Lens | EF24-70mm f/2.8L USM |
LensID (1) | 230 |
LensID | Canon EF 24-70mm f/2.8L USM |
LensInfo | 24-70mm f/? |
LightValue | 14.3 |
LuminanceAdjustmentAqua | 0 |
LuminanceAdjustmentBlue | 0 |
LuminanceAdjustmentGreen | 0 |
LuminanceAdjustmentMagenta | 0 |
LuminanceAdjustmentOrange | 0 |
LuminanceAdjustmentPurple | 0 |
LuminanceAdjustmentRed | 0 |
LuminanceAdjustmentYellow | 0 |
LuminanceNoiseReductionContrast | 0 |
LuminanceNoiseReductionDetail | 50 |
LuminanceSmoothing | 39 |
Make | Canon |
MaxApertureValue | 2.8 |
Megapixels | 0.960 |
MeteringMode | Spot |
Model | Canon EOS 7D |
ModifyDate (1) | 2010:09:09 14:23:44+02:00 |
ModifyDate | 2010:09:09 14:23:44 |
Orientation | Horizontal (normal) |
ParametricDarks | 0 |
ParametricHighlights | -31 |
ParametricHighlightSplit | 75 |
ParametricLights | 0 |
ParametricMidtoneSplit | 50 |
ParametricShadows | 0 |
ParametricShadowSplit | 25 |
PostCropVignetteAmount | -24 |
PostCropVignetteFeather | 50 |
PostCropVignetteHighlightContrast | 0 |
PostCropVignetteMidpoint | 50 |
PostCropVignetteRoundness | 0 |
PostCropVignetteStyle | 1 |
ProcessVersion | 5.7 |
ProfileDescription | sRGB IEC61966-2.1 |
Rating | 0 |
RawFileName | IMG_1841.CR2 |
RedHue | 0 |
RedSaturation | 0 |
Saturation | -26 |
SaturationAdjustmentAqua | 0 |
SaturationAdjustmentBlue | 0 |
SaturationAdjustmentGreen | 0 |
SaturationAdjustmentMagenta | 0 |
SaturationAdjustmentOrange | 0 |
SaturationAdjustmentPurple | 0 |
SaturationAdjustmentRed | 0 |
SaturationAdjustmentYellow | 0 |
ScaleFactor35efl | 1.6 |
SceneCaptureType | Standard |
SerialNumber | 530503123 |
Shadows | 26 |
ShadowTint | 0 |
SharpenDetail | 23 |
SharpenEdgeMasking | 0 |
SharpenRadius | +1.2 |
Sharpness | 47 |
ShutterSpeed | 1/200 |
ShutterSpeedValue | 1/200 |
Software | Adobe Photoshop CS4 Windows |
SplitToningBalance | 0 |
SplitToningHighlightHue | 0 |
SplitToningHighlightSaturation | 0 |
SplitToningShadowHue | 0 |
SplitToningShadowSaturation | 0 |
SubjectDistance | 4294967295 m |
Tint | +10 |
ToneCurve | 0, 0, 32, 22, 64, 56, 128, 128, 192, 196, 255, 255 |
ToneCurveName | Medium Contrast |
URL_List | |
Version | 5.7 |
Vibrance | -8 |
VignetteAmount | 0 |
WhiteBalance (2) | Cloudy |
WhiteBalance | Auto |