Felt | Verdi |
AlreadyApplied | True |
Aperture | 3.2 |
ApertureValue | 3.2 |
BitsPerSample | 8 |
BlueHue | 0 |
BlueSaturation | +38 |
Brightness | +50 |
CameraProfile | Adobe Standard |
ChromaticAberrationB | +6 |
ChromaticAberrationR | +2 |
CircleOfConfusion | 0.031 mm |
Clarity | +100 |
ColorComponents | 3 |
ColorNoiseReduction | 25 |
ColorTemperature | 4083 |
Contrast | -50 |
ConvertToGrayscale | False |
CreateDate (1) | 2011:01:11 17:17:10.07+01:00 |
CreateDate | 2011:01:11 17:17:10 |
CreatorTool | Adobe Photoshop Lightroom |
CropAngle | -0.681896 |
CropBottom | 0.968646 |
CropHeight | 2255 |
CropLeft | 0.002079 |
CropRight | 0.953844 |
CropTop | 0.109472 |
CropUnit | pixels |
CropWidth | 3648 |
CustomRendered | Normal |
DateTimeDigitized | 2011:01:11 17:17:10.07+01:00 |
DateTimeOriginal (1) | 2011:01:11 17:17:10.07+01:00 |
DateTimeOriginal | 2011:01:11 17:17:10 |
Defringe | 0 |
ExifImageHeight | 3648 |
ExifImageWidth | 2255 |
Exposure | 0.00 |
ExposureCompensation | 0 |
ExposureMode | Manual |
ExposureProgram | Manual |
ExposureTime | 1/250 |
FillLight | 53 |
Firmware | 2.0.4 |
Flash | Off, Did not fire |
FlashCompensation | 0 |
FlashFired | False |
FlashFunction | False |
FlashMode | Off |
FlashRedEyeMode | False |
FlashReturn | No return detection |
FNumber | 3.2 |
FocalLength | 85.0 mm |
FocalLength35efl | 85.0 mm (35 mm equivalent: 83.0 mm) |
FOV | 24.5 deg |
GreenHue | 0 |
GreenSaturation | -100 |
HasCrop | True |
HasSettings | True |
HighlightRecovery | 0 |
HueAdjustmentAqua | 0 |
HueAdjustmentBlue | 0 |
HueAdjustmentGreen | 0 |
HueAdjustmentMagenta | 0 |
HueAdjustmentOrange | 0 |
HueAdjustmentPurple | 0 |
HueAdjustmentRed | 0 |
HueAdjustmentYellow | 0 |
HyperfocalDistance | 73.34 m |
ImageHeight | 3648 |
ImageNumber | 0 |
ImageSize | 2255x3648 |
ImageWidth | 2255 |
ISO | 100 |
Lens | EF85mm f/1.8 USM |
LensInfo | 85mm f/? |
LightValue | 11.3 |
LuminanceAdjustmentAqua | 0 |
LuminanceAdjustmentBlue | 0 |
LuminanceAdjustmentGreen | 0 |
LuminanceAdjustmentMagenta | 0 |
LuminanceAdjustmentOrange | 0 |
LuminanceAdjustmentPurple | 0 |
LuminanceAdjustmentRed | 0 |
LuminanceAdjustmentYellow | 0 |
LuminanceSmoothing | 0 |
Make | Canon |
MaxApertureValue | 1.8 |
Megapixels | 8.2 |
MeteringMode | Multi-segment |
Model | Canon EOS 5D Mark II |
ModifyDate (1) | 2011:01:18 17:18:04+01:00 |
ModifyDate | 2011:01:18 17:18:04 |
ParametricDarks | -13 |
ParametricHighlights | +50 |
ParametricHighlightSplit | 75 |
ParametricLights | +19 |
ParametricMidtoneSplit | 50 |
ParametricShadows | -35 |
ParametricShadowSplit | 25 |
PostCropVignetteAmount | -46 |
PostCropVignetteFeather | 100 |
PostCropVignetteMidpoint | 86 |
PostCropVignetteRoundness | +100 |
ProfileDescription | sRGB IEC61966-2.1 |
RedHue | 0 |
RedSaturation | -2 |
Saturation | -44 |
SaturationAdjustmentAqua | 0 |
SaturationAdjustmentBlue | 0 |
SaturationAdjustmentGreen | 0 |
SaturationAdjustmentMagenta | 0 |
SaturationAdjustmentOrange | 0 |
SaturationAdjustmentPurple | 0 |
SaturationAdjustmentRed | 0 |
SaturationAdjustmentYellow | 0 |
ScaleFactor35efl | 1.0 |
SceneCaptureType | Standard |
SerialNumber | 1430912317 |
Shadows | 33 |
ShadowTint | +33 |
SharpenDetail | 25 |
SharpenEdgeMasking | 0 |
SharpenRadius | +1.0 |
Sharpness | 25 |
ShutterSpeed | 1/250 |
ShutterSpeedValue | 1/250 |
SplitToningBalance | 0 |
SplitToningHighlightHue | 0 |
SplitToningHighlightSaturation | 0 |
SplitToningShadowHue | 0 |
SplitToningShadowSaturation | 0 |
Tint | -50 |
ToneCurve | 0, 0, 32, 22, 64, 56, 128, 128, 192, 196, 255, 255 |
ToneCurveName | Medium Contrast |
Version | 5.5 |
Vibrance | -100 |
VignetteAmount | -100 |
VignetteMidpoint | 100 |
WhiteBalance (2) | Custom |
WhiteBalance | Manual |