Felt | Verdi |
AlreadyApplied | True |
Aperture | 5.6 |
ApertureValue | 5.6 |
ApproximateFocusDistance | 4294967295 |
BitsPerSample | 8 |
BlueHue | +31 |
BlueSaturation | +24 |
Brightness | +25 |
CameraProfile | Adobe Standard |
ChromaticAberrationB | 0 |
ChromaticAberrationR | 0 |
CircleOfConfusion | 0.027 mm |
Clarity | +20 |
ColorComponents | 3 |
ColorMode | RGB |
ColorNoiseReduction | 15 |
ColorNoiseReductionDetail | 50 |
ColorSpace | Uncalibrated |
ColorTemperature | 5691 |
Contrast | +45 |
ConvertToGrayscale | False |
CreateDate (1) | 2011:08:22 18:25:50.24 |
CreateDate | 2011:08:22 18:25:50 |
CreatorTool | Adobe Photoshop CS5 Windows |
CropAngle | 1.91318 |
CropBottom | 0.714099 |
CropConstrainToWarp | 0 |
CropLeft | 0.024651 |
CropRight | 0.96668 |
CropTop | 0.028729 |
CustomRendered | Normal |
DateCreated (1) | 2011:08:22 |
DateCreated | 2011:08:22 18:25:50.024 |
DateTimeOriginal | 2011:08:22 18:25:50 |
Defringe | 2 |
DOF | inf (373.05 m - inf) |
ExifImageHeight | 1200 |
ExifImageWidth | 1200 |
Exposure | +0.10 |
ExposureCompensation | -1/3 |
ExposureMode | Auto |
ExposureProgram | Aperture-priority AE |
ExposureTime | 1/200 |
FillLight | 97 |
Firmware | 1.0.6 |
Flash | No Flash |
FlashCompensation | 0 |
FNumber | 5.6 |
FocalLength | 238.0 mm |
FocalLength35efl | 238.0 mm (35 mm equivalent: 263.7 mm) |
Format | image/jpeg |
FOV | 7.8 deg |
GrainAmount | 0 |
GreenHue | +100 |
GreenSaturation | +50 |
HasCrop | True |
HasSettings | True |
HighlightRecovery | 100 |
HueAdjustmentAqua | -12 |
HueAdjustmentBlue | -33 |
HueAdjustmentGreen | -100 |
HueAdjustmentMagenta | 0 |
HueAdjustmentOrange | -5 |
HueAdjustmentPurple | -52 |
HueAdjustmentRed | 0 |
HueAdjustmentYellow | +10 |
HyperfocalDistance | 373.05 m |
ICCProfileName | ProPhoto RGB |
ImageHeight | 1200 |
ImageNumber | 0 |
ImageSize | 1200x1200 |
ImageWidth | 1200 |
ISO | 100 |
Label | |
Lens | EF70-200mm f/2.8L IS II USM +2.0x |
LensID (1) | 253 |
LensID | Canon EF 70-200mm f/2.8L IS II USM + 2x |
LensInfo | 140-400mm f/? |
LensManualDistortionAmount | 0 |
LensModel | EF70-200mm f/2.8L IS II USM +2.0x |
LensProfileEnable | 0 |
LensProfileSetup | LensDefaults |
LightValue | 12.6 |
LuminanceAdjustmentAqua | +100 |
LuminanceAdjustmentBlue | -100 |
LuminanceAdjustmentGreen | +100 |
LuminanceAdjustmentMagenta | 0 |
LuminanceAdjustmentOrange | +19 |
LuminanceAdjustmentPurple | +48 |
LuminanceAdjustmentRed | 0 |
LuminanceAdjustmentYellow | +100 |
LuminanceSmoothing | 0 |
Make | Canon |
MaxApertureValue | 5.7 |
Megapixels | 1.4 |
MeteringMode | Center-weighted average |
Model | Canon EOS-1D Mark IV |
ModifyDate (1) | 2011:08:26 21:18:09+02:00 |
ModifyDate | 2011:08:26 21:18:09 |
Orientation | Horizontal (normal) |
ParametricDarks | +62 |
ParametricHighlights | -2 |
ParametricHighlightSplit | 75 |
ParametricLights | +100 |
ParametricMidtoneSplit | 50 |
ParametricShadows | -31 |
ParametricShadowSplit | 25 |
PerspectiveHorizontal | 0 |
PerspectiveRotate | 0.0 |
PerspectiveScale | 100 |
PerspectiveVertical | 0 |
PostCropVignetteAmount | 0 |
ProcessVersion | 5.7 |
ProfileDescription | ProPhoto RGB |
Rating | 0 |
RawFileName | _C8G9043.dng |
RedHue | -100 |
RedSaturation | +100 |
Saturation | -79 |
SaturationAdjustmentAqua | +14 |
SaturationAdjustmentBlue | +100 |
SaturationAdjustmentGreen | +29 |
SaturationAdjustmentMagenta | -100 |
SaturationAdjustmentOrange | +93 |
SaturationAdjustmentPurple | -93 |
SaturationAdjustmentRed | 0 |
SaturationAdjustmentYellow | +69 |
ScaleFactor35efl | 1.1 |
SceneCaptureType | Standard |
SerialNumber | 630500128 |
Shadows | 49 |
ShadowTint | -100 |
SharpenDetail | 25 |
SharpenEdgeMasking | 0 |
SharpenRadius | +1.0 |
Sharpness | 25 |
ShutterSpeed | 1/200 |
ShutterSpeedValue | 1/200 |
Software | Adobe Photoshop CS5 Windows |
SplitToningBalance | 0 |
SplitToningHighlightHue | 39 |
SplitToningHighlightSaturation | 45 |
SplitToningShadowHue | 86 |
SplitToningShadowSaturation | 23 |
SubjectDistance | 4294967295 m |
Tint | +118 |
ToneCurve | 0, 0, 255, 255 |
ToneCurveName | Linear |
URL_List | |
Version | 6.4.1 |
Vibrance | +43 |
VignetteAmount | -75 |
VignetteMidpoint | 0 |
WhiteBalance (1) | Custom |
WhiteBalance | Auto |