Felt | Verdi |
AlreadyApplied | True |
Aperture | 3.2 |
ApertureValue | 3.2 |
ApproximateFocusDistance | 73 |
Artist | Jurgen Innerebner |
BitsPerSample | 8 |
BlueHue | 0 |
BlueSaturation | 0 |
Brightness | +50 |
By-line | Jurgen Innerebner |
CameraProfile | Adobe Standard |
ChromaticAberrationB | 0 |
ChromaticAberrationR | 0 |
CircleOfConfusion | 0.019 mm |
Clarity | +18 |
ColorComponents | 3 |
ColorMode | RGB |
ColorNoiseReduction | 65 |
ColorNoiseReductionDetail | 50 |
ColorSpace | Uncalibrated |
ColorTemperature | 3300 |
Contrast | +8 |
ConvertToGrayscale | False |
Copyright | (c) by Jurgen Innerebner |
CopyrightNotice | (c) by Jurgen Innerebner |
CreateDate (1) | 2011:09:17 21:24:23.64 |
CreateDate | 2011:09:17 21:24:23 |
Creator | Jurgen Innerebner |
CreatorTool | Adobe Photoshop CS5 Windows |
CustomRendered | Normal |
DateCreated (1) | 2011:09:17 |
DateCreated | 2011:09:17 21:24:23.064 |
DateTimeOriginal | 2011:09:17 21:24:23 |
Defringe | 0 |
DOF | inf (4.43 m - inf) |
ExifImageHeight | 3456 |
ExifImageWidth | 5184 |
Exposure | +1.90 |
ExposureCompensation | -3 |
ExposureMode | Auto |
ExposureProgram | Aperture-priority AE |
ExposureTime | 0.6 |
FillLight | 0 |
Firmware | 1.2.5 |
Flash | Off, Did not fire |
FlashCompensation | 0 |
FNumber | 3.2 |
FocalLength | 17.0 mm |
FocalLength35efl | 17.0 mm (35 mm equivalent: 26.7 mm) |
Format | image/jpeg |
FOV | 68.0 deg |
GrainAmount | 0 |
GreenHue | 0 |
GreenSaturation | 0 |
HasCrop | False |
HasSettings | True |
HighlightRecovery | 0 |
HueAdjustmentAqua | +100 |
HueAdjustmentBlue | 0 |
HueAdjustmentGreen | +96 |
HueAdjustmentMagenta | 0 |
HueAdjustmentOrange | -13 |
HueAdjustmentPurple | 0 |
HueAdjustmentRed | +10 |
HueAdjustmentYellow | 0 |
HyperfocalDistance | 4.72 m |
ICCProfileName | Adobe RGB (1998) |
ImageHeight | 3456 |
ImageNumber | 0 |
ImageSize | 5184x3456 |
ImageWidth | 5184 |
ISO | 800 |
Lens | EF-S17-55mm f/2.8 IS USM |
LensID (1) | 240 |
LensID | Canon EF-S 17-55mm f/2.8 IS USM |
LensInfo | 17-55mm f/? |
LensManualDistortionAmount | 0 |
LensModel | EF-S17-55mm f/2.8 IS USM |
LensProfileEnable | 0 |
LensProfileSetup | LensDefaults |
LightValue | 1.1 |
LuminanceAdjustmentAqua | -14 |
LuminanceAdjustmentBlue | +15 |
LuminanceAdjustmentGreen | +34 |
LuminanceAdjustmentMagenta | 0 |
LuminanceAdjustmentOrange | -8 |
LuminanceAdjustmentPurple | 0 |
LuminanceAdjustmentRed | +9 |
LuminanceAdjustmentYellow | -13 |
LuminanceNoiseReductionContrast | 0 |
LuminanceNoiseReductionDetail | 50 |
LuminanceSmoothing | 69 |
Make | Canon |
MaxApertureValue | 2.8 |
Megapixels | 17.9 |
MeteringMode | Spot |
Model | Canon EOS 7D |
ModifyDate (1) | 2011:09:19 10:44:56+02:00 |
ModifyDate | 2011:09:19 10:44:56 |
Orientation | Horizontal (normal) |
ParametricDarks | +33 |
ParametricHighlights | +59 |
ParametricHighlightSplit | 75 |
ParametricLights | +13 |
ParametricMidtoneSplit | 50 |
ParametricShadows | +17 |
ParametricShadowSplit | 25 |
PerspectiveHorizontal | 0 |
PerspectiveRotate | 0.0 |
PerspectiveScale | 100 |
PerspectiveVertical | 0 |
PostCropVignetteAmount | 0 |
ProcessVersion | 5.7 |
ProfileDescription | Adobe RGB (1998) |
Rating | 0 |
RawFileName | 2011_09_17__99_82.CR2 |
RedHue | 0 |
RedSaturation | 0 |
Rights | (c) by Jurgen Innerebner |
Saturation | +17 |
SaturationAdjustmentAqua | +10 |
SaturationAdjustmentBlue | -23 |
SaturationAdjustmentGreen | -99 |
SaturationAdjustmentMagenta | -18 |
SaturationAdjustmentOrange | +30 |
SaturationAdjustmentPurple | -18 |
SaturationAdjustmentRed | +13 |
SaturationAdjustmentYellow | +43 |
ScaleFactor35efl | 1.6 |
SceneCaptureType | Standard |
SerialNumber | 2481202099 |
Shadows | 5 |
ShadowTint | 0 |
SharpenDetail | 25 |
SharpenEdgeMasking | 0 |
SharpenRadius | +1.0 |
Sharpness | 104 |
ShutterSpeed | 0.6 |
ShutterSpeedValue | 0.6 |
Software | Adobe Photoshop CS5 Windows |
SplitToningBalance | 0 |
SplitToningHighlightHue | 0 |
SplitToningHighlightSaturation | 0 |
SplitToningShadowHue | 0 |
SplitToningShadowSaturation | 0 |
SubjectDistance | 73 m |
Tint | +21 |
ToneCurve | 0, 0, 32, 22, 64, 56, 128, 128, 192, 196, 255, 255 |
ToneCurveName | Medium Contrast |
URL_List | |
Version | 6.4 |
Vibrance | +27 |
VignetteAmount | 0 |
WhiteBalance (1) | Custom |
WhiteBalance | Auto |