Felt | Verdi |
AlreadyApplied | True |
Aperture | 5.0 |
ApertureValue | 5.0 |
ApproximateFocusDistance | 0.4 |
Artist | Photographer: Joerg Brunke |
AutoLateralCA | 1 |
BitsPerSample | 8 |
Blacks2012 | 0 |
BlueHue | 0 |
BlueSaturation | 0 |
By-line | Photographer: Joerg Brunke |
CameraProfile | Embedded |
CircleOfConfusion | 0.031 mm |
Clarity2012 | 0 |
ColorComponents | 3 |
ColorMode | RGB |
ColorNoiseReduction | 0 |
ColorSpace | Uncalibrated |
Contrast2012 | 0 |
ConvertToGrayscale | False |
Copyright | Jörg Brunke |
CopyrightNotice | Jörg Brunke |
CreateDate (1) | 2012:12:26 12:27:38.44+01:00 |
CreateDate | 2012:12:26 12:27:38 |
Creator | Photographer: Joerg Brunke |
CreatorTool | Adobe Photoshop Lightroom 4.2 (Windows) |
CropAngle | -1.56836 |
CropBottom | 0.874 |
CropConstrainToWarp | 0 |
CropHeight | 2865 |
CropLeft | 0 |
CropRight | 1 |
CropTop | 0.149412 |
CropUnit | pixels |
CropWidth | 5540 |
CustomRendered | Normal |
DateCreated | 2012:12:26 |
DateTimeDigitized | 2012:12:26 12:27:38+01:00 |
DateTimeOriginal (1) | 2012:12:26 12:27:38+01:00 |
DateTimeOriginal | 2012:12:26 12:27:38 |
DefringeGreenAmount | 0 |
DefringeGreenHueHi | 61 |
DefringeGreenHueLo | 0 |
DefringePurpleAmount | 0 |
DefringePurpleHueHi | 100 |
DefringePurpleHueLo | 29 |
DOF | 0.001 m (0.399 - 0.401 m) |
ExifImageHeight | 1034 |
ExifImageWidth | 2000 |
Exposure2012 | 0.00 |
ExposureCompensation | +1/3 |
ExposureMode | Auto |
ExposureProgram | Aperture-priority AE |
ExposureTime | 1/100 |
Firmware | 2.0.8 |
Flash | Off, Did not fire |
FlashCompensation | 0 |
FlashFired | False |
FlashFunction | False |
FlashMode | Off |
FlashRedEyeMode | False |
FlashReturn | No return detection |
FNumber | 5.0 |
FocalLength | 150.0 mm |
FocalLength35efl | 150.0 mm (35 mm equivalent: 146.4 mm) |
Format | image/jpeg |
FOV | 14.0 deg |
GrainAmount | 0 |
GreenHue | 0 |
GreenSaturation | 0 |
HasCrop | True |
HasSettings | True |
Highlights2012 | 0 |
HueAdjustmentAqua | 0 |
HueAdjustmentBlue | 0 |
HueAdjustmentGreen | 0 |
HueAdjustmentMagenta | 0 |
HueAdjustmentOrange | 0 |
HueAdjustmentPurple | 0 |
HueAdjustmentRed | 0 |
HueAdjustmentYellow | 0 |
HyperfocalDistance | 146.17 m |
ICCProfileName | Adobe RGB (1998) |
ImageHeight | 1034 |
ImageNumber | 0 |
ImageSize | 2000x1034 |
ImageWidth | 2000 |
IncrementalTemperature | 0 |
IncrementalTint | 0 |
ISO | 2000 |
Lens | 150mm |
LensID (1) | 173 |
LensID | Sigma APO Macro 150mm f/2.8 EX DG HSM |
LensInfo | 150mm f/? |
LensManualDistortionAmount | 0 |
LensModel | 150mm |
LensProfileEnable | 0 |
LensProfileSetup | LensDefaults |
LightValue | 7.0 |
LuminanceAdjustmentAqua | 0 |
LuminanceAdjustmentBlue | 0 |
LuminanceAdjustmentGreen | 0 |
LuminanceAdjustmentMagenta | 0 |
LuminanceAdjustmentOrange | 0 |
LuminanceAdjustmentPurple | 0 |
LuminanceAdjustmentRed | 0 |
LuminanceAdjustmentYellow | 0 |
LuminanceSmoothing | 0 |
Make | Canon |
MaxApertureValue | 2.8 |
Megapixels | 2.1 |
MeteringMode | Multi-segment |
Model | Canon EOS 5D Mark II |
ModifyDate (1) | 2012:12:26 12:28:53+01:00 |
ModifyDate | 2012:12:26 12:28:53 |
Orientation | Horizontal (normal) |
OwnerName | Joerg Brunke |
ParametricDarks | +1 |
ParametricHighlights | 0 |
ParametricHighlightSplit | 75 |
ParametricLights | +17 |
ParametricMidtoneSplit | 50 |
ParametricShadows | -68 |
ParametricShadowSplit | 25 |
PerspectiveHorizontal | 0 |
PerspectiveRotate | 0.0 |
PerspectiveScale | 100 |
PerspectiveVertical | 0 |
PostCropVignetteAmount | 0 |
PrimaryChromaticities | 0.64, 0.33, 0.21, 0.71, 0.15, 0.06 |
ProcessVersion | 6.7 |
ProfileDescription | Adobe RGB (1998) |
RedHue | 0 |
RedSaturation | 0 |
Rights | Jörg Brunke |
Saturation | 0 |
SaturationAdjustmentAqua | 0 |
SaturationAdjustmentBlue | -54 |
SaturationAdjustmentGreen | 0 |
SaturationAdjustmentMagenta | 0 |
SaturationAdjustmentOrange | 0 |
SaturationAdjustmentPurple | 0 |
SaturationAdjustmentRed | 0 |
SaturationAdjustmentYellow | 0 |
ScaleFactor35efl | 1.0 |
SceneCaptureType | Standard |
SerialNumber | 2931504474 |
Shadows2012 | 0 |
ShadowTint | 0 |
SharpenDetail | 25 |
SharpenEdgeMasking | 0 |
SharpenRadius | +1.0 |
Sharpness | 0 |
ShutterSpeed | 1/100 |
ShutterSpeedValue | 1/100 |
Software | Adobe Photoshop Elements 8.0 Windows |
SplitToningBalance | 0 |
SplitToningHighlightHue | 0 |
SplitToningHighlightSaturation | 0 |
SplitToningShadowHue | 0 |
SplitToningShadowSaturation | 0 |
ToneCurveName2012 | Linear |
ToneCurvePV2012 | 0, 0, 255, 255 |
ToneCurvePV2012Blue | 0, 0, 255, 255 |
ToneCurvePV2012Green | 0, 0, 255, 255 |
ToneCurvePV2012Red | 0, 0, 255, 255 |
URL_List | |
Version | 7.2 |
Vibrance | 0 |
VignetteAmount | 0 |
WhiteBalance (2) | As Shot |
WhiteBalance | Manual |
WhitePoint | 0.313, 0.329 |
Whites2012 | 0 |