Felt | Verdi |
AlreadyApplied | True |
Aperture | 4.0 |
ApertureValue | 4.0 |
ApproximateFocusDistance | 2.92 |
BitsPerSample | 8 |
BlueHue | 0 |
BlueSaturation | 0 |
Brightness | +59 |
CameraProfile | Embedded |
ChromaticAberrationB | 0 |
ChromaticAberrationR | 0 |
CircleOfConfusion | 0.019 mm |
Clarity | -19 |
ColorComponents | 3 |
ColorNoiseReduction | 0 |
ColorTemperature | 5571 |
Contrast | +71 |
ConvertToGrayscale | False |
CreateDate (1) | 2011:07:19 17:41:52.83+02:00 |
CreateDate | 2011:07:19 17:41:52 |
CreatorTool | Adobe Photoshop Lightroom |
CropAngle | 0 |
CropBottom | 1 |
CropConstrainToWarp | 0 |
CropHeight | 2848 |
CropLeft | 0 |
CropRight | 0.962547 |
CropTop | 0.101124 |
CropUnit | pixels |
CropWidth | 4574 |
CustomRendered | Normal |
DateTimeDigitized | 2011:07:19 17:41:52.83+02:00 |
DateTimeOriginal (1) | 2011:07:19 17:41:52.83+02:00 |
DateTimeOriginal | 2011:07:19 17:41:52 |
Defringe | 0 |
DOF | 0.26 m (2.80 - 3.05 m) |
ExifImageHeight | 4574 |
ExifImageWidth | 2848 |
Exposure | +0.38 |
ExposureCompensation | 0 |
ExposureMode | Auto |
ExposureProgram | Aperture-priority AE |
ExposureTime | 1/800 |
FillLight | 0 |
Firmware | 1.0.7 |
Flash | Off, Did not fire |
FlashCompensation | 0 |
FlashFired | False |
FlashFunction | False |
FlashMode | Off |
FlashRedEyeMode | False |
FlashReturn | No return detection |
FNumber | 4.0 |
FocalLength | 70.0 mm |
FocalLength35efl | 70.0 mm (35 mm equivalent: 110.9 mm) |
FOV | 18.4 deg |
GradientBasedCorrActive | true |
GradientBasedCorrAmount | 1.000000 |
GradientBasedCorrBrightness | -0.146000 |
GradientBasedCorrClarity | -0.415000 |
GradientBasedCorrContrast | 0.146000 |
GradientBasedCorrExposure | 0.000000 |
GradientBasedCorrHue | 240.000000 |
GradientBasedCorrMaskFullX | 0.958463 |
GradientBasedCorrMaskFullY | 0.566905 |
GradientBasedCorrMaskValue | 1.000000 |
GradientBasedCorrMaskWhat | Mask/Gradient |
GradientBasedCorrMaskZeroX | -0.004084 |
GradientBasedCorrMaskZeroY | 0.562819 |
GradientBasedCorrSaturation (1) | 0.122000 |
GradientBasedCorrSaturation | 0.000000 |
GradientBasedCorrSharpness | 0.610000 |
GradientBasedCorrWhat | Correction |
GrainAmount | 0 |
GreenHue | 0 |
GreenSaturation | 0 |
HasCrop | True |
HasSettings | True |
HighlightRecovery | 0 |
HueAdjustmentAqua | 0 |
HueAdjustmentBlue | 0 |
HueAdjustmentGreen | 0 |
HueAdjustmentMagenta | 0 |
HueAdjustmentOrange | 0 |
HueAdjustmentPurple | 0 |
HueAdjustmentRed | 0 |
HueAdjustmentYellow | 0 |
HyperfocalDistance | 64.60 m |
ImageHeight | 4574 |
ImageNumber | 0 |
ImageSize | 2848x4574 |
ImageWidth | 2848 |
ISO | 400 |
Lens | 70-200mm |
LensID (1) | 131 |
LensID | Sigma 70-200mm f/2.8 APO EX HSM |
LensInfo | 70-200mm f/? |
LensManualDistortionAmount | 0 |
LensModel | 70-200mm |
LensProfileEnable | 0 |
LensProfileSetup | LensDefaults |
LightValue | 11.6 |
LuminanceAdjustmentAqua | -77 |
LuminanceAdjustmentBlue | -100 |
LuminanceAdjustmentGreen | +38 |
LuminanceAdjustmentMagenta | 0 |
LuminanceAdjustmentOrange | +86 |
LuminanceAdjustmentPurple | -62 |
LuminanceAdjustmentRed | +89 |
LuminanceAdjustmentYellow | +56 |
LuminanceSmoothing | 0 |
Make | Canon |
MaxApertureValue | 2.8 |
Megapixels | 13.0 |
MeteringMode | Multi-segment |
Model | Canon EOS 50D |
ModifyDate (1) | 2011:08:06 14:16:12+02:00 |
ModifyDate | 2011:08:06 14:16:12 |
PaintCorrectionActive | true |
PaintCorrectionAmount | 1.000000 |
PaintCorrectionBrightness | 0.000000 |
PaintCorrectionClarity | -0.122000 |
PaintCorrectionContrast | 0.000000 |
PaintCorrectionExposure | 0.000000 |
PaintCorrectionHue | 240.000000 |
PaintCorrectionMaskCenterWeight | 0.000000 |
PaintCorrectionMaskFlow | 1.000000 |
PaintCorrectionMaskRadius | 0.021919 |
PaintCorrectionMaskValue | 1.000000 |
PaintCorrectionMaskWhat | Mask/Paint |
PaintCorrectionSaturation (1) | -0.098000 |
PaintCorrectionSaturation | 0.000000 |
PaintCorrectionSharpness | 1.000000 |
PaintCorrectionWhat | Correction |
ParametricDarks | 0 |
ParametricHighlights | -50 |
ParametricHighlightSplit | 75 |
ParametricLights | 0 |
ParametricMidtoneSplit | 50 |
ParametricShadows | 0 |
ParametricShadowSplit | 25 |
PerspectiveHorizontal | 0 |
PerspectiveRotate | 0.0 |
PerspectiveScale | 100 |
PerspectiveVertical | 0 |
PostCropVignetteAmount | 0 |
ProcessVersion | 5.7 |
ProfileDescription | sRGB IEC61966-2.1 |
RedHue | 0 |
RedSaturation | 0 |
Saturation | -81 |
SaturationAdjustmentAqua | +43 |
SaturationAdjustmentBlue | +100 |
SaturationAdjustmentGreen | +45 |
SaturationAdjustmentMagenta | +24 |
SaturationAdjustmentOrange | -39 |
SaturationAdjustmentPurple | +31 |
SaturationAdjustmentRed | -29 |
SaturationAdjustmentYellow | -74 |
ScaleFactor35efl | 1.6 |
SceneCaptureType | Standard |
SensitivityType | Unknown |
SerialNumber | 1330716815 |
Shadows | 54 |
ShadowTint | 0 |
SharpenDetail | 25 |
SharpenEdgeMasking | 0 |
SharpenRadius | +1.0 |
Sharpness | 4 |
ShutterSpeed | 1/800 |
ShutterSpeedValue | 1/800 |
SplitToningBalance | -100 |
SplitToningHighlightHue | 163 |
SplitToningHighlightSaturation | 10 |
SplitToningShadowHue | 36 |
SplitToningShadowSaturation | 5 |
SubjectDistance | 2.92 m |
Tint | -4 |
ToneCurve | 0, 0, 32, 22, 64, 56, 128, 128, 192, 196, 255, 255 |
ToneCurveName | Medium Contrast |
Version | 6.2 |
Vibrance | +79 |
VignetteAmount | -74 |
VignetteMidpoint | 6 |
WhiteBalance (2) | Custom |
WhiteBalance | Auto |