Felt | Verdi |
AlreadyApplied | True |
Aperture | 9.0 |
ApertureValue | 9.0 |
ApproximateFocusDistance | 1.93 |
Artist | Eric Fagerheim |
AutoLateralCA | 0 |
BitsPerSample | 8 |
Blacks2012 | +14 |
BlueHue | 0 |
BlueSaturation | 0 |
By-line | Eric Fagerheim |
CameraProfile | Adobe Standard |
CircleOfConfusion | 0.031 mm |
Clarity2012 | 0 |
ColorComponents | 3 |
ColorNoiseReduction | 25 |
ColorNoiseReductionDetail | 50 |
Contrast2012 | 0 |
ConvertToGrayscale | False |
Copyright | Din fotograf i Trondheim - Fotofashion |
CopyrightNotice | Din fotograf i Trondheim - Fotofashion |
CreateDate | 2011:05:20 14:41:09 |
Creator | Eric Fagerheim |
CreatorTool | Adobe Photoshop Lightroom 4.4 (Windows) |
CreatorWorkEmail | mail@fotofashion.no |
CreatorWorkURL | http://www.fotofashion.no |
CropAngle | 0 |
CropBottom | 1 |
CropConstrainToWarp | 0 |
CropHeight | 950 |
CropLeft | 0 |
CropRight | 0.941176 |
CropTop | 0.058824 |
CropUnit | pixels |
CropWidth | 633 |
CustomRendered | Normal |
DateCreated (1) | 2011:05:20 |
DateCreated | 2011:05:20 14:41:09.067 |
DateTimeOriginal | 2011:05:20 14:41:09 |
DefringeGreenAmount | 0 |
DefringeGreenHueHi | 60 |
DefringeGreenHueLo | 40 |
DefringePurpleAmount | 0 |
DefringePurpleHueHi | 70 |
DefringePurpleHueLo | 30 |
DOF | 4.73 m (1.15 - 5.89 m) |
Exposure2012 | -0.24 |
ExposureCompensation | 0 |
ExposureMode | Manual |
ExposureProgram | Manual |
ExposureTime | 1/160 |
Firmware | 2.0.8 |
Flash | Off, Did not fire |
FlashCompensation | 0 |
FNumber | 9.0 |
FocalLength | 28.0 mm |
FocalLength35efl | 28.0 mm (35 mm equivalent: 27.3 mm) |
Format | image/jpeg |
FOV | 66.7 deg |
GradientBasedCorrActive | true |
GradientBasedCorrAmount | 1.000000 |
GradientBasedCorrBrightness | 0.000000 |
GradientBasedCorrClarity2012 | 0.000000 |
GradientBasedCorrContrast2012 | 0.000000 |
GradientBasedCorrDefringe | 0.000000 |
GradientBasedCorrExposure2012 (2) | -0.097500 |
GradientBasedCorrExposure2012 | -0.146250 |
GradientBasedCorrHighlights2012 | 0.000000 |
GradientBasedCorrHue | 0.000000 |
GradientBasedCorrLuminanceNoise | 0.000000 |
GradientBasedCorrMaskFullX (1) | 0.904360 |
GradientBasedCorrMaskFullX (2) | 0.138414 |
GradientBasedCorrMaskFullX (3) | 0.068272 |
GradientBasedCorrMaskFullX | 0.999339 |
GradientBasedCorrMaskFullY (1) | 0.746965 |
GradientBasedCorrMaskFullY (2) | 0.025638 |
GradientBasedCorrMaskFullY (3) | 0.700859 |
GradientBasedCorrMaskFullY | 0.031986 |
GradientBasedCorrMaskValue | 1.000000 |
GradientBasedCorrMaskWhat | Mask/Gradient |
GradientBasedCorrMaskZeroX (1) | 0.577059 |
GradientBasedCorrMaskZeroX (2) | 0.346491 |
GradientBasedCorrMaskZeroX (3) | 0.391627 |
GradientBasedCorrMaskZeroX | 0.798696 |
GradientBasedCorrMaskZeroY (1) | 0.580510 |
GradientBasedCorrMaskZeroY (2) | 0.282326 |
GradientBasedCorrMaskZeroY (3) | 0.620817 |
GradientBasedCorrMaskZeroY | 0.251465 |
GradientBasedCorrMoire | 0.000000 |
GradientBasedCorrSaturation | 0.000000 |
GradientBasedCorrShadows2012 | 0.000000 |
GradientBasedCorrSharpness | 0.000000 |
GradientBasedCorrTemperature | 0.000000 |
GradientBasedCorrTint | 0.000000 |
GradientBasedCorrWhat | Correction |
GrainAmount | 0 |
GreenHue | 0 |
GreenSaturation | 0 |
HasCrop | True |
HasSettings | True |
Headline | Din fotograf i Trondheim - Fotofashion |
Highlights2012 | 0 |
HueAdjustmentAqua | 0 |
HueAdjustmentBlue | 0 |
HueAdjustmentGreen | 0 |
HueAdjustmentMagenta | 0 |
HueAdjustmentOrange | 0 |
HueAdjustmentPurple | 0 |
HueAdjustmentRed | 0 |
HueAdjustmentYellow | 0 |
HyperfocalDistance | 2.83 m |
ImageHeight | 950 |
ImageNumber | 0 |
ImageSize | 633x950 |
ImageWidth | 633 |
IncrementalTemperature | +5 |
IncrementalTint | -3 |
ISO | 50 |
Keywords | bilde, bridal, bridalshoot, brud, dress, foto, fotofashion, fotograf, fotograf trondheim, fotografi, trash, trash the dress, trondheim |
Lens | EF24-105mm f/4L IS USM |
LensID (1) | 237 |
LensID | Canon EF 24-105mm f/4L IS USM |
LensInfo | 24-105mm f/? |
LensManualDistortionAmount | 0 |
LensModel | EF24-105mm f/4L IS USM |
LensProfileChromaticAberrationScale | 100 |
LensProfileDistortionScale | 100 |
LensProfileEnable | 1 |
LensProfileFilename | Canon EOS-1Ds Mark III (Canon EF 24-105mm f4 L IS USM).lcp |
LensProfileName | Adobe (Canon EF 24-105mm f/4 L IS USM) |
LensProfileSetup | Custom |
LensProfileVignettingScale | 100 |
LightValue | 14.7 |
LuminanceAdjustmentAqua | 0 |
LuminanceAdjustmentBlue | -4 |
LuminanceAdjustmentGreen | 0 |
LuminanceAdjustmentMagenta | 0 |
LuminanceAdjustmentOrange | 0 |
LuminanceAdjustmentPurple | 0 |
LuminanceAdjustmentRed | 0 |
LuminanceAdjustmentYellow | 0 |
LuminanceSmoothing | 0 |
Make | Canon |
MaxApertureValue | 4.0 |
Megapixels | 0.601 |
MeteringMode | Center-weighted average |
Model | Canon EOS 5D Mark II |
ModifyDate (1) | 2013:05:14 01:15:49+02:00 |
ModifyDate | 2013:05:14 01:15:49 |
ObjectName | Din fotograf i Trondheim - Fotofashion |
ParametricDarks | -7 |
ParametricHighlights | 0 |
ParametricHighlightSplit | 75 |
ParametricLights | 0 |
ParametricMidtoneSplit | 50 |
ParametricShadows | 0 |
ParametricShadowSplit | 25 |
PerspectiveHorizontal | 0 |
PerspectiveRotate | 0.0 |
PerspectiveScale | 100 |
PerspectiveVertical | 0 |
PostCropVignetteAmount | 0 |
ProcessVersion | 6.7 |
ProfileDescription | sRGB IEC61966-2.1 |
Rating | 1 |
RedHue | 0 |
RedSaturation | 0 |
Rights | Din fotograf i Trondheim - Fotofashion |
Saturation | -14 |
SaturationAdjustmentAqua | 0 |
SaturationAdjustmentBlue | 0 |
SaturationAdjustmentGreen | 0 |
SaturationAdjustmentMagenta | 0 |
SaturationAdjustmentOrange | 0 |
SaturationAdjustmentPurple | 0 |
SaturationAdjustmentRed | 0 |
SaturationAdjustmentYellow | 0 |
ScaleFactor35efl | 1.0 |
SceneCaptureType | Standard |
SerialNumber | 1330823407 |
Shadows2012 | +12 |
ShadowTint | 0 |
SharpenDetail | 25 |
SharpenEdgeMasking | 0 |
SharpenRadius | +1.0 |
Sharpness | 25 |
ShutterSpeed | 1/160 |
ShutterSpeedValue | 1/160 |
Software | Adobe Photoshop Lightroom 4.4 (Windows) |
SplitToningBalance | 0 |
SplitToningHighlightHue | 54 |
SplitToningHighlightSaturation | 7 |
SplitToningShadowHue | 37 |
SplitToningShadowSaturation | 5 |
Subject | bilde, bridal, bridalshoot, brud, dress, foto, fotofashion, fotograf, fotograf trondheim, fotografi, trash, trash the dress, trondheim |
SubjectDistance | 1.93 m |
Title | Din fotograf i Trondheim - Fotofashion |
ToneCurveName2012 | Linear |
ToneCurvePV2012 | 0, 0, 255, 255 |
ToneCurvePV2012Blue | 0, 0, 255, 255 |
ToneCurvePV2012Green | 0, 0, 255, 255 |
ToneCurvePV2012Red | 0, 0, 255, 255 |
URL | http://www.fotofashion.no |
Version | 7.4 |
Vibrance | -5 |
VignetteAmount | -24 |
VignetteMidpoint | 50 |
WebStatement | http://www.fotofashion.no |
WhiteBalance (1) | Custom |
WhiteBalance | Auto |
Whites2012 | 0 |